{"text_format":"1","workbook":"xlsx","n_sheets":23,"sheets":["титульный","Информационный","Содержание","Информация о школе","Личные данные","Автобиография","Жизненные планы","Учебная деятельность","НИД","Предметные","Публикации","Награды","СОЦпрактики","Самоуправление","Творческие","Курсы по выбору","Допобразование","Резюме","Отзывы","Характеристика","Свод","Приложения","Копии_д-тов"],"not_rendered":{"charts":19,"images":13,"macros":1,"external_links":0,"defined_names":0,"comments":0,"pivot_tables":0},"unopened":[],"bounds":{"document_bytes":16777216,"sheet_cells":100000,"rows_first":2000,"rows_last":500,"rows_between":2000,"halvings":0,"cell_chars":16384,"cell_head_chars":4096},"cells_cut":0,"cells_raw":0,"read":"whole","date_system":"1900"}

{"sheet":"титульный","index":0,"n_rows":79,"n_cols":5,"rows_kept":79,"cut":false,"hidden":false,"merged":[[44,0,44,8],[45,0,45,8],[51,1,51,7],[89,0,89,8],[58,3,58,7],[62,2,62,3],[78,2,79,6],[67,0,67,8],[68,0,68,8],[52,1,53,7],[70,2,70,6],[73,1,73,6],[74,1,74,6],[54,3,54,5],[63,2,63,3],[57,1,57,2],[91,2,91,6],[56,3,56,7],[62,4,62,5],[63,4,63,5],[64,4,64,5],[65,4,65,5],[57,3,57,7],[66,0,66,8],[69,2,69,6],[90,2,90,6],[56,0,56,2],[58,0,58,2]]}
[null,"школа","ученик","город",2007]
[null,"лицей","ученица","деревня",2008]
[null,"гимназия",null,"село",2009]
[null,null,null,"хутор",2010]
[null,null,null,"посёлок",2011]
[null,null,null,"посёлок городского типа",2012]
[null,null,null,null,2013]
[null,null,null,null,2014]
[null,null,null,null,2015]
[null,null,null,null,2016]
[null,null,null,null,2017]
[null,null,null,null,2018]
[null,null,null,null,2019]
[null,null,null,null,2020]
[null,null,null,null,2021]
[null,null,null,null,2022]
[null,null,null,null,2023]
[null,null,null,null,2024]
[null,null,null,null,2025]
[null,null,null,null,2026]
[null,null,null,null,2027]
[null,null,null,null,2028]
[null,null,null,null,2029]
[null,null,null,null,2030]
[null,null,null,null,2031]
[]
[]
[]
[]
[]
[]
[]
[]
[]
[]
[]
[]
[]
[]
[]
[]
[]
[]
[]
[{"$f":"'Информация о школе'!D10","v":"Муниципальное бюджетное общеобразовательное учреждение"}]
[{"$f":"'Информация о школе'!D11","v":"Средняя общеобразовательная школа №11"}]
[]
[]
[]
[]
[]
[]
[null,"ЭЛЕКТРОННОЕ                "]
[]
[null,null,null,"ПОРТФОЛИО"]
[]
["ученица",null,null,{"$f":"'Личные данные'!D10","v":"Антонова Светлана Степановна"}]
[null,"школа",null,{"$f":"'Информация о школе'!D12","v":"МБОУ \"СОШ№11\""}]
["город",null,null,{"$f":"'Информация о школе'!D14","v":"Ангарск"}]
[]
[]
[]
[null,null,"за период с ",null,2007]
[null,null,"по ",null,2018]
[]
[]
["Автор: заместитель директора по УВР Лобанов Алексей Александрович"]
["МБОУ \"СОШ№11\""]
["г. Ангарск"]
[null,null,"aalobanov@mail.ru"]
[null,null,"www.aalobanov.ucoz.ru"]
[]
[]
[null,"Для изменения учебного года щёлкнуть левой клавишей "]
[null,"по году и выбрать из списка новый год"]
[]
[]
[]
[null,null,"ВЕРСИЯ 2.16"]

{"sheet":"Информационный","index":1,"n_rows":41,"n_cols":25,"rows_kept":41,"cut":false,"hidden":false,"merged":[[18,12,18,15],[5,17,5,23],[5,24,5,25],[12,11,13,15],[14,12,14,15],[15,12,15,15],[16,12,16,15],[17,12,17,15],[12,19,12,21],[14,24,14,28],[15,24,15,28],[16,24,16,28],[9,17,9,22],[9,23,9,28],[11,23,11,28],[8,0,8,28],[5,0,5,5],[5,6,5,11],[6,0,6,5],[6,6,6,11],[7,0,7,5],[7,6,7,11],[9,0,9,5],[10,0,10,5],[11,0,11,5],[9,6,9,11],[10,6,10,11],[11,6,11,11],[18,0,18,4],[12,5,12,7],[12,8,13,8],[13,0,13,4],[17,24,17,28],[18,24,18,28],[12,0,12,4],[12,9,13,9],[12,10,13,10],[12,16,12,18],[14,0,14,4],[15,0,15,4],[16,0,16,4],[17,0,17,4],[12,23,13,23],[12,22,13,22],[12,24,12,28],[13,24,13,28],[40,0,40,28],[0,0,0,28],[2,0,2,16383],[20,0,20,28],[21,0,21,28],[22,0,22,28],[23,0,23,28],[10,17,10,22],[10,23,10,28],[11,17,11,22],[37,1,37,16],[38,1,38,16],[26,1,26,16],[27,1,27,16],[19,0,19,4],[39,1,39,16],[25,1,25,16],[24,0,24,16],[26,18,27,28],[25,18,25,28],[33,1,33,16],[34,1,34,16],[35,1,35,16],[36,1,36,16],[28,1,28,16],[29,1,29,16],[30,1,30,16],[31,1,31,16],[32,1,32,16]]}
["ИНФОРМАЦИОННЫЙ"]
[]
[]
[]
[]
["Форма участия",null,null,null,null,null,"Коэффициент",null,null,null,null,null,null,null,null,null,null,"Число учебных недель",null,null,null,null,null,null,34]
["Активная",null,null,null,null,null,1]
["Пассивная",null,null,null,null,null,0.5]
[]
["Форма участия",null,null,null,null,null,"Коэффициент",null,null,null,null,null,null,null,null,null,null,"Форма публикации",null,null,null,null,null,"Коэффициент"]
["Очная",null,null,null,null,null,1,null,null,null,null,null,null,null,null,null,null,"Бумажная",null,null,null,null,null,1]
["Дистанционная",null,null,null,null,null,0.5,null,null,null,null,null,null,null,null,null,null,"Электронная",null,null,null,null,null,0.5]
["Показатель",null,null,null,null,"Предметные конкурсы, олимпиады, игры",null,null,"Публикации","Благодарности и награды","Социальные практики","Роль в  самоуправлении",null,null,null,null,"Творческие конкурсы",null,null,"Исследовательская деятельность",null,null,"Обязательные курсы и по выбору","Дополнительное образование","Показатель"]
["Уровень",null,null,null,null,"победитель","призёр","участник",null,null,null,null,null,null,null,null,"победитель","лауреат","участник","победитель","лауреат","участник",null,null,"Уровень"]
["школьный",null,null,null,null,{"$f":"H16-1","v":3},{"$f":"F15-1","v":2},1,{"$f":"I16-1","v":1},1,{"$f":"K16-2","v":2},{"$f":"L16-1","v":1},"другое",null,null,null,{"$f":"S16-1","v":3},{"$f":"Q15-1","v":2},1,{"$f":"V16-1","v":3},{"$f":"T15-1","v":2},1,{"$f":"W16-1","v":1},1,"1 час"]
["муниципальный",null,null,null,null,{"$f":"H17-1","v":6},5,4,2,2,{"$f":"K17-2","v":4},{"$f":"L17-1","v":2},"помощник",null,null,null,{"$f":"S17-1","v":6},5,4,{"$f":"V17-1","v":6},5,4,2,2," 2 часа"]
["региональный",null,null,null,null,{"$f":"H18-1","v":9},8,7,3,3,{"$f":"K18-2","v":6},{"$f":"L18-1","v":3},"редколлегия",null,null,null,{"$f":"S18-1","v":9},8,7,{"$f":"V18-1","v":9},8,7,3,3," 3 часа"]
["федеральный",null,null,null,null,{"$f":"H19-1","v":12},11,10,4,4,{"$f":"K19-2","v":8},{"$f":"L19-1","v":4},"министр",null,null,null,{"$f":"S19-1","v":12},11,10,{"$f":"V19-1","v":12},11,10,{"$f":"W19-1","v":4},{"$f":"X19-1","v":4},"4 часа"]
["международный",null,null,null,null,15,14,13,5,5,10,5,"президент ",null,null,null,15,14,13,15,14,13,5,5,"5 и более"]
["Всеобуч",null,null,null,null,{"$f":"H18","v":10}]
["Введите в строке международный  уровень макимальный вес балла"]
["Введите коэффициенты для расчёта баллов"]
["Введите роли (уровни) в самоуправлении класса"]
["Введите  число учебных недель"]
["Название профилей обучения"]
[1,"Универсальный",null,null,null,null,null,null,null,null,null,null,null,null,null,null,null,null,"ВНИМАНИЕ!"]
[2,"Физико-математический ",null,null,null,null,null,null,null,null,null,null,null,null,null,null,null,null,"Начните работу в портфолио с заполнения информации на вкладках: "]
[3,"Физико-математический "]
[4,"Физико-химический ",null,null,null,null,null,null,null,null,null,null,null,null,null,null,null,null,"Информация о школе"]
[5,"Химико-биологический ",null,null,null,null,null,null,null,null,null,null,null,null,null,null,null,null,"Личные данные"]
[6,"Биолого-географический "]
[7,"Социально-экономический "]
[8,"Социально-гуманитарный "]
[9,"Филологический"]
[10,"Информационно-технологический "]
[11,"Агротехнологический"]
[12,"Индустриально-технологический "]
[13,"Художественно-эстетический "]
[14,"Педагогический (психолого-педагогический) "]
[15,"Математический"]
["Электронное портфолио учащегося"]

{"sheet":"Содержание","index":2,"n_rows":31,"n_cols":2,"rows_kept":31,"cut":false,"hidden":false,"merged":[[30,1,30,8],[18,1,18,8],[13,1,13,8],[29,1,29,8],[19,1,19,8],[28,1,28,8],[27,1,27,8],[26,1,26,8],[20,1,20,8],[21,1,21,8],[17,1,17,8],[16,1,16,8],[0,0,0,8],[4,1,4,8],[2,1,2,8],[5,1,5,8],[6,1,6,8],[12,1,12,8],[14,1,14,8],[15,1,15,8],[8,1,8,8],[1,0,1,1],[3,1,3,8],[10,1,10,255],[11,1,11,8],[7,1,7,8],[9,1,9,8]]}
["СОДЕРЖАНИЕ"]
[]
["№п\\п","Наименование листа"]
[1,"Информация о школе"]
[2,"Личные данные"]
[3,"Автобиография"]
[4,"Жизненные планы"]
[5,"Учебная деятельность"]
[6,"Научно-иследовательская деятельность"]
[7,"Предметные конкурсы, игры, олимпиады"]
[8,"Публикации"]
[9,"Награды"]
[10,"Социальные практики"]
[11,"Самоуправление"]
[12,"Творческие конкурсы и выступления"]
[13,"Курсы по выбору"]
[14,"Дополнительное образование"]
[15,"Резюме"]
[16,"Отзывы"]
[17,"Характеристика"]
[18,"Сводная ведомость образовательного рейтинга"]
[19,"Приложение"]
[17]
[18]
[19]
[20]
[21]
[22]
[23]
[24]
[16,"Приложение"]

{"sheet":"Информация о школе","index":3,"n_rows":23,"n_cols":4,"rows_kept":23,"cut":false,"hidden":false,"merged":[[18,0,18,2],[7,0,7,3],[8,0,8,1],[9,0,9,2],[10,0,10,2],[11,0,11,2],[12,0,12,2],[13,0,13,2],[14,0,14,2],[15,0,15,2],[16,0,16,2],[17,0,17,2],[19,0,19,2],[20,0,20,2],[21,0,21,2],[22,0,36,2],[22,3,36,3]]}
[null,null,"I"]
[null,null,"II"]
[null,null,"III"]
[null,null,"IV"]
[null,null,"участие"]
[null,null,"лауреат"]
[]
["ИНФОРМАЦИЯ О ШКОЛЕ"]
[{"$f":"титульный!B53","v":"ЭЛЕКТРОННОЕ                "},null,{"$f":"титульный!D55","v":"ПОРТФОЛИО"},{"$f":"титульный!D58","v":"МБОУ \"СОШ№11\""}]
["Тип учреждения",null,null,"Муниципальное бюджетное общеобразовательное учреждение"]
["Вид учреждения",null,null,"Средняя общеобразовательная школа №11"]
["Сокращённое наименонвание учреждение",null,null,"МБОУ \"СОШ№11\""]
["Фактический адрес",null,null,"Иркутская область"]
["город",null,null,"Ангарск"]
["учлица (квартал)",null,null,"Горького"]
["дом",null,null,10]
["телефон",null,null,"52-23-90"]
["E-mail",null,null,"sh10ang@mail.ru"]
["Сайт",null,null,"sh10ang.ru"]
["Директор",null,null,"Демидова Татьяна Анатольевна"]
["Завуч",null,null,"Лобанов Алексей Александрович"]
["Классный руководитель",null,null,"Главаля Ирина Геннадьевна"]
["Фотография школы"]

{"sheet":"Личные данные","index":4,"n_rows":20,"n_cols":4,"rows_kept":20,"cut":false,"hidden":false,"merged":[[19,3,36,3],[15,0,15,2],[16,0,16,2],[18,0,18,2],[7,0,7,3],[8,0,8,1],[9,0,9,2],[10,0,10,2],[11,0,11,2],[12,0,12,2],[17,0,17,2],[19,0,36,2],[13,0,13,2],[14,0,14,2]]}
[null,null,"I"]
[null,null,"II"]
[null,null,"III"]
[null,null,"IV"]
[null,null,"участие"]
[null,null,"лауреат"]
[]
["ЛИЧНЫЕ ДАННЫЕ"]
[{"$f":"титульный!B53","v":"ЭЛЕКТРОННОЕ                "},null,{"$f":"титульный!D55","v":"ПОРТФОЛИО"},{"$f":"титульный!D58","v":"МБОУ \"СОШ№11\""}]
["Фамилия Имя Отчество",null,null,"Антонова Светлана Степановна"]
["Адрес",null,null,"Ангарск, 271-ХХХ-ХХ"]
["Телефон",null,null,"8-3955-ХХ-ХХ-ХХ"]
["Сотовый телефон",null,null,"8-924-6-ХХ-ХХ-ХХ"]
["Е-mail",null,null,"valeria00@mail.ru"]
["Учебное заведение",null,null,"\"Средняя общеобразовательная школа №11\""]
["Год поступления в школу",null,null,2007]
["Обучается в классе на момент рассмотрения портфолио ",null,null,"9\"А\""]
["Итоги обучения на конец  учебного года",null,null,"отличница"]
["Состоит в учениченских (молодёжных) движениях",null,null,"нет"]
["ФОТОГРАФИЯ"]

{"sheet":"Автобиография","index":5,"n_rows":29,"n_cols":7,"rows_kept":29,"cut":false,"hidden":false,"merged":[[7,0,7,6],[9,0,9,6],[10,0,25,6],[28,5,28,6],[8,0,8,1],[8,2,8,3],[8,4,8,5]]}
[null,null,"I",null,null,"школьный"]
[null,null,"II",null,null,"муниципальный"]
[null,null,"III",null,null,"региональный"]
[null,null,"IV",null,null,"всероссийский"]
[null,null,"участие",null,null,"международный"]
[null,null,"лауреат"]
[]
["АВТОБИОГРАФИЯ"]
[{"$f":"'Личные данные'!A9:B9","v":"ЭЛЕКТРОННОЕ                "},null,{"$f":"'Личные данные'!C9","v":"ПОРТФОЛИО"},null,{"$f":"титульный!D57","v":"Антонова Светлана Степановна"},null,{"$f":"титульный!D58","v":"МБОУ \"СОШ№11\""}]
[]
["Я Лобанова Валерия Алексеевна родилась в городе  Ангарске ХХиюля 20ХХ года. По знаку зодиака я лев родившийся в год золотого дракона. До школы я пробовала себя в занятиях бальными танцами. С 2006 года занимаюсь в школе искуств №4.  В 2007 году поступила в 1  \"В\" клас сМОУ \"СОШ№11\" ."]
[]
[]
[]
[]
[]
[]
[]
[]
[]
[]
[]
[]
[]
[]
[]
[null,null,null,null,null,null,{"$f":"NOW()","v":"2019-08-24T15:19:23.810"}]
[null,null,null,"Данные афтобиографии  заверяю"]
[null,null,null,null,null,{"$f":"'Личные данные'!D10","v":"Антонова Светлана Степановна"}]

{"sheet":"Жизненные планы","index":6,"n_rows":24,"n_cols":7,"rows_kept":24,"cut":false,"hidden":false,"merged":[[9,6,11,7],[13,1,13,3],[14,1,14,3],[15,4,15,5],[7,0,7,7],[8,0,8,1],[8,2,8,3],[8,4,8,5],[8,6,8,7],[9,0,11,0],[9,4,11,5],[9,1,11,3],[21,4,21,5],[16,1,16,3],[17,1,17,3],[12,0,12,7],[13,4,13,5],[14,4,14,5],[13,6,13,7],[17,6,17,7],[18,6,18,7],[19,6,19,7],[14,6,14,7],[18,1,18,3],[19,1,19,3],[20,1,20,3],[23,0,23,1],[23,4,23,7],[16,4,16,5],[17,4,17,5],[15,1,15,3],[21,6,21,7],[22,6,22,7],[15,6,15,7],[16,6,16,7],[21,1,21,3],[22,4,22,5],[20,6,20,7],[22,1,22,3],[18,4,18,5],[19,4,19,5],[20,4,20,5]]}
["кк",null,"I","школьный",null,"благодарность"]
[null,null,"II","муниципальный",null,"грамота"]
[null,null,"III","региональный",null,"медаль"]
[null,null,"IV","федеральный",null,"значок"]
[null,null,"участие","международный",null,"благодарственное письмо"]
[null,null,"лауреат",null,null,"почётная грамота"]
[]
["ЖИЗНЕННЫЕ ПЛАНЫ"]
[{"$f":"'Личные данные'!A9:B9","v":"ЭЛЕКТРОННОЕ                "},null,{"$f":"'Личные данные'!C9","v":"ПОРТФОЛИО"},null,{"$f":"титульный!D57","v":"Антонова Светлана Степановна"},null,{"$f":"титульный!$D$58","v":"МБОУ \"СОШ№11\""}]
["№п\\п","Содержание деятельности",null,null,"Срок выполнения",null,"Что собираюсь для этого делать"]
[]
[]
[]
[1,"Закончить начальную школу на отллично",null,null,"2011 год",null,"Хоршо учиться, много читать. "]
[2,"Поступить в танцевальную школу",null,null,"2011 год",null,"Записаться в студию танцев"]
[3]
[4]
[5]
[6]
[7]
[8]
[9]
[10]
[{"$f":"NOW()","v":"2019-08-24T15:19:23.810"},null,null,null,{"$f":"'Личные данные'!D10","v":"Антонова Светлана Степановна"}]

{"sheet":"Учебная деятельность","index":7,"n_rows":42,"n_cols":14,"rows_kept":42,"cut":false,"hidden":false,"merged":[[41,0,41,1],[41,2,41,6],[41,7,41,13],[9,6,11,6],[9,7,11,7],[9,11,11,11],[9,12,11,12],[9,2,11,2],[9,4,11,4],[12,0,12,13],[9,8,11,8],[9,9,11,9],[9,10,11,10],[9,5,11,5],[7,0,7,13],[8,0,8,1],[9,0,11,0],[9,1,11,1],[9,13,11,13],[9,3,11,3],[8,11,8,13],[8,6,8,10],[8,2,8,5]]}
[null,null,"I"]
[null,null,"II"]
[null,null,"III"]
[null,null,"IV"]
[null,null,"участие"]
[null,null,"лауреат"]
[]
["УЧЕБНАЯ ДЕЯТЕЛЬНОСТЬ"]
[{"$f":"'Личные данные'!A9:B9","v":"ЭЛЕКТРОННОЕ                "},null,{"$f":"'Личные данные'!C9","v":"ПОРТФОЛИО"},null,null,null,{"$f":"титульный!D57","v":"Антонова Светлана Степановна"},null,null,null,null,{"$f":"титульный!D58","v":"МБОУ \"СОШ№11\""}]
["№п\\п","предмет","1 класс","2 класс","3 класс","4 класс","5 класс","6 класс","7 класс","8 класс","9 класс","10 класс","11 класс","Средний по предмету"]
[]
[]
[]
[1,"Русский язык",null,5,5,5,5,5,5,5,5,null,null,{"$f":"IF(SUM(C14:M14)=0,\"\",AVERAGEIF(C14:M14,\">0\",C14:M14))","v":5}]
[2,"Литература",null,5,5,5,5,5,5,5,5,null,null,{"$f":"IF(SUM(C15:M15)=0,\"\",AVERAGEIF(C15:M15,\">0\",C15:M15))","v":5}]
[3,"Иностранный язык","Х",5,5,5,5,5,5,5,5,null,null,{"$f":"IF(SUM(C16:M16)=0,\"\",AVERAGEIF(C16:M16,\">0\",C16:M16))","v":5}]
[4,"История","Х","Х","Х","Х",5,5,5,5,5,null,null,{"$f":"IF(SUM(C17:M17)=0,\"\",AVERAGEIF(C17:M17,\">0\",C17:M17))","v":5}]
[5,"Обществоведение","Х","Х","Х","Х",5,5,5,5,5,null,null,{"$f":"IF(SUM(C18:M18)=0,\"\",AVERAGEIF(C18:M18,\">0\",C18:M18))","v":5}]
[]
[6,"Математика",null,5,5,5,5,5,"Х","Х","Х","Х","Х",{"$f":"IF(SUM(C20:M20)=0,\"\",AVERAGEIF(C20:M20,\">0\",C20:M20))","v":5}]
[7,"Алгебра","Х","Х","Х","Х","Х","Х",5,5,5,null,null,5]
[8,"геометрия","Х","Х","Х","Х","Х","Х",5,5,5,null,null,5]
[9,"Информатика",null,5,5,5,5,5,5,5,5,null,null,5]
[10,"Физика","Х","Х","Х","Х","Х","Х",5,5,5,null,null,5]
[11,"химия","Х","Х","Х","Х","Х","Х","Х",5,5,null,null,5]
[12,"(Природоведение ) география",null,5,5,5,5,5,5,5,5,null,null,5]
[13,"Биология","Х","Х","Х","Х",5,5,5,5,5,null,null,5]
[]
[14,"Физкультура",null,5,5,5,5,5,5,5,5,null,null,{"$f":"IF(SUM(C29:M29)=0,\"\",AVERAGEIF(C29:M29,\">0\",C29:M29))","v":5}]
[15,"Технология",null,5,5,5,5,5,5,5,5,null,null,5]
[16,"Изобразительное искусство",null,5,5,5,5,5,null,null,null,null,null,5]
[17,"Музыка",null,5,5,5,5,5,null,null,null,null,null,5]
[18,"МХК",null,null,null,null,null,null,null,null,null,null,null,""]
[19,"Черчение","Х","Х","Х","Х","Х","Х","Х",5,5,null,null,5]
[20,"ОБЖ (ОВС)","Х","Х","Х","Х",5,5,5,5,5,null,null,5]
[21,null,null,null,null,null,null,null,null,null,null,null,null,""]
[22,null,null,null,null,null,null,null,null,null,null,null,null,""]
[]
[23,"Пропущено уроков",12,21,null,null,null,null,34,null,null,null,null,{"$f":"SUM(C39:M39)","v":67}]
[24,"их них по болезни",null,null,null,null,null,null,null,null,null,null,null,{"$f":"SUM(C40:M40)","v":0}]
[25,"Средний балл по итогам года",{"$f":"IF(SUM(C14:C18,C20:C27,C29:C37)=0,\"\",AVERAGEIF(C14:C37,\">0\"))","v":""},5,5,5,5,5,5,5,5,"","",{"$f":"AVERAGEIF(N14:N37,\">0\")","v":5}]
[{"$f":"NOW()","v":"2019-08-24T15:19:23.810"},null,{"$f":"'Информация о школе'!A22","v":"Классный руководитель"},null,null,null,null,{"$f":"'Информация о школе'!D22","v":"Главаля Ирина Геннадьевна"}]

{"sheet":"НИД","index":8,"n_rows":108,"n_cols":14,"rows_kept":108,"cut":false,"hidden":false,"merged":[[28,5,28,8],[22,1,22,2],[22,4,22,5],[25,1,25,2],[25,4,25,5],[26,1,26,2],[26,4,26,5],[27,5,27,8],[24,1,24,2],[24,4,24,5],[37,4,37,8],[29,5,29,8],[30,5,30,8],[31,5,31,8],[33,7,33,8],[35,4,35,8],[36,4,36,8],[17,1,17,2],[17,4,17,5],[18,1,18,2],[18,4,18,5],[23,1,23,2],[23,4,23,5],[19,1,19,2],[19,4,19,5],[20,1,20,2],[20,4,20,5],[21,1,21,2],[21,4,21,5],[14,1,14,2],[14,4,14,5],[15,1,15,2],[15,4,15,5],[16,1,16,2],[16,4,16,5],[6,4,6,5],[7,0,9,0],[7,6,9,6],[7,8,9,8],[13,1,13,2],[13,4,13,5],[10,0,10,8],[5,0,5,10],[27,3,31,3],[107,0,107,10],[7,1,9,2],[7,3,9,3],[7,4,9,5],[7,7,9,7],[11,1,11,2],[11,4,11,5],[7,9,9,10],[10,9,10,10],[6,7,6,10],[12,1,12,2],[12,4,12,5],[6,0,6,1],[6,2,6,3]]}
[null,null,"победитель",null,null,"школьный",null,null,"О"]
[null,null,"призёр",null,null,"муниципальный",null,null,"Д"]
[null,null,"участник",null,null,"региональный"]
[null,null,null,null,null,"федеральный"]
[null,null,null,null,null,"международный"]
["ИССЛЕДОВАТЕЛЬСКАЯ (ПРОЕКТНАЯ) ДЕЯТЕЛЬНОСТЬ"]
[{"$f":"'Личные данные'!$A$9","v":"ЭЛЕКТРОННОЕ                "},null,{"$f":"'Личные данные'!$C$9","v":"ПОРТФОЛИО"},null,{"$f":"титульный!$D$57","v":"Антонова Светлана Степановна"},null,null,{"$f":"титульный!$D$58","v":"МБОУ \"СОШ№11\""}]
["№п\\п","Название проекта",null,"Результат","Уровень",null,"Форма участия","класс","Балл","Номер в приложении"]
[]
[]
[null,null,null,null,null,null,null,null,null,null,null,"Результат","уровень","Форма"]
[1,"Тангарм. Семь хитроумных фигур",null,"призёр","муниципальный",null,"О",1,{"$f":"L12*M12*N12","v":5.6000000000000005},"6.",{"$f":"IF(B12<>0,A12,\" \")","v":1},{"$f":"IF(D12=$C$1,Информационный!$Q$19,IF(D12=$C$2,Информационный!$R$19,IF(НИД!D12=НИД!$C$3,Информационный!$S$19,0)))","v":14},{"$f":"IF(E12=$F$5,1,IF(E12=$F$4,0.8,IF(E12=$F$3,0.6,IF(E12=$F$2,0.4,IF(E12=$F$1,0.2,0)))))","v":0.4},{"$f":"IF(G12=$I$1,Информационный!$G$11,IF(G12=$I$2,Информационный!$G$12,0))","v":1}]
[2,"Первые шаги",null,"участник","региональный",null,"Д",4,{"$f":"L13*M13*N13","v":3.9},"6.",{"$f":"IF(B13<>0,A13,\" \")","v":2},{"$f":"IF(D13=$C$1,Информационный!$Q$19,IF(D13=$C$2,Информационный!$R$19,IF(НИД!D13=НИД!$C$3,Информационный!$S$19,0)))","v":13},{"$f":"IF(E13=$F$5,1,IF(E13=$F$4,0.8,IF(E13=$F$3,0.6,IF(E13=$F$2,0.4,IF(E13=$F$1,0.2,0)))))","v":0.6},{"$f":"IF(G13=$I$1,Информационный!$G$11,IF(G13=$I$2,Информационный!$G$12,0))","v":0.5}]
[3,null,null,null,null,null,null,null,0,"6."," ",{"$f":"IF(D14=$C$1,Информационный!$Q$19,IF(D14=$C$2,Информационный!$R$19,IF(НИД!D14=НИД!$C$3,Информационный!$S$19,0)))","v":0},0,{"$f":"IF(G14=$I$1,Информационный!$G$11,IF(G14=$I$2,Информационный!$G$12,0))","v":0}]
[4,null,null,null,null,null,null,null,0,"6."," ",{"$f":"IF(D15=$C$1,Информационный!$Q$19,IF(D15=$C$2,Информационный!$R$19,IF(НИД!D15=НИД!$C$3,Информационный!$S$19,0)))","v":0},0,{"$f":"IF(G15=$I$1,Информационный!$G$11,IF(G15=$I$2,Информационный!$G$12,0))","v":0}]
[5,null,null,null,null,null,null,null,0,"6."," ",{"$f":"IF(D16=$C$1,Информационный!$Q$19,IF(D16=$C$2,Информационный!$R$19,IF(НИД!D16=НИД!$C$3,Информационный!$S$19,0)))","v":0},0,{"$f":"IF(G16=$I$1,Информационный!$G$11,IF(G16=$I$2,Информационный!$G$12,0))","v":0}]
[6,null,null,null,null,null,null,null,0,"6."," ",{"$f":"IF(D17=$C$1,Информационный!$Q$19,IF(D17=$C$2,Информационный!$R$19,IF(НИД!D17=НИД!$C$3,Информационный!$S$19,0)))","v":0},0,{"$f":"IF(G17=$I$1,Информационный!$G$11,IF(G17=$I$2,Информационный!$G$12,0))","v":0}]
[7,null,null,null,null,null,null,null,0,"6."," ",{"$f":"IF(D18=$C$1,Информационный!$Q$19,IF(D18=$C$2,Информационный!$R$19,IF(НИД!D18=НИД!$C$3,Информационный!$S$19,0)))","v":0},0,{"$f":"IF(G18=$I$1,Информационный!$G$11,IF(G18=$I$2,Информационный!$G$12,0))","v":0}]
[8,null,null,null,null,null,null,null,0,"6."," ",{"$f":"IF(D19=$C$1,Информационный!$Q$19,IF(D19=$C$2,Информационный!$R$19,IF(НИД!D19=НИД!$C$3,Информационный!$S$19,0)))","v":0},0,{"$f":"IF(G19=$I$1,Информационный!$G$11,IF(G19=$I$2,Информационный!$G$12,0))","v":0}]
[9,null,null,null,null,null,null,null,0,"6."," ",{"$f":"IF(D20=$C$1,Информационный!$Q$19,IF(D20=$C$2,Информационный!$R$19,IF(НИД!D20=НИД!$C$3,Информационный!$S$19,0)))","v":0},0,{"$f":"IF(G20=$I$1,Информационный!$G$11,IF(G20=$I$2,Информационный!$G$12,0))","v":0}]
[10,null,null,null,null,null,null,null,0,"6."," ",{"$f":"IF(D21=$C$1,Информационный!$Q$19,IF(D21=$C$2,Информационный!$R$19,IF(НИД!D21=НИД!$C$3,Информационный!$S$19,0)))","v":0},0,{"$f":"IF(G21=$I$1,Информационный!$G$11,IF(G21=$I$2,Информационный!$G$12,0))","v":0}]
[11,null,null,null,null,null,null,null,0,"6."," ",{"$f":"IF(D22=$C$1,Информационный!$Q$19,IF(D22=$C$2,Информационный!$R$19,IF(НИД!D22=НИД!$C$3,Информационный!$S$19,0)))","v":0},0,{"$f":"IF(G22=$I$1,Информационный!$G$11,IF(G22=$I$2,Информационный!$G$12,0))","v":0}]
[12,null,null,null,null,null,null,null,0,"6."," ",{"$f":"IF(D23=$C$1,Информационный!$Q$19,IF(D23=$C$2,Информационный!$R$19,IF(НИД!D23=НИД!$C$3,Информационный!$S$19,0)))","v":0},0,{"$f":"IF(G23=$I$1,Информационный!$G$11,IF(G23=$I$2,Информационный!$G$12,0))","v":0}]
[13,null,null,null,null,null,null,null,0,"6."," ",{"$f":"IF(D24=$C$1,Информационный!$Q$19,IF(D24=$C$2,Информационный!$R$19,IF(НИД!D24=НИД!$C$3,Информационный!$S$19,0)))","v":0},0,{"$f":"IF(G24=$I$1,Информационный!$G$11,IF(G24=$I$2,Информационный!$G$12,0))","v":0}]
[14,null,null,null,null,null,null,null,0,"6."," ",{"$f":"IF(D25=$C$1,Информационный!$Q$19,IF(D25=$C$2,Информационный!$R$19,IF(НИД!D25=НИД!$C$3,Информационный!$S$19,0)))","v":0},0,{"$f":"IF(G25=$I$1,Информационный!$G$11,IF(G25=$I$2,Информационный!$G$12,0))","v":0}]
[15,null,null,null,null,null,null,null,0,"6."," ",{"$f":"IF(D26=$C$1,Информационный!$Q$19,IF(D26=$C$2,Информационный!$R$19,IF(НИД!D26=НИД!$C$3,Информационный!$S$19,0)))","v":0},0,{"$f":"IF(G26=$I$1,Информационный!$G$11,IF(G26=$I$2,Информационный!$G$12,0))","v":0}]
[16,null,null,null,null,null,null,null,0,"6."," ",{"$f":"IF(D27=$C$1,Информационный!$Q$19,IF(D27=$C$2,Информационный!$R$19,IF(НИД!D27=НИД!$C$3,Информационный!$S$19,0)))","v":0},0,{"$f":"IF(G27=$I$1,Информационный!$G$11,IF(G27=$I$2,Информационный!$G$12,0))","v":0}]
[null,null,null,"Уровень проектной деятельности",{"$f":"COUNTIF($E$12:$E$27,\"школьный\")","v":0},{"$f":"F1","v":"школьный"}]
[null,null,null,null,{"$f":"COUNTIF($E$12:$E$27,\"муниципальный\")","v":1},{"$f":"F2","v":"муниципальный"}]
[null,null,null,null,{"$f":"COUNTIF($E$12:$E$27,\"региональный\")","v":1},{"$f":"F3","v":"региональный"}]
[null,null,null,null,{"$f":"COUNTIF($E$12:$E$27,\"всероссийский\")","v":0},{"$f":"F4","v":"федеральный"}]
[null,null,null,null,{"$f":"COUNTIF($E$12:$E$27,\"международный\")","v":0},{"$f":"F5","v":"международный"}]
[]
[null,null,null,null,null,null,null,{"$f":"NOW()","v":"2019-08-24T15:19:23.810"}]
[]
[null,null,null,null,{"$f":"'Информация о школе'!$A$22","v":"Классный руководитель"}]
[null,null,null,null,"/_________________/"]
[null,null,null,null,{"$f":"'Информация о школе'!$D$22","v":"Главаля Ирина Геннадьевна"}]
[]
[null,null,null,null,null,null,null,"1 класс",{"$f":"SUMIF($H$12:$H$27,\"1\",$I$12:$I$27)","v":5.6000000000000005}]
[null,null,null,null,null,null,null,"2 класс",{"$f":"SUMIF($H$12:$H$27,\"2\",$I$12:$I$27)","v":0}]
[null,null,null,null,null,null,null,"3 класс",{"$f":"SUMIF($H$12:$H$27,\"3\",$I$12:$I$27)","v":0}]
[null,null,null,null,null,null,null,"4 класс",{"$f":"SUMIF($H$12:$H$27,\"4\",$I$12:$I$27)","v":3.9}]
[null,null,null,null,null,null,null,"5 класс",{"$f":"SUMIF($H$12:$H$27,\"5\",$I$12:$I$27)","v":0}]
[null,null,null,null,null,null,null,"6 класс",{"$f":"SUMIF($H$12:$H$27,\"6\",$I$12:$I$27)","v":0}]
[null,null,null,null,null,null,null,"7 класс",{"$f":"SUMIF($H$12:$H$27,\"7\",$I$12:$I$27)","v":0}]
[null,null,null,null,null,null,null,"8 класс",{"$f":"SUMIF($H$12:$H$27,\"81\",$I$12:$I$27)","v":0}]
[null,null,null,null,null,null,null,"9 класс",{"$f":"SUMIF($H$12:$H$27,\"9\",$I$12:$I$27)","v":0}]
[null,null,null,null,null,null,null,"10 класс",{"$f":"SUMIF($H$12:$H$27,\"10\",$I$12:$I$27)","v":0}]
[null,null,null,null,null,null,null,"11 класс",{"$f":"SUMIF($H$12:$H$27,\"11\",$I$12:$I$27)","v":0}]
[]
[]
[]
[]
[]
[]
[]
[]
[]
[]
[]
[]
[]
[]
[]
[]
[]
[]
[]
[]
[]
[]
[]
[]
[]
[]
[]
[]
[]
[]
[]
[]
[]
[]
[]
[]
[]
[]
[]
[]
[]
[]
[]
[]
[]
[]
[]
[]
[]
[]
[]
[]
[]
[]
[]
[]
[]
["Электронное портфолио учащегося"]

{"sheet":"Предметные","index":9,"n_rows":151,"n_cols":14,"rows_kept":151,"cut":false,"hidden":false,"merged":[[110,1,110,2],[102,1,102,2],[103,1,103,2],[104,1,104,2],[105,1,105,2],[106,1,106,2],[107,1,107,2],[109,4,109,5],[110,4,110,5],[104,4,104,5],[105,4,105,5],[106,4,106,5],[107,4,107,5],[108,4,108,5],[108,1,108,2],[109,1,109,2],[94,1,94,2],[95,1,95,2],[96,1,96,2],[97,1,97,2],[98,1,98,2],[99,1,99,2],[100,1,100,2],[101,1,101,2],[103,4,103,5],[97,4,97,5],[98,4,98,5],[99,4,99,5],[100,4,100,5],[101,4,101,5],[102,4,102,5],[91,4,91,5],[92,4,92,5],[93,4,93,5],[94,4,94,5],[95,4,95,5],[96,4,96,5],[85,4,85,5],[86,4,86,5],[87,4,87,5],[88,4,88,5],[89,4,89,5],[90,4,90,5],[79,4,79,5],[80,4,80,5],[81,4,81,5],[82,4,82,5],[83,4,83,5],[84,4,84,5],[73,4,73,5],[74,4,74,5],[75,4,75,5],[76,4,76,5],[77,4,77,5],[78,4,78,5],[67,4,67,5],[68,4,68,5],[69,4,69,5],[70,4,70,5],[71,4,71,5],[72,4,72,5],[61,4,61,5],[62,4,62,5],[63,4,63,5],[64,4,64,5],[65,4,65,5],[66,4,66,5],[55,4,55,5],[56,4,56,5],[57,4,57,5],[58,4,58,5],[59,4,59,5],[60,4,60,5],[49,4,49,5],[50,4,50,5],[51,4,51,5],[52,4,52,5],[53,4,53,5],[54,4,54,5],[43,4,43,5],[44,4,44,5],[45,4,45,5],[46,4,46,5],[47,4,47,5],[48,4,48,5],[37,4,37,5],[38,4,38,5],[39,4,39,5],[40,4,40,5],[41,4,41,5],[42,4,42,5],[32,4,32,5],[33,4,33,5],[34,4,34,5],[35,4,35,5],[36,4,36,5],[25,4,25,5],[26,4,26,5],[27,4,27,5],[28,4,28,5],[29,4,29,5],[30,4,30,5],[92,1,92,2],[93,1,93,2],[18,4,18,5],[19,4,19,5],[20,4,20,5],[21,4,21,5],[22,4,22,5],[23,4,23,5],[24,4,24,5],[85,1,85,2],[86,1,86,2],[87,1,87,2],[88,1,88,2],[89,1,89,2],[90,1,90,2],[79,1,79,2],[80,1,80,2],[81,1,81,2],[82,1,82,2],[83,1,83,2],[84,1,84,2],[73,1,73,2],[74,1,74,2],[31,4,31,5],[77,1,77,2],[78,1,78,2],[67,1,67,2],[68,1,68,2],[69,1,69,2],[70,1,70,2],[71,1,71,2],[72,1,72,2],[91,1,91,2],[66,1,66,2],[55,1,55,2],[56,1,56,2],[57,1,57,2],[58,1,58,2],[59,1,59,2],[60,1,60,2],[75,1,75,2],[76,1,76,2],[45,1,45,2],[46,1,46,2],[47,1,47,2],[48,1,48,2],[61,1,61,2],[62,1,62,2],[63,1,63,2],[64,1,64,2],[65,1,65,2],[119,4,119,8],[25,1,25,2],[26,1,26,2],[27,1,27,2],[28,1,28,2],[29,1,29,2],[30,1,30,2],[113,5,113,8],[114,5,114,8],[115,5,115,8],[37,1,37,2],[38,1,38,2],[39,1,39,2],[40,1,40,2],[41,1,41,2],[42,1,42,2],[31,1,31,2],[32,1,32,2],[33,1,33,2],[34,1,34,2],[35,1,35,2],[36,1,36,2],[49,1,49,2],[50,1,50,2],[7,6,9,6],[10,0,10,10],[111,3,115,3],[117,4,117,8],[111,5,111,8],[112,5,112,8],[13,1,13,2],[13,4,13,5],[14,1,14,2],[14,4,14,5],[18,1,18,2],[19,1,19,2],[20,1,20,2],[21,1,21,2],[22,1,22,2],[23,1,23,2],[24,1,24,2],[17,4,17,5],[51,1,51,2],[52,1,52,2],[53,1,53,2],[54,1,54,2],[43,1,43,2],[44,1,44,2],[5,0,5,9],[6,0,6,1],[6,2,6,3],[6,7,6,10],[7,0,9,0],[6,4,6,6],[150,0,150,10],[15,1,15,2],[15,4,15,5],[16,1,16,2],[16,4,16,5],[17,1,17,2],[7,1,9,2],[7,3,9,3],[7,4,9,5],[7,7,9,7],[12,1,12,2],[12,4,12,5],[7,8,9,8],[7,9,9,10],[11,1,11,2],[11,4,11,5],[120,4,120,8],[121,4,121,8]]}
[null,null,"победитель",null,null,"школьный",null,null,"О"]
[null,null,"призёр",null,null,"муниципальный",null,null,"Д"]
[null,null,"участник",null,null,"региональный"]
[null,null,null,null,null,"федеральный"]
[null,null,null,null,null,"международный"]
["УЧАСТИЕ в ПРЕДМЕТНЫХ  конкурсах, играх, олимпиадах"]
[{"$f":"'Личные данные'!$A$9","v":"ЭЛЕКТРОННОЕ                "},null,{"$f":"'Личные данные'!$C$9","v":"ПОРТФОЛИО"},null,{"$f":"титульный!$D$57","v":"Антонова Светлана Степановна"},null,null,{"$f":"титульный!$D$58","v":"МБОУ \"СОШ№11\""}]
["№п\\п","Название конкурса, игры, олимпиады",null,"Результат","Уровень",null,"Форма участия","класс","Балл","Номер в приложении"]
[]
[]
[null,null,null,null,null,null,null,null,null,null,null,"Результат","уровень","Форма"]
[1,"Золотое перо",null,"призёр","федеральный",null,"Д",1,{"$f":"L12*M12*N12","v":5.6000000000000005},"7.",{"$f":"IF(B12<>0,A12,\" \")","v":1},{"$f":"IF(D12=$C$1,Информационный!$F$19,IF(D12=$C$2,Информационный!$G$19,IF(Предметные!D12=Предметные!$C$3,Информационный!$H$19,0)))","v":14},{"$f":"IF(E12=$F$5,1,IF(E12=$F$4,0.8,IF(E12=$F$3,0.6,IF(E12=$F$2,0.4,IF(E12=$F$1,0.2,0)))))","v":0.8},{"$f":"IF(G12=$I$1,Информационный!$G$11,IF(G12=$I$2,Информационный!$G$12,0))","v":0.5}]
[2,"Кенгуру",null,"призёр","муниципальный",null,"Д",2,{"$f":"L13*M13*N13","v":2.8000000000000003},"7.",{"$f":"IF(B13<>0,A13,\" \")","v":2},{"$f":"IF(D13=$C$1,Информационный!$F$19,IF(D13=$C$2,Информационный!$G$19,IF(Предметные!D13=Предметные!$C$3,Информационный!$H$19,0)))","v":14},{"$f":"IF(E13=$F$5,1,IF(E13=$F$4,0.8,IF(E13=$F$3,0.6,IF(E13=$F$2,0.4,IF(E13=$F$1,0.2,0)))))","v":0.4},{"$f":"IF(G13=$I$1,Информационный!$G$11,IF(G13=$I$2,Информационный!$G$12,0))","v":0.5}]
[3,"Юный исследователь",null,"призёр","муниципальный",null,"О",2,5.6000000000000005,"7.",3,{"$f":"IF(D14=$C$1,Информационный!$F$19,IF(D14=$C$2,Информационный!$G$19,IF(Предметные!D14=Предметные!$C$3,Информационный!$H$19,0)))","v":14},0.4,{"$f":"IF(G14=$I$1,Информационный!$G$11,IF(G14=$I$2,Информационный!$G$12,0))","v":1}]
[4,"муниципальная олимиада по иностранному языку",null,"призёр","муниципальный",null,"О",2,5.6000000000000005,"7.",4,{"$f":"IF(D15=$C$1,Информационный!$F$19,IF(D15=$C$2,Информационный!$G$19,IF(Предметные!D15=Предметные!$C$3,Информационный!$H$19,0)))","v":14},0.4,{"$f":"IF(G15=$I$1,Информационный!$G$11,IF(G15=$I$2,Информационный!$G$12,0))","v":1}]
[5,"Золотое перо",null,"участник","федеральный",null,"Д",2,5.2,"7.",5,{"$f":"IF(D16=$C$1,Информационный!$F$19,IF(D16=$C$2,Информационный!$G$19,IF(Предметные!D16=Предметные!$C$3,Информационный!$H$19,0)))","v":13},0.8,{"$f":"IF(G16=$I$1,Информационный!$G$11,IF(G16=$I$2,Информационный!$G$12,0))","v":0.5}]
[6,"Умник",null,"призёр","федеральный",null,"Д",3,5.6000000000000005,"7.",6,{"$f":"IF(D17=$C$1,Информационный!$F$19,IF(D17=$C$2,Информационный!$G$19,IF(Предметные!D17=Предметные!$C$3,Информационный!$H$19,0)))","v":14},0.8,{"$f":"IF(G17=$I$1,Информационный!$G$11,IF(G17=$I$2,Информационный!$G$12,0))","v":0.5}]
[7,"Золотое перо",null,"призёр","региональный",null,"Д",3,4.2,"7.",7,{"$f":"IF(D18=$C$1,Информационный!$F$19,IF(D18=$C$2,Информационный!$G$19,IF(Предметные!D18=Предметные!$C$3,Информационный!$H$19,0)))","v":14},0.6,{"$f":"IF(G18=$I$1,Информационный!$G$11,IF(G18=$I$2,Информационный!$G$12,0))","v":0.5}]
[8,"Кенгуру",null,"участник","федеральный",null,"Д",3,5.2,"7.",8,{"$f":"IF(D19=$C$1,Информационный!$F$19,IF(D19=$C$2,Информационный!$G$19,IF(Предметные!D19=Предметные!$C$3,Информационный!$H$19,0)))","v":13},0.8,{"$f":"IF(G19=$I$1,Информационный!$G$11,IF(G19=$I$2,Информационный!$G$12,0))","v":0.5}]
[9,"Олимпиада по математике",null,"победитель","муниципальный",null,"О",4,6,"7.",9,{"$f":"IF(D20=$C$1,Информационный!$F$19,IF(D20=$C$2,Информационный!$G$19,IF(Предметные!D20=Предметные!$C$3,Информационный!$H$19,0)))","v":15},0.4,{"$f":"IF(G20=$I$1,Информационный!$G$11,IF(G20=$I$2,Информационный!$G$12,0))","v":1}]
[10,"Олимпиада по русскому языку",null,"призёр","муниципальный",null,"О",4,5.6000000000000005,"7.",10,{"$f":"IF(D21=$C$1,Информационный!$F$19,IF(D21=$C$2,Информационный!$G$19,IF(Предметные!D21=Предметные!$C$3,Информационный!$H$19,0)))","v":14},0.4,{"$f":"IF(G21=$I$1,Информационный!$G$11,IF(G21=$I$2,Информационный!$G$12,0))","v":1}]
[11,"Олимпиада по окр миру",null,"призёр","муниципальный",null,"О",4,5.6000000000000005,"7.",11,{"$f":"IF(D22=$C$1,Информационный!$F$19,IF(D22=$C$2,Информационный!$G$19,IF(Предметные!D22=Предметные!$C$3,Информационный!$H$19,0)))","v":14},0.4,{"$f":"IF(G22=$I$1,Информационный!$G$11,IF(G22=$I$2,Информационный!$G$12,0))","v":1}]
[12,"Кенгуру",null,"призёр","федеральный",null,"Д",4,5.6000000000000005,"7.",12,{"$f":"IF(D23=$C$1,Информационный!$F$19,IF(D23=$C$2,Информационный!$G$19,IF(Предметные!D23=Предметные!$C$3,Информационный!$H$19,0)))","v":14},0.8,{"$f":"IF(G23=$I$1,Информационный!$G$11,IF(G23=$I$2,Информационный!$G$12,0))","v":0.5}]
[13,"Сибирячок",null,"участник","региональный",null,"Д",4,3.9,"7.",13,{"$f":"IF(D24=$C$1,Информационный!$F$19,IF(D24=$C$2,Информационный!$G$19,IF(Предметные!D24=Предметные!$C$3,Информационный!$H$19,0)))","v":13},0.6,{"$f":"IF(G24=$I$1,Информационный!$G$11,IF(G24=$I$2,Информационный!$G$12,0))","v":0.5}]
[14,"Умник",null,"участник","региональный",null,"Д",4,3.9,"7.",14,{"$f":"IF(D25=$C$1,Информационный!$F$19,IF(D25=$C$2,Информационный!$G$19,IF(Предметные!D25=Предметные!$C$3,Информационный!$H$19,0)))","v":13},0.6,{"$f":"IF(G25=$I$1,Информационный!$G$11,IF(G25=$I$2,Информационный!$G$12,0))","v":0.5}]
[15,"Нерпёнок",null,"участник","региональный",null,"Д",4,3.9,"7.",15,{"$f":"IF(D26=$C$1,Информационный!$F$19,IF(D26=$C$2,Информационный!$G$19,IF(Предметные!D26=Предметные!$C$3,Информационный!$H$19,0)))","v":13},0.6,{"$f":"IF(G26=$I$1,Информационный!$G$11,IF(G26=$I$2,Информационный!$G$12,0))","v":0.5}]
[16,"Золотое перо",null,"участник","региональный",null,"Д",4,3.9,"7.",16,{"$f":"IF(D27=$C$1,Информационный!$F$19,IF(D27=$C$2,Информационный!$G$19,IF(Предметные!D27=Предметные!$C$3,Информационный!$H$19,0)))","v":13},0.6,{"$f":"IF(G27=$I$1,Информационный!$G$11,IF(G27=$I$2,Информационный!$G$12,0))","v":0.5}]
[17,"Олимпиада по математике",null,"призёр","муниципальный",null,"О",5,5.6000000000000005,"7.",17,{"$f":"IF(D28=$C$1,Информационный!$F$19,IF(D28=$C$2,Информационный!$G$19,IF(Предметные!D28=Предметные!$C$3,Информационный!$H$19,0)))","v":14},0.4,{"$f":"IF(G28=$I$1,Информационный!$G$11,IF(G28=$I$2,Информационный!$G$12,0))","v":1}]
[18,"Интеллектуальная игра \"Лингвистический турнар\"",null,"победитель","муниципальный",null,"О",5,6,"7.",18,{"$f":"IF(D29=$C$1,Информационный!$F$19,IF(D29=$C$2,Информационный!$G$19,IF(Предметные!D29=Предметные!$C$3,Информационный!$H$19,0)))","v":15},0.4,{"$f":"IF(G29=$I$1,Информационный!$G$11,IF(G29=$I$2,Информационный!$G$12,0))","v":1}]
[19,"КИТ",null,"призёр","федеральный",null,"Д",5,5.6000000000000005,"7.",19,{"$f":"IF(D30=$C$1,Информационный!$F$19,IF(D30=$C$2,Информационный!$G$19,IF(Предметные!D30=Предметные!$C$3,Информационный!$H$19,0)))","v":14},0.8,{"$f":"IF(G30=$I$1,Информационный!$G$11,IF(G30=$I$2,Информационный!$G$12,0))","v":0.5}]
[20,"Кенгуру",null,"призёр","федеральный",null,"Д",5,5.6000000000000005,"7.",20,{"$f":"IF(D31=$C$1,Информационный!$F$19,IF(D31=$C$2,Информационный!$G$19,IF(Предметные!D31=Предметные!$C$3,Информационный!$H$19,0)))","v":14},0.8,{"$f":"IF(G31=$I$1,Информационный!$G$11,IF(G31=$I$2,Информационный!$G$12,0))","v":0.5}]
[21,"Бульдог",null,"участник","федеральный",null,"Д",5,5.2,"7.",21,{"$f":"IF(D32=$C$1,Информационный!$F$19,IF(D32=$C$2,Информационный!$G$19,IF(Предметные!D32=Предметные!$C$3,Информационный!$H$19,0)))","v":13},0.8,{"$f":"IF(G32=$I$1,Информационный!$G$11,IF(G32=$I$2,Информационный!$G$12,0))","v":0.5}]
[22,"Математическая карусель",null,"участник","муниципальный",null,"О",5,5.2,"7.",22,{"$f":"IF(D33=$C$1,Информационный!$F$19,IF(D33=$C$2,Информационный!$G$19,IF(Предметные!D33=Предметные!$C$3,Информационный!$H$19,0)))","v":13},0.4,{"$f":"IF(G33=$I$1,Информационный!$G$11,IF(G33=$I$2,Информационный!$G$12,0))","v":1}]
[23,"КИТ",null,"победитель","федеральный",null,"Д",6,6,"7.",23,{"$f":"IF(D34=$C$1,Информационный!$F$19,IF(D34=$C$2,Информационный!$G$19,IF(Предметные!D34=Предметные!$C$3,Информационный!$H$19,0)))","v":15},0.8,{"$f":"IF(G34=$I$1,Информационный!$G$11,IF(G34=$I$2,Информационный!$G$12,0))","v":0.5}]
[24,"Золотой ключик",null,"призёр","федеральный",null,"Д",6,5.6000000000000005,"7.",24,{"$f":"IF(D35=$C$1,Информационный!$F$19,IF(D35=$C$2,Информационный!$G$19,IF(Предметные!D35=Предметные!$C$3,Информационный!$H$19,0)))","v":14},0.8,{"$f":"IF(G35=$I$1,Информационный!$G$11,IF(G35=$I$2,Информационный!$G$12,0))","v":0.5}]
[25,"Всероссийский конкурс по биологии",null,"участник","федеральный",null,"Д",6,5.2,"7.",25,{"$f":"IF(D36=$C$1,Информационный!$F$19,IF(D36=$C$2,Информационный!$G$19,IF(Предметные!D36=Предметные!$C$3,Информационный!$H$19,0)))","v":13},0.8,{"$f":"IF(G36=$I$1,Информационный!$G$11,IF(G36=$I$2,Информационный!$G$12,0))","v":0.5}]
[26,"Ломоносовские чтения",null,"участник","муниципальный",null,"О",6,5.2,"7.",26,{"$f":"IF(D37=$C$1,Информационный!$F$19,IF(D37=$C$2,Информационный!$G$19,IF(Предметные!D37=Предметные!$C$3,Информационный!$H$19,0)))","v":13},0.4,{"$f":"IF(G37=$I$1,Информационный!$G$11,IF(G37=$I$2,Информационный!$G$12,0))","v":1}]
[27,"Байкальская ФМШ",null,"призёр","региональный",null,"О",6,8.4,"7.",27,{"$f":"IF(D38=$C$1,Информационный!$F$19,IF(D38=$C$2,Информационный!$G$19,IF(Предметные!D38=Предметные!$C$3,Информационный!$H$19,0)))","v":14},0.6,{"$f":"IF(G38=$I$1,Информационный!$G$11,IF(G38=$I$2,Информационный!$G$12,0))","v":1}]
[28,"Бульдог",null,"участник","федеральный",null,"Д",6,5.2,"7.",28,{"$f":"IF(D39=$C$1,Информационный!$F$19,IF(D39=$C$2,Информационный!$G$19,IF(Предметные!D39=Предметные!$C$3,Информационный!$H$19,0)))","v":13},0.8,{"$f":"IF(G39=$I$1,Информационный!$G$11,IF(G39=$I$2,Информационный!$G$12,0))","v":0.5}]
[29,"Кенгуру",null,"участник","федеральный",null,"Д",6,5.2,"7.",29,{"$f":"IF(D40=$C$1,Информационный!$F$19,IF(D40=$C$2,Информационный!$G$19,IF(Предметные!D40=Предметные!$C$3,Информационный!$H$19,0)))","v":13},0.8,{"$f":"IF(G40=$I$1,Информационный!$G$11,IF(G40=$I$2,Информационный!$G$12,0))","v":0.5}]
[30,"Олимпиада по математике",null,"победитель","муниципальный",null,"О",7,6,"7.",30,{"$f":"IF(D41=$C$1,Информационный!$F$19,IF(D41=$C$2,Информационный!$G$19,IF(Предметные!D41=Предметные!$C$3,Информационный!$H$19,0)))","v":15},0.4,{"$f":"IF(G41=$I$1,Информационный!$G$11,IF(G41=$I$2,Информационный!$G$12,0))","v":1}]
[31,"Олимпиада по информатике",null,"победитель","муниципальный",null,"О",7,6,"7.",31,{"$f":"IF(D42=$C$1,Информационный!$F$19,IF(D42=$C$2,Информационный!$G$19,IF(Предметные!D42=Предметные!$C$3,Информационный!$H$19,0)))","v":15},0.4,{"$f":"IF(G42=$I$1,Информационный!$G$11,IF(G42=$I$2,Информационный!$G$12,0))","v":1}]
[32,"КИТ",null,"призёр","федеральный",null,"Д",6,5.6000000000000005,"7.",32,{"$f":"IF(D43=$C$1,Информационный!$F$19,IF(D43=$C$2,Информационный!$G$19,IF(Предметные!D43=Предметные!$C$3,Информационный!$H$19,0)))","v":14},0.8,{"$f":"IF(G43=$I$1,Информационный!$G$11,IF(G43=$I$2,Информационный!$G$12,0))","v":0.5}]
[33,"Олимпиада по русскому языку",null,"призёр","муниципальный",null,"О",7,5.6000000000000005,"7.",33,{"$f":"IF(D44=$C$1,Информационный!$F$19,IF(D44=$C$2,Информационный!$G$19,IF(Предметные!D44=Предметные!$C$3,Информационный!$H$19,0)))","v":14},0.4,{"$f":"IF(G44=$I$1,Информационный!$G$11,IF(G44=$I$2,Информационный!$G$12,0))","v":1}]
[34,"Олимпиада по обществознанию",null,"призёр","муниципальный",null,"О",7,5.6000000000000005,"7.",34,{"$f":"IF(D45=$C$1,Информационный!$F$19,IF(D45=$C$2,Информационный!$G$19,IF(Предметные!D45=Предметные!$C$3,Информационный!$H$19,0)))","v":14},0.4,{"$f":"IF(G45=$I$1,Информационный!$G$11,IF(G45=$I$2,Информационный!$G$12,0))","v":1}]
[35,"Предметная зимняя олимпиада по математике",null,"призёр","федеральный",null,"Д",7,5.6000000000000005,"7.",35,{"$f":"IF(D46=$C$1,Информационный!$F$19,IF(D46=$C$2,Информационный!$G$19,IF(Предметные!D46=Предметные!$C$3,Информационный!$H$19,0)))","v":14},0.8,{"$f":"IF(G46=$I$1,Информационный!$G$11,IF(G46=$I$2,Информационный!$G$12,0))","v":0.5}]
[36,"Байкальская ФМШ",null,"призёр","региональный",null,"О",7,8.4,"7.",36,{"$f":"IF(D47=$C$1,Информационный!$F$19,IF(D47=$C$2,Информационный!$G$19,IF(Предметные!D47=Предметные!$C$3,Информационный!$H$19,0)))","v":14},0.6,{"$f":"IF(G47=$I$1,Информационный!$G$11,IF(G47=$I$2,Информационный!$G$12,0))","v":1}]
[37,"Инфостранствие",null,"призёр","муниципальный",null,"О",7,5.6000000000000005,"7.",37,{"$f":"IF(D48=$C$1,Информационный!$F$19,IF(D48=$C$2,Информационный!$G$19,IF(Предметные!D48=Предметные!$C$3,Информационный!$H$19,0)))","v":14},0.4,{"$f":"IF(G48=$I$1,Информационный!$G$11,IF(G48=$I$2,Информационный!$G$12,0))","v":1}]
[38,"Мультитест",null,"участник","федеральный",null,"Д",7,5.2,"7.",38,{"$f":"IF(D49=$C$1,Информационный!$F$19,IF(D49=$C$2,Информационный!$G$19,IF(Предметные!D49=Предметные!$C$3,Информационный!$H$19,0)))","v":13},0.8,{"$f":"IF(G49=$I$1,Информационный!$G$11,IF(G49=$I$2,Информационный!$G$12,0))","v":0.5}]
[39,"Бульдог",null,"участник","федеральный",null,"Д",7,5.2,"7.",39,{"$f":"IF(D50=$C$1,Информационный!$F$19,IF(D50=$C$2,Информационный!$G$19,IF(Предметные!D50=Предметные!$C$3,Информационный!$H$19,0)))","v":13},0.8,{"$f":"IF(G50=$I$1,Информационный!$G$11,IF(G50=$I$2,Информационный!$G$12,0))","v":0.5}]
[40,"Кенгуру",null,"участник","федеральный",null,"Д",7,5.2,"7.",40,{"$f":"IF(D51=$C$1,Информационный!$F$19,IF(D51=$C$2,Информационный!$G$19,IF(Предметные!D51=Предметные!$C$3,Информационный!$H$19,0)))","v":13},0.8,{"$f":"IF(G51=$I$1,Информационный!$G$11,IF(G51=$I$2,Информационный!$G$12,0))","v":0.5}]
[41,"Олимпиада по  математике",null,"участник","региональный",null,"О",7,7.8,"7.",41,{"$f":"IF(D52=$C$1,Информационный!$F$19,IF(D52=$C$2,Информационный!$G$19,IF(Предметные!D52=Предметные!$C$3,Информационный!$H$19,0)))","v":13},0.6,{"$f":"IF(G52=$I$1,Информационный!$G$11,IF(G52=$I$2,Информационный!$G$12,0))","v":1}]
[42,"Интеллектуальная игра \"Лингвистический турнар\"",null,"участник","муниципальный",null,"О",7,5.2,"7.",42,{"$f":"IF(D53=$C$1,Информационный!$F$19,IF(D53=$C$2,Информационный!$G$19,IF(Предметные!D53=Предметные!$C$3,Информационный!$H$19,0)))","v":13},0.4,{"$f":"IF(G53=$I$1,Информационный!$G$11,IF(G53=$I$2,Информационный!$G$12,0))","v":1}]
[43,"Русский  медвежонок",null,"участник","региональный",null,"Д",7,3.9,"7.",43,{"$f":"IF(D54=$C$1,Информационный!$F$19,IF(D54=$C$2,Информационный!$G$19,IF(Предметные!D54=Предметные!$C$3,Информационный!$H$19,0)))","v":13},0.6,{"$f":"IF(G54=$I$1,Информационный!$G$11,IF(G54=$I$2,Информационный!$G$12,0))","v":0.5}]
[44,"Всероссийские олимпиады  по биологии",null,"участник","федеральный",null,"Д",7,5.2,"7.",44,{"$f":"IF(D55=$C$1,Информационный!$F$19,IF(D55=$C$2,Информационный!$G$19,IF(Предметные!D55=Предметные!$C$3,Информационный!$H$19,0)))","v":13},0.8,{"$f":"IF(G55=$I$1,Информационный!$G$11,IF(G55=$I$2,Информационный!$G$12,0))","v":0.5}]
[45,"Олимпиада по математике",null,"призёр","региональный",null,"О",8,8.4,"7.",45,{"$f":"IF(D56=$C$1,Информационный!$F$19,IF(D56=$C$2,Информационный!$G$19,IF(Предметные!D56=Предметные!$C$3,Информационный!$H$19,0)))","v":14},0.6,{"$f":"IF(G56=$I$1,Информационный!$G$11,IF(G56=$I$2,Информационный!$G$12,0))","v":1}]
[46,"Открытая командная олипиада по математике",null,"призёр","региональный",null,"О",8,8.4,"7.",46,{"$f":"IF(D57=$C$1,Информационный!$F$19,IF(D57=$C$2,Информационный!$G$19,IF(Предметные!D57=Предметные!$C$3,Информационный!$H$19,0)))","v":14},0.6,{"$f":"IF(G57=$I$1,Информационный!$G$11,IF(G57=$I$2,Информационный!$G$12,0))","v":1}]
[47,"КИТ",null,"призёр","муниципальный",null,"Д",8,2.8000000000000003,"7.",47,{"$f":"IF(D58=$C$1,Информационный!$F$19,IF(D58=$C$2,Информационный!$G$19,IF(Предметные!D58=Предметные!$C$3,Информационный!$H$19,0)))","v":14},0.4,{"$f":"IF(G58=$I$1,Информационный!$G$11,IF(G58=$I$2,Информационный!$G$12,0))","v":0.5}]
[48,"54 выездная математическая олимпиада",null,"победитель","федеральный",null,"Д",8,6,"7.",48,{"$f":"IF(D59=$C$1,Информационный!$F$19,IF(D59=$C$2,Информационный!$G$19,IF(Предметные!D59=Предметные!$C$3,Информационный!$H$19,0)))","v":15},0.8,{"$f":"IF(G59=$I$1,Информационный!$G$11,IF(G59=$I$2,Информационный!$G$12,0))","v":0.5}]
[49,"54 выездная физическая олимпиада",null,"победитель","федеральный",null,"Д",8,6,"7.",49,{"$f":"IF(D60=$C$1,Информационный!$F$19,IF(D60=$C$2,Информационный!$G$19,IF(Предметные!D60=Предметные!$C$3,Информационный!$H$19,0)))","v":15},0.8,{"$f":"IF(G60=$I$1,Информационный!$G$11,IF(G60=$I$2,Информационный!$G$12,0))","v":0.5}]
[50,"Открытая интернет олимпиада  по физике",null,"победитель","федеральный",null,"Д",8,6,"7.",50,{"$f":"IF(D61=$C$1,Информационный!$F$19,IF(D61=$C$2,Информационный!$G$19,IF(Предметные!D61=Предметные!$C$3,Информационный!$H$19,0)))","v":15},0.8,{"$f":"IF(G61=$I$1,Информационный!$G$11,IF(G61=$I$2,Информационный!$G$12,0))","v":0.5}]
[51,"Открытая интернет олимпиада  по математике",null,"призёр","федеральный",null,"Д",8,5.6000000000000005,"7.",51,{"$f":"IF(D62=$C$1,Информационный!$F$19,IF(D62=$C$2,Информационный!$G$19,IF(Предметные!D62=Предметные!$C$3,Информационный!$H$19,0)))","v":14},0.8,{"$f":"IF(G62=$I$1,Информационный!$G$11,IF(G62=$I$2,Информационный!$G$12,0))","v":0.5}]
[52,"Олимпиада по физике",null,"призёр","региональный",null,"О",8,8.4,"7.",52,{"$f":"IF(D63=$C$1,Информационный!$F$19,IF(D63=$C$2,Информационный!$G$19,IF(Предметные!D63=Предметные!$C$3,Информационный!$H$19,0)))","v":14},0.6,{"$f":"IF(G63=$I$1,Информационный!$G$11,IF(G63=$I$2,Информационный!$G$12,0))","v":1}]
[53,"Олимпиада по информатике",null,"призёр","муниципальный",null,"О",8,5.6000000000000005,"7.",53,{"$f":"IF(D64=$C$1,Информационный!$F$19,IF(D64=$C$2,Информационный!$G$19,IF(Предметные!D64=Предметные!$C$3,Информационный!$H$19,0)))","v":14},0.4,{"$f":"IF(G64=$I$1,Информационный!$G$11,IF(G64=$I$2,Информационный!$G$12,0))","v":1}]
[54,"Кенгуру",null,"победитель","федеральный",null,"Д",8,6,"7.",54,{"$f":"IF(D65=$C$1,Информационный!$F$19,IF(D65=$C$2,Информационный!$G$19,IF(Предметные!D65=Предметные!$C$3,Информационный!$H$19,0)))","v":15},0.8,{"$f":"IF(G65=$I$1,Информационный!$G$11,IF(G65=$I$2,Информационный!$G$12,0))","v":0.5}]
[55,"Общероссийская олимпиада по физике (школьные дни)",null,"призёр","федеральный",null,"Д",8,5.6000000000000005,"7.",55,{"$f":"IF(D66=$C$1,Информационный!$F$19,IF(D66=$C$2,Информационный!$G$19,IF(Предметные!D66=Предметные!$C$3,Информационный!$H$19,0)))","v":14},0.8,{"$f":"IF(G66=$I$1,Информационный!$G$11,IF(G66=$I$2,Информационный!$G$12,0))","v":0.5}]
[56,"Общероссийская  предметная олимпиада по физике",null,"призёр","федеральный",null,"Д",8,5.6000000000000005,"7.",56,{"$f":"IF(D67=$C$1,Информационный!$F$19,IF(D67=$C$2,Информационный!$G$19,IF(Предметные!D67=Предметные!$C$3,Информационный!$H$19,0)))","v":14},0.8,{"$f":"IF(G67=$I$1,Информационный!$G$11,IF(G67=$I$2,Информационный!$G$12,0))","v":0.5}]
[57,"Общероссийская олимпиада по физике (школьные дни)",null,"призёр","федеральный",null,"Д",8,5.6000000000000005,"7.",57,{"$f":"IF(D68=$C$1,Информационный!$F$19,IF(D68=$C$2,Информационный!$G$19,IF(Предметные!D68=Предметные!$C$3,Информационный!$H$19,0)))","v":14},0.8,{"$f":"IF(G68=$I$1,Информационный!$G$11,IF(G68=$I$2,Информационный!$G$12,0))","v":0.5}]
[58,"Бульдог",null,"участник","федеральный",null,"Д",8,5.2,"7.",58,{"$f":"IF(D69=$C$1,Информационный!$F$19,IF(D69=$C$2,Информационный!$G$19,IF(Предметные!D69=Предметные!$C$3,Информационный!$H$19,0)))","v":13},0.8,{"$f":"IF(G69=$I$1,Информационный!$G$11,IF(G69=$I$2,Информационный!$G$12,0))","v":0.5}]
[59,"Олимпиада по математике",null,"участник","региональный",null,"О",8,7.8,"7.",59,{"$f":"IF(D70=$C$1,Информационный!$F$19,IF(D70=$C$2,Информационный!$G$19,IF(Предметные!D70=Предметные!$C$3,Информационный!$H$19,0)))","v":13},0.6,{"$f":"IF(G70=$I$1,Информационный!$G$11,IF(G70=$I$2,Информационный!$G$12,0))","v":1}]
[60,"Математическая карусель",null,"победитель","региональный",null,"О",8,9,"7.",60,{"$f":"IF(D71=$C$1,Информационный!$F$19,IF(D71=$C$2,Информационный!$G$19,IF(Предметные!D71=Предметные!$C$3,Информационный!$H$19,0)))","v":15},0.6,{"$f":"IF(G71=$I$1,Информационный!$G$11,IF(G71=$I$2,Информационный!$G$12,0))","v":1}]
[61,"VIII математическое многоборье",null,"призёр","федеральный",null,"О",9,11.200000000000001,"7.",61,{"$f":"IF(D72=$C$1,Информационный!$F$19,IF(D72=$C$2,Информационный!$G$19,IF(Предметные!D72=Предметные!$C$3,Информационный!$H$19,0)))","v":14},0.8,{"$f":"IF(G72=$I$1,Информационный!$G$11,IF(G72=$I$2,Информационный!$G$12,0))","v":1}]
[62,"Олимпиада по химии",null,"призёр","муниципальный",null,"О",9,5.6000000000000005,"7.",62,{"$f":"IF(D73=$C$1,Информационный!$F$19,IF(D73=$C$2,Информационный!$G$19,IF(Предметные!D73=Предметные!$C$3,Информационный!$H$19,0)))","v":14},0.4,{"$f":"IF(G73=$I$1,Информационный!$G$11,IF(G73=$I$2,Информационный!$G$12,0))","v":1}]
[63,"Олимпиада по физике",null,"победитель","региональный",null,"О",9,9,"7.",63,{"$f":"IF(D74=$C$1,Информационный!$F$19,IF(D74=$C$2,Информационный!$G$19,IF(Предметные!D74=Предметные!$C$3,Информационный!$H$19,0)))","v":15},0.6,{"$f":"IF(G74=$I$1,Информационный!$G$11,IF(G74=$I$2,Информационный!$G$12,0))","v":1}]
[64,"Олимпиада по информатике",null,"призёр","региональный",null,"О",9,8.4,"7.",64,{"$f":"IF(D75=$C$1,Информационный!$F$19,IF(D75=$C$2,Информационный!$G$19,IF(Предметные!D75=Предметные!$C$3,Информационный!$H$19,0)))","v":14},0.6,{"$f":"IF(G75=$I$1,Информационный!$G$11,IF(G75=$I$2,Информационный!$G$12,0))","v":1}]
[65,"Олимпиада по математике",null,"призёр","региональный",null,"О",9,8.4,"7.",65,{"$f":"IF(D76=$C$1,Информационный!$F$19,IF(D76=$C$2,Информационный!$G$19,IF(Предметные!D76=Предметные!$C$3,Информационный!$H$19,0)))","v":14},0.6,{"$f":"IF(G76=$I$1,Информационный!$G$11,IF(G76=$I$2,Информационный!$G$12,0))","v":1}]
[66,"Олимпиада по физике",null,"победитель","муниципальный",null,"О",9,{"$f":"L77*M77*N77","v":6},"7.",{"$f":"IF(B77<>0,A77,\" \")","v":66},{"$f":"IF(D77=$C$1,Информационный!$F$19,IF(D77=$C$2,Информационный!$G$19,IF(Предметные!D77=Предметные!$C$3,Информационный!$H$19,0)))","v":15},{"$f":"IF(E77=$F$5,1,IF(E77=$F$4,0.8,IF(E77=$F$3,0.6,IF(E77=$F$2,0.4,IF(E77=$F$1,0.2,0)))))","v":0.4},{"$f":"IF(G77=$I$1,Информационный!$G$11,IF(G77=$I$2,Информационный!$G$12,0))","v":1}]
[67,null,null,null,null,null,null,null,0,"7."," ",{"$f":"IF(D78=$C$1,Информационный!$F$19,IF(D78=$C$2,Информационный!$G$19,IF(Предметные!D78=Предметные!$C$3,Информационный!$H$19,0)))","v":0},0,{"$f":"IF(G78=$I$1,Информационный!$G$11,IF(G78=$I$2,Информационный!$G$12,0))","v":0}]
[68,null,null,null,null,null,null,null,0,"7."," ",{"$f":"IF(D79=$C$1,Информационный!$F$19,IF(D79=$C$2,Информационный!$G$19,IF(Предметные!D79=Предметные!$C$3,Информационный!$H$19,0)))","v":0},0,{"$f":"IF(G79=$I$1,Информационный!$G$11,IF(G79=$I$2,Информационный!$G$12,0))","v":0}]
[69,null,null,null,null,null,null,null,0,"7."," ",{"$f":"IF(D80=$C$1,Информационный!$F$19,IF(D80=$C$2,Информационный!$G$19,IF(Предметные!D80=Предметные!$C$3,Информационный!$H$19,0)))","v":0},0,{"$f":"IF(G80=$I$1,Информационный!$G$11,IF(G80=$I$2,Информационный!$G$12,0))","v":0}]
[70,null,null,null,null,null,null,null,0,"7."," ",{"$f":"IF(D81=$C$1,Информационный!$F$19,IF(D81=$C$2,Информационный!$G$19,IF(Предметные!D81=Предметные!$C$3,Информационный!$H$19,0)))","v":0},0,{"$f":"IF(G81=$I$1,Информационный!$G$11,IF(G81=$I$2,Информационный!$G$12,0))","v":0}]
[71,null,null,null,null,null,null,null,0,"7."," ",{"$f":"IF(D82=$C$1,Информационный!$F$19,IF(D82=$C$2,Информационный!$G$19,IF(Предметные!D82=Предметные!$C$3,Информационный!$H$19,0)))","v":0},0,{"$f":"IF(G82=$I$1,Информационный!$G$11,IF(G82=$I$2,Информационный!$G$12,0))","v":0}]
[72,null,null,null,null,null,null,null,0,"7."," ",{"$f":"IF(D83=$C$1,Информационный!$F$19,IF(D83=$C$2,Информационный!$G$19,IF(Предметные!D83=Предметные!$C$3,Информационный!$H$19,0)))","v":0},0,{"$f":"IF(G83=$I$1,Информационный!$G$11,IF(G83=$I$2,Информационный!$G$12,0))","v":0}]
[73,null,null,null,null,null,null,null,0,"7."," ",{"$f":"IF(D84=$C$1,Информационный!$F$19,IF(D84=$C$2,Информационный!$G$19,IF(Предметные!D84=Предметные!$C$3,Информационный!$H$19,0)))","v":0},0,{"$f":"IF(G84=$I$1,Информационный!$G$11,IF(G84=$I$2,Информационный!$G$12,0))","v":0}]
[74,null,null,null,null,null,null,null,0,"7."," ",{"$f":"IF(D85=$C$1,Информационный!$F$19,IF(D85=$C$2,Информационный!$G$19,IF(Предметные!D85=Предметные!$C$3,Информационный!$H$19,0)))","v":0},0,{"$f":"IF(G85=$I$1,Информационный!$G$11,IF(G85=$I$2,Информационный!$G$12,0))","v":0}]
[75,null,null,null,null,null,null,null,0,"7."," ",{"$f":"IF(D86=$C$1,Информационный!$F$19,IF(D86=$C$2,Информационный!$G$19,IF(Предметные!D86=Предметные!$C$3,Информационный!$H$19,0)))","v":0},0,{"$f":"IF(G86=$I$1,Информационный!$G$11,IF(G86=$I$2,Информационный!$G$12,0))","v":0}]
[76,null,null,null,null,null,null,null,0,"7."," ",{"$f":"IF(D87=$C$1,Информационный!$F$19,IF(D87=$C$2,Информационный!$G$19,IF(Предметные!D87=Предметные!$C$3,Информационный!$H$19,0)))","v":0},0,{"$f":"IF(G87=$I$1,Информационный!$G$11,IF(G87=$I$2,Информационный!$G$12,0))","v":0}]
[77,null,null,null,null,null,null,null,0,"7."," ",{"$f":"IF(D88=$C$1,Информационный!$F$19,IF(D88=$C$2,Информационный!$G$19,IF(Предметные!D88=Предметные!$C$3,Информационный!$H$19,0)))","v":0},0,{"$f":"IF(G88=$I$1,Информационный!$G$11,IF(G88=$I$2,Информационный!$G$12,0))","v":0}]
[78,null,null,null,null,null,null,null,0,"7."," ",{"$f":"IF(D89=$C$1,Информационный!$F$19,IF(D89=$C$2,Информационный!$G$19,IF(Предметные!D89=Предметные!$C$3,Информационный!$H$19,0)))","v":0},0,{"$f":"IF(G89=$I$1,Информационный!$G$11,IF(G89=$I$2,Информационный!$G$12,0))","v":0}]
[79,null,null,null,null,null,null,null,0,"7."," ",{"$f":"IF(D90=$C$1,Информационный!$F$19,IF(D90=$C$2,Информационный!$G$19,IF(Предметные!D90=Предметные!$C$3,Информационный!$H$19,0)))","v":0},0,{"$f":"IF(G90=$I$1,Информационный!$G$11,IF(G90=$I$2,Информационный!$G$12,0))","v":0}]
[80,null,null,null,null,null,null,null,0,"7."," ",{"$f":"IF(D91=$C$1,Информационный!$F$19,IF(D91=$C$2,Информационный!$G$19,IF(Предметные!D91=Предметные!$C$3,Информационный!$H$19,0)))","v":0},0,{"$f":"IF(G91=$I$1,Информационный!$G$11,IF(G91=$I$2,Информационный!$G$12,0))","v":0}]
[81,null,null,null,null,null,null,null,0,"7."," ",{"$f":"IF(D92=$C$1,Информационный!$F$19,IF(D92=$C$2,Информационный!$G$19,IF(Предметные!D92=Предметные!$C$3,Информационный!$H$19,0)))","v":0},0,{"$f":"IF(G92=$I$1,Информационный!$G$11,IF(G92=$I$2,Информационный!$G$12,0))","v":0}]
[82,null,null,null,null,null,null,null,0,"7."," ",{"$f":"IF(D93=$C$1,Информационный!$F$19,IF(D93=$C$2,Информационный!$G$19,IF(Предметные!D93=Предметные!$C$3,Информационный!$H$19,0)))","v":0},0,{"$f":"IF(G93=$I$1,Информационный!$G$11,IF(G93=$I$2,Информационный!$G$12,0))","v":0}]
[83,null,null,null,null,null,null,null,0,"7."," ",{"$f":"IF(D94=$C$1,Информационный!$F$19,IF(D94=$C$2,Информационный!$G$19,IF(Предметные!D94=Предметные!$C$3,Информационный!$H$19,0)))","v":0},0,{"$f":"IF(G94=$I$1,Информационный!$G$11,IF(G94=$I$2,Информационный!$G$12,0))","v":0}]
[84,null,null,null,null,null,null,null,0,"7."," ",{"$f":"IF(D95=$C$1,Информационный!$F$19,IF(D95=$C$2,Информационный!$G$19,IF(Предметные!D95=Предметные!$C$3,Информационный!$H$19,0)))","v":0},0,{"$f":"IF(G95=$I$1,Информационный!$G$11,IF(G95=$I$2,Информационный!$G$12,0))","v":0}]
[85,null,null,null,null,null,null,null,0,"7."," ",{"$f":"IF(D96=$C$1,Информационный!$F$19,IF(D96=$C$2,Информационный!$G$19,IF(Предметные!D96=Предметные!$C$3,Информационный!$H$19,0)))","v":0},0,{"$f":"IF(G96=$I$1,Информационный!$G$11,IF(G96=$I$2,Информационный!$G$12,0))","v":0}]
[86,null,null,null,null,null,null,null,0,"7."," ",{"$f":"IF(D97=$C$1,Информационный!$F$19,IF(D97=$C$2,Информационный!$G$19,IF(Предметные!D97=Предметные!$C$3,Информационный!$H$19,0)))","v":0},0,{"$f":"IF(G97=$I$1,Информационный!$G$11,IF(G97=$I$2,Информационный!$G$12,0))","v":0}]
[87,null,null,null,null,null,null,null,0,"7."," ",{"$f":"IF(D98=$C$1,Информационный!$F$19,IF(D98=$C$2,Информационный!$G$19,IF(Предметные!D98=Предметные!$C$3,Информационный!$H$19,0)))","v":0},0,{"$f":"IF(G98=$I$1,Информационный!$G$11,IF(G98=$I$2,Информационный!$G$12,0))","v":0}]
[88,null,null,null,null,null,null,null,0,"7."," ",{"$f":"IF(D99=$C$1,Информационный!$F$19,IF(D99=$C$2,Информационный!$G$19,IF(Предметные!D99=Предметные!$C$3,Информационный!$H$19,0)))","v":0},0,{"$f":"IF(G99=$I$1,Информационный!$G$11,IF(G99=$I$2,Информационный!$G$12,0))","v":0}]
[89,null,null,null,null,null,null,null,0,"7."," ",{"$f":"IF(D100=$C$1,Информационный!$F$19,IF(D100=$C$2,Информационный!$G$19,IF(Предметные!D100=Предметные!$C$3,Информационный!$H$19,0)))","v":0},0,{"$f":"IF(G100=$I$1,Информационный!$G$11,IF(G100=$I$2,Информационный!$G$12,0))","v":0}]
[90,null,null,null,null,null,null,null,0,"7."," ",{"$f":"IF(D101=$C$1,Информационный!$F$19,IF(D101=$C$2,Информационный!$G$19,IF(Предметные!D101=Предметные!$C$3,Информационный!$H$19,0)))","v":0},0,{"$f":"IF(G101=$I$1,Информационный!$G$11,IF(G101=$I$2,Информационный!$G$12,0))","v":0}]
[91,null,null,null,null,null,null,null,0,"7."," ",{"$f":"IF(D102=$C$1,Информационный!$F$19,IF(D102=$C$2,Информационный!$G$19,IF(Предметные!D102=Предметные!$C$3,Информационный!$H$19,0)))","v":0},0,{"$f":"IF(G102=$I$1,Информационный!$G$11,IF(G102=$I$2,Информационный!$G$12,0))","v":0}]
[92,null,null,null,null,null,null,null,0,"7."," ",{"$f":"IF(D103=$C$1,Информационный!$F$19,IF(D103=$C$2,Информационный!$G$19,IF(Предметные!D103=Предметные!$C$3,Информационный!$H$19,0)))","v":0},0,{"$f":"IF(G103=$I$1,Информационный!$G$11,IF(G103=$I$2,Информационный!$G$12,0))","v":0}]
[93,null,null,null,null,null,null,null,0,"7."," ",{"$f":"IF(D104=$C$1,Информационный!$F$19,IF(D104=$C$2,Информационный!$G$19,IF(Предметные!D104=Предметные!$C$3,Информационный!$H$19,0)))","v":0},0,{"$f":"IF(G104=$I$1,Информационный!$G$11,IF(G104=$I$2,Информационный!$G$12,0))","v":0}]
[94,null,null,null,null,null,null,null,0,"7."," ",{"$f":"IF(D105=$C$1,Информационный!$F$19,IF(D105=$C$2,Информационный!$G$19,IF(Предметные!D105=Предметные!$C$3,Информационный!$H$19,0)))","v":0},0,{"$f":"IF(G105=$I$1,Информационный!$G$11,IF(G105=$I$2,Информационный!$G$12,0))","v":0}]
[95,null,null,null,null,null,null,null,0,"7."," ",{"$f":"IF(D106=$C$1,Информационный!$F$19,IF(D106=$C$2,Информационный!$G$19,IF(Предметные!D106=Предметные!$C$3,Информационный!$H$19,0)))","v":0},0,{"$f":"IF(G106=$I$1,Информационный!$G$11,IF(G106=$I$2,Информационный!$G$12,0))","v":0}]
[96,null,null,null,null,null,null,null,0,"7."," ",{"$f":"IF(D107=$C$1,Информационный!$F$19,IF(D107=$C$2,Информационный!$G$19,IF(Предметные!D107=Предметные!$C$3,Информационный!$H$19,0)))","v":0},0,{"$f":"IF(G107=$I$1,Информационный!$G$11,IF(G107=$I$2,Информационный!$G$12,0))","v":0}]
[97,null,null,null,null,null,null,null,0,"7."," ",{"$f":"IF(D108=$C$1,Информационный!$F$19,IF(D108=$C$2,Информационный!$G$19,IF(Предметные!D108=Предметные!$C$3,Информационный!$H$19,0)))","v":0},0,{"$f":"IF(G108=$I$1,Информационный!$G$11,IF(G108=$I$2,Информационный!$G$12,0))","v":0}]
[98,null,null,null,null,null,null,null,0,"7."," ",{"$f":"IF(D109=$C$1,Информационный!$F$19,IF(D109=$C$2,Информационный!$G$19,IF(Предметные!D109=Предметные!$C$3,Информационный!$H$19,0)))","v":0},0,{"$f":"IF(G109=$I$1,Информационный!$G$11,IF(G109=$I$2,Информационный!$G$12,0))","v":0}]
[99,null,null,null,null,null,null,null,0,"7."," ",{"$f":"IF(D110=$C$1,Информационный!$F$19,IF(D110=$C$2,Информационный!$G$19,IF(Предметные!D110=Предметные!$C$3,Информационный!$H$19,0)))","v":0},0,{"$f":"IF(G110=$I$1,Информационный!$G$11,IF(G110=$I$2,Информационный!$G$12,0))","v":0}]
[100,null,null,null,null,null,null,null,0,"7."," ",{"$f":"IF(D111=$C$1,Информационный!$F$19,IF(D111=$C$2,Информационный!$G$19,IF(Предметные!D111=Предметные!$C$3,Информационный!$H$19,0)))","v":0},0,{"$f":"IF(G111=$I$1,Информационный!$G$11,IF(G111=$I$2,Информационный!$G$12,0))","v":0}]
[null,null,null,"Уровень участия",{"$f":"COUNTIF($E$12:$E$111,\"школьный\")","v":0},{"$f":"F1","v":"школьный"}]
[null,null,null,null,{"$f":"COUNTIF($E$12:$E$111,\"муниципальный\")","v":20},{"$f":"F2","v":"муниципальный"}]
[null,null,null,null,{"$f":"COUNTIF($E$12:$E$111,\"региональный\")","v":17},{"$f":"F3","v":"региональный"}]
[null,null,null,null,{"$f":"COUNTIF($E$12:$E$111,\"всероссийский\")","v":0},{"$f":"F4","v":"федеральный"}]
[null,null,null,null,{"$f":"COUNTIF($E$12:$E$111,\"международный\")","v":0},{"$f":"F5","v":"международный"}]
[]
[null,null,null,null,{"$f":"NOW()","v":"2019-08-24T15:19:23.810"}]
[]
[null,null,null,null,{"$f":"'Информация о школе'!$A$22","v":"Классный руководитель"}]
[null,null,null,null,"/_________________/"]
[null,null,null,null,{"$f":"'Информация о школе'!$D$22","v":"Главаля Ирина Геннадьевна"}]
[]
[]
[]
[]
[]
[]
[]
[]
[]
[]
[]
[]
[]
[]
[]
[null,null,null,null,null,null,null,"1 класс",{"$f":"SUMIF($H$12:$H$111,\"1\",$I$12:$I$111)","v":5.6000000000000005}]
[null,null,null,null,null,null,null,"2 класс",{"$f":"SUMIF($H$12:$H$111,\"2\",$I$12:$I$111)","v":19.2}]
[null,null,null,null,null,null,null,"3 класс",{"$f":"SUMIF($H$12:$H$111,\"3\",$I$12:$I$111)","v":15}]
[null,null,null,null,null,null,null,"4 класс",{"$f":"SUMIF($H$12:$H$111,\"4\",$I$12:$I$111)","v":38.4}]
[null,null,null,null,null,null,null,"5 класс",{"$f":"SUMIF($H$12:$H$111,\"5\",$I$12:$I$111)","v":33.200000000000003}]
[null,null,null,null,null,null,null,"6 класс",{"$f":"SUMIF($H$12:$H$111,\"6\",$I$12:$I$111)","v":46.400000000000006}]
[null,null,null,null,null,null,null,"7 класс",{"$f":"SUMIF($H$12:$H$111,\"7\",$I$12:$I$111)","v":80.500000000000028}]
[null,null,null,null,null,null,null,"8 класс",{"$f":"SUMIF($H$12:$H$111,\"81\",$I$12:$I$111)","v":0}]
[null,null,null,null,null,null,null,"9 класс",{"$f":"SUMIF($H$12:$H$111,\"9\",$I$12:$I$111)","v":48.6}]
[null,null,null,null,null,null,null,"10 класс",{"$f":"SUMIF($H$12:$H$111,\"10\",$I$12:$I$111)","v":0}]
[null,null,null,null,null,null,null,"11 класс",{"$f":"SUMIF($H$12:$H$111,\"11\",$I$12:$I$111)","v":0}]
[]
[]
["Электронное портфолио учащегося"]

{"sheet":"Публикации","index":10,"n_rows":104,"n_cols":14,"rows_kept":104,"cut":false,"hidden":false,"merged":[[5,0,5,9],[6,0,6,1],[6,2,6,3],[6,4,6,5],[6,7,6,10],[7,7,9,7],[7,8,9,8],[7,9,9,10],[10,0,10,8],[10,9,10,10],[7,0,9,0],[7,1,9,2],[7,3,9,3],[7,4,9,5],[7,6,9,6],[11,1,11,2],[11,4,11,5],[12,1,12,2],[12,4,12,5],[13,1,13,2],[13,4,13,5],[14,1,14,2],[14,4,14,5],[15,1,15,2],[15,4,15,5],[16,1,16,2],[16,4,16,5],[17,1,17,2],[17,4,17,5],[18,1,18,2],[18,4,18,5],[25,1,25,2],[25,4,25,5],[26,1,26,2],[26,4,26,5],[37,7,37,8],[30,1,30,2],[30,4,30,5],[27,1,27,2],[27,4,27,5],[28,1,28,2],[28,4,28,5],[29,1,29,2],[29,4,29,5],[39,4,39,8],[40,4,40,8],[41,4,41,8],[31,3,35,3],[103,0,103,10],[31,5,31,8],[32,5,32,8],[33,5,33,8],[34,5,34,8],[35,5,35,8]]}
[null,null,"победитель",null,null,"школьный",null,null,"Б"]
[null,null,"призёр",null,null,"муниципальный",null,null,"Э"]
[null,null,"участник",null,null,"региональный"]
[null,null,null,null,null,"федеральный"]
[null,null,null,null,null,"международный"]
["ПУБЛИКАЦИИ"]
[{"$f":"'Личные данные'!$A$9","v":"ЭЛЕКТРОННОЕ                "},null,{"$f":"'Личные данные'!$C$9","v":"ПОРТФОЛИО"},null,{"$f":"титульный!$D$57","v":"Антонова Светлана Степановна"},null,null,{"$f":"титульный!$D$58","v":"МБОУ \"СОШ№11\""}]
["№п\\п","Название публикации",null,"Где опубликовано","Уровень",null,"Форма публикации","класс","Балл","Номер в приложении"]
[]
[]
[null,null,null,null,null,null,null,null,null,null,null,"Результат","уровень","Форма"]
[1,"Тангарм. Семь хитроумных фигур",null,"Иркутский региональный педклуб \"Перспектива\"","региональный",null,"Э",1,{"$f":"M12*N12","v":1.5},"8.",{"$f":"IF(B12<>0,A12,\" \")","v":1},{"$f":"IF(D12=$C$1,Информационный!$Q$19,IF(D12=$C$2,Информационный!$R$19,IF(Публикации!D12=Публикации!$C$3,Информационный!$S$19,0)))","v":0},{"$f":"IF(E12=$F$5,Информационный!$I$19,IF(E12=$F$4,Информационный!$I$18,IF(E12=$F$3,Информационный!$I$17,IF(E12=$F$2,Информационный!$I$16,IF(E12=$F$1,Информационный!$I$15,0)))))","v":3},{"$f":"IF(G12=$I$1,Информационный!$X$11,IF(G12=$I$2,Информационный!$X$12,0))","v":0.5}]
[2,null,null,null,null,null,null,null,{"$f":"M13*N13","v":0},"8.",{"$f":"IF(B13<>0,A13,\" \")","v":" "},{"$f":"IF(D13=$C$1,Информационный!$Q$19,IF(D13=$C$2,Информационный!$R$19,IF(Публикации!D13=Публикации!$C$3,Информационный!$S$19,0)))","v":0},{"$f":"IF(E13=$F$5,Информационный!$I$19,IF(E13=$F$4,Информационный!$I$18,IF(E13=$F$3,Информационный!$I$17,IF(E13=$F$2,Информационный!$I$16,IF(E13=$F$1,Информационный!$I$15,0)))))","v":0},{"$f":"IF(G13=$I$1,Информационный!$X$11,IF(G13=$I$2,Информационный!$X$12,0))","v":0}]
[3,null,null,null,null,null,null,null,0,"8."," ",{"$f":"IF(D14=$C$1,Информационный!$Q$19,IF(D14=$C$2,Информационный!$R$19,IF(Публикации!D14=Публикации!$C$3,Информационный!$S$19,0)))","v":0},{"$f":"IF(E14=$F$5,Информационный!$I$19,IF(E14=$F$4,Информационный!$I$18,IF(E14=$F$3,Информационный!$I$17,IF(E14=$F$2,Информационный!$I$16,IF(E14=$F$1,Информационный!$I$15,0)))))","v":0},{"$f":"IF(G14=$I$1,Информационный!$X$11,IF(G14=$I$2,Информационный!$X$12,0))","v":0}]
[4,null,null,null,null,null,null,null,0,"8."," ",{"$f":"IF(D15=$C$1,Информационный!$Q$19,IF(D15=$C$2,Информационный!$R$19,IF(Публикации!D15=Публикации!$C$3,Информационный!$S$19,0)))","v":0},{"$f":"IF(E15=$F$5,Информационный!$I$19,IF(E15=$F$4,Информационный!$I$18,IF(E15=$F$3,Информационный!$I$17,IF(E15=$F$2,Информационный!$I$16,IF(E15=$F$1,Информационный!$I$15,0)))))","v":0},{"$f":"IF(G15=$I$1,Информационный!$X$11,IF(G15=$I$2,Информационный!$X$12,0))","v":0}]
[5,null,null,null,null,null,null,null,0,"8."," ",{"$f":"IF(D16=$C$1,Информационный!$Q$19,IF(D16=$C$2,Информационный!$R$19,IF(Публикации!D16=Публикации!$C$3,Информационный!$S$19,0)))","v":0},{"$f":"IF(E16=$F$5,Информационный!$I$19,IF(E16=$F$4,Информационный!$I$18,IF(E16=$F$3,Информационный!$I$17,IF(E16=$F$2,Информационный!$I$16,IF(E16=$F$1,Информационный!$I$15,0)))))","v":0},{"$f":"IF(G16=$I$1,Информационный!$X$11,IF(G16=$I$2,Информационный!$X$12,0))","v":0}]
[6,null,null,null,null,null,null,null,0,"8."," ",{"$f":"IF(D17=$C$1,Информационный!$Q$19,IF(D17=$C$2,Информационный!$R$19,IF(Публикации!D17=Публикации!$C$3,Информационный!$S$19,0)))","v":0},{"$f":"IF(E17=$F$5,Информационный!$I$19,IF(E17=$F$4,Информационный!$I$18,IF(E17=$F$3,Информационный!$I$17,IF(E17=$F$2,Информационный!$I$16,IF(E17=$F$1,Информационный!$I$15,0)))))","v":0},{"$f":"IF(G17=$I$1,Информационный!$X$11,IF(G17=$I$2,Информационный!$X$12,0))","v":0}]
[7,null,null,null,null,null,null,null,0,"8."," ",{"$f":"IF(D18=$C$1,Информационный!$Q$19,IF(D18=$C$2,Информационный!$R$19,IF(Публикации!D18=Публикации!$C$3,Информационный!$S$19,0)))","v":0},{"$f":"IF(E18=$F$5,Информационный!$I$19,IF(E18=$F$4,Информационный!$I$18,IF(E18=$F$3,Информационный!$I$17,IF(E18=$F$2,Информационный!$I$16,IF(E18=$F$1,Информационный!$I$15,0)))))","v":0},{"$f":"IF(G18=$I$1,Информационный!$X$11,IF(G18=$I$2,Информационный!$X$12,0))","v":0}]
[8,null,null,null,null,null,null,null,0,"8."," ",{"$f":"IF(D19=$C$1,Информационный!$Q$19,IF(D19=$C$2,Информационный!$R$19,IF(Публикации!D19=Публикации!$C$3,Информационный!$S$19,0)))","v":0},{"$f":"IF(E19=$F$5,Информационный!$I$19,IF(E19=$F$4,Информационный!$I$18,IF(E19=$F$3,Информационный!$I$17,IF(E19=$F$2,Информационный!$I$16,IF(E19=$F$1,Информационный!$I$15,0)))))","v":0},{"$f":"IF(G19=$I$1,Информационный!$X$11,IF(G19=$I$2,Информационный!$X$12,0))","v":0}]
[9,null,null,null,null,null,null,null,0,"8."," ",{"$f":"IF(D20=$C$1,Информационный!$Q$19,IF(D20=$C$2,Информационный!$R$19,IF(Публикации!D20=Публикации!$C$3,Информационный!$S$19,0)))","v":0},{"$f":"IF(E20=$F$5,Информационный!$I$19,IF(E20=$F$4,Информационный!$I$18,IF(E20=$F$3,Информационный!$I$17,IF(E20=$F$2,Информационный!$I$16,IF(E20=$F$1,Информационный!$I$15,0)))))","v":0},{"$f":"IF(G20=$I$1,Информационный!$X$11,IF(G20=$I$2,Информационный!$X$12,0))","v":0}]
[10,null,null,null,null,null,null,null,0,"8."," ",{"$f":"IF(D21=$C$1,Информационный!$Q$19,IF(D21=$C$2,Информационный!$R$19,IF(Публикации!D21=Публикации!$C$3,Информационный!$S$19,0)))","v":0},{"$f":"IF(E21=$F$5,Информационный!$I$19,IF(E21=$F$4,Информационный!$I$18,IF(E21=$F$3,Информационный!$I$17,IF(E21=$F$2,Информационный!$I$16,IF(E21=$F$1,Информационный!$I$15,0)))))","v":0},{"$f":"IF(G21=$I$1,Информационный!$X$11,IF(G21=$I$2,Информационный!$X$12,0))","v":0}]
[11,null,null,null,null,null,null,null,0,"8."," ",{"$f":"IF(D22=$C$1,Информационный!$Q$19,IF(D22=$C$2,Информационный!$R$19,IF(Публикации!D22=Публикации!$C$3,Информационный!$S$19,0)))","v":0},{"$f":"IF(E22=$F$5,Информационный!$I$19,IF(E22=$F$4,Информационный!$I$18,IF(E22=$F$3,Информационный!$I$17,IF(E22=$F$2,Информационный!$I$16,IF(E22=$F$1,Информационный!$I$15,0)))))","v":0},{"$f":"IF(G22=$I$1,Информационный!$X$11,IF(G22=$I$2,Информационный!$X$12,0))","v":0}]
[12,null,null,null,null,null,null,null,0,"8."," ",{"$f":"IF(D23=$C$1,Информационный!$Q$19,IF(D23=$C$2,Информационный!$R$19,IF(Публикации!D23=Публикации!$C$3,Информационный!$S$19,0)))","v":0},{"$f":"IF(E23=$F$5,Информационный!$I$19,IF(E23=$F$4,Информационный!$I$18,IF(E23=$F$3,Информационный!$I$17,IF(E23=$F$2,Информационный!$I$16,IF(E23=$F$1,Информационный!$I$15,0)))))","v":0},{"$f":"IF(G23=$I$1,Информационный!$X$11,IF(G23=$I$2,Информационный!$X$12,0))","v":0}]
[13,null,null,null,null,null,null,null,0,"8."," ",{"$f":"IF(D24=$C$1,Информационный!$Q$19,IF(D24=$C$2,Информационный!$R$19,IF(Публикации!D24=Публикации!$C$3,Информационный!$S$19,0)))","v":0},{"$f":"IF(E24=$F$5,Информационный!$I$19,IF(E24=$F$4,Информационный!$I$18,IF(E24=$F$3,Информационный!$I$17,IF(E24=$F$2,Информационный!$I$16,IF(E24=$F$1,Информационный!$I$15,0)))))","v":0},{"$f":"IF(G24=$I$1,Информационный!$X$11,IF(G24=$I$2,Информационный!$X$12,0))","v":0}]
[14,null,null,null,null,null,null,null,0,"8."," ",{"$f":"IF(D25=$C$1,Информационный!$Q$19,IF(D25=$C$2,Информационный!$R$19,IF(Публикации!D25=Публикации!$C$3,Информационный!$S$19,0)))","v":0},{"$f":"IF(E25=$F$5,Информационный!$I$19,IF(E25=$F$4,Информационный!$I$18,IF(E25=$F$3,Информационный!$I$17,IF(E25=$F$2,Информационный!$I$16,IF(E25=$F$1,Информационный!$I$15,0)))))","v":0},{"$f":"IF(G25=$I$1,Информационный!$X$11,IF(G25=$I$2,Информационный!$X$12,0))","v":0}]
[15,null,null,null,null,null,null,null,0,"8."," ",{"$f":"IF(D26=$C$1,Информационный!$Q$19,IF(D26=$C$2,Информационный!$R$19,IF(Публикации!D26=Публикации!$C$3,Информационный!$S$19,0)))","v":0},{"$f":"IF(E26=$F$5,Информационный!$I$19,IF(E26=$F$4,Информационный!$I$18,IF(E26=$F$3,Информационный!$I$17,IF(E26=$F$2,Информационный!$I$16,IF(E26=$F$1,Информационный!$I$15,0)))))","v":0},{"$f":"IF(G26=$I$1,Информационный!$X$11,IF(G26=$I$2,Информационный!$X$12,0))","v":0}]
[16,null,null,null,null,null,null,null,0,"8."," ",{"$f":"IF(D27=$C$1,Информационный!$Q$19,IF(D27=$C$2,Информационный!$R$19,IF(Публикации!D27=Публикации!$C$3,Информационный!$S$19,0)))","v":0},{"$f":"IF(E27=$F$5,Информационный!$I$19,IF(E27=$F$4,Информационный!$I$18,IF(E27=$F$3,Информационный!$I$17,IF(E27=$F$2,Информационный!$I$16,IF(E27=$F$1,Информационный!$I$15,0)))))","v":0},{"$f":"IF(G27=$I$1,Информационный!$X$11,IF(G27=$I$2,Информационный!$X$12,0))","v":0}]
[17,null,null,null,null,null,null,null,0,"8."," ",{"$f":"IF(D28=$C$1,Информационный!$Q$19,IF(D28=$C$2,Информационный!$R$19,IF(Публикации!D28=Публикации!$C$3,Информационный!$S$19,0)))","v":0},{"$f":"IF(E28=$F$5,Информационный!$I$19,IF(E28=$F$4,Информационный!$I$18,IF(E28=$F$3,Информационный!$I$17,IF(E28=$F$2,Информационный!$I$16,IF(E28=$F$1,Информационный!$I$15,0)))))","v":0},{"$f":"IF(G28=$I$1,Информационный!$X$11,IF(G28=$I$2,Информационный!$X$12,0))","v":0}]
[18,null,null,null,null,null,null,null,0,"8."," ",{"$f":"IF(D29=$C$1,Информационный!$Q$19,IF(D29=$C$2,Информационный!$R$19,IF(Публикации!D29=Публикации!$C$3,Информационный!$S$19,0)))","v":0},{"$f":"IF(E29=$F$5,Информационный!$I$19,IF(E29=$F$4,Информационный!$I$18,IF(E29=$F$3,Информационный!$I$17,IF(E29=$F$2,Информационный!$I$16,IF(E29=$F$1,Информационный!$I$15,0)))))","v":0},{"$f":"IF(G29=$I$1,Информационный!$X$11,IF(G29=$I$2,Информационный!$X$12,0))","v":0}]
[19,null,null,null,null,null,null,null,0,"8."," ",{"$f":"IF(D30=$C$1,Информационный!$Q$19,IF(D30=$C$2,Информационный!$R$19,IF(Публикации!D30=Публикации!$C$3,Информационный!$S$19,0)))","v":0},{"$f":"IF(E30=$F$5,Информационный!$I$19,IF(E30=$F$4,Информационный!$I$18,IF(E30=$F$3,Информационный!$I$17,IF(E30=$F$2,Информационный!$I$16,IF(E30=$F$1,Информационный!$I$15,0)))))","v":0},{"$f":"IF(G30=$I$1,Информационный!$X$11,IF(G30=$I$2,Информационный!$X$12,0))","v":0}]
[20,null,null,null,null,null,null,null,0,"8."," ",{"$f":"IF(D31=$C$1,Информационный!$Q$19,IF(D31=$C$2,Информационный!$R$19,IF(Публикации!D31=Публикации!$C$3,Информационный!$S$19,0)))","v":0},{"$f":"IF(E31=$F$5,Информационный!$I$19,IF(E31=$F$4,Информационный!$I$18,IF(E31=$F$3,Информационный!$I$17,IF(E31=$F$2,Информационный!$I$16,IF(E31=$F$1,Информационный!$I$15,0)))))","v":0},{"$f":"IF(G31=$I$1,Информационный!$X$11,IF(G31=$I$2,Информационный!$X$12,0))","v":0}]
[null,null,null,"Уровень публикации",{"$f":"COUNTIF($E$12:$E$31,\"школьный\")","v":0},{"$f":"F1","v":"школьный"}]
[null,null,null,null,{"$f":"COUNTIF($E$12:$E$31,\"муниципальный\")","v":0},{"$f":"F2","v":"муниципальный"}]
[null,null,null,null,{"$f":"COUNTIF($E$12:$E$31,\"региональный\")","v":1},{"$f":"F3","v":"региональный"}]
[null,null,null,null,{"$f":"COUNTIF($E$12:$E$31,\"всероссийский\")","v":0},{"$f":"F4","v":"федеральный"}]
[null,null,null,null,{"$f":"COUNTIF($E$12:$E$31,\"международный\")","v":0},{"$f":"F5","v":"международный"}]
[]
[null,null,null,null,null,null,null,{"$f":"NOW()","v":"2019-08-24T15:19:23.810"}]
[]
[null,null,null,null,{"$f":"'Информация о школе'!$A$22","v":"Классный руководитель"}]
[null,null,null,null,"/_________________/"]
[null,null,null,null,{"$f":"'Информация о школе'!$D$22","v":"Главаля Ирина Геннадьевна"}]
[]
[]
[]
[]
[]
[]
[]
[]
[]
[]
[]
[]
[null,null,null,null,null,null,null,"1 класс",{"$f":"SUMIF($H$12:$H$31,\"1\",$I$12:$I$31)","v":1.5}]
[null,null,null,null,null,null,null,"2 класс",{"$f":"SUMIF($H$12:$H$31,\"2\",$I$12:$I$31)","v":0}]
[null,null,null,null,null,null,null,"3 класс",{"$f":"SUMIF($H$12:$H$31,\"3\",$I$12:$I$31)","v":0}]
[null,null,null,null,null,null,null,"4 класс",{"$f":"SUMIF($H$12:$H$31,\"4\",$I$12:$I$31)","v":0}]
[null,null,null,null,null,null,null,"5 класс",{"$f":"SUMIF($H$12:$H$31,\"5\",$I$12:$I$31)","v":0}]
[null,null,null,null,null,null,null,"6 класс",{"$f":"SUMIF($H$12:$H$31,\"6\",$I$12:$I$31)","v":0}]
[null,null,null,null,null,null,null,"7 класс",{"$f":"SUMIF($H$12:$H$31,\"7\",$I$12:$I$31)","v":0}]
[null,null,null,null,null,null,null,"8 класс",{"$f":"SUMIF($H$12:$H$31,\"81\",$I$12:$I$31)","v":0}]
[null,null,null,null,null,null,null,"9 класс",{"$f":"SUMIF($H$12:$H$31,\"9\",$I$12:$I$31)","v":0}]
[null,null,null,null,null,null,null,"10 класс",{"$f":"SUMIF($H$12:$H$31,\"10\",$I$12:$I$31)","v":0}]
[null,null,null,null,null,null,null,"11 класс",{"$f":"SUMIF($H$12:$H$31,\"11\",$I$12:$I$31)","v":0}]
[]
[]
[]
[]
[]
[]
[]
[]
[]
[]
[]
[]
[]
[]
[]
[]
[]
[]
[]
[]
[]
[]
[]
[]
[]
[]
[]
[]
[]
[]
[]
[]
[]
[]
[]
[]
[]
[]
["Электронное портфолио учащегося"]

{"sheet":"Награды","index":11,"n_rows":134,"n_cols":14,"rows_kept":134,"cut":false,"hidden":false,"merged":[[23,1,23,2],[29,1,29,2],[30,1,30,2],[29,4,29,6],[30,4,30,6],[31,4,31,6],[32,4,32,6],[47,4,47,6],[21,4,21,6],[54,1,54,2],[6,4,6,6],[48,1,48,2],[49,1,49,2],[50,1,50,2],[51,1,51,2],[52,1,52,2],[53,1,53,2],[42,1,42,2],[44,1,44,2],[36,1,36,2],[45,1,45,2],[46,1,46,2],[47,1,47,2],[43,1,43,2],[41,1,41,2],[34,1,34,2],[37,1,37,2],[37,4,37,6],[38,4,38,6],[39,4,39,6],[40,4,40,6],[41,4,41,6],[42,4,42,6],[57,4,57,6],[52,4,52,6],[33,4,33,6],[67,7,67,8],[69,4,69,8],[59,4,59,6],[31,1,31,2],[32,1,32,2],[33,1,33,2],[48,4,48,6],[49,4,49,6],[50,4,50,6],[51,4,51,6],[34,4,34,6],[43,4,43,6],[44,4,44,6],[45,4,45,6],[46,4,46,6],[38,1,38,2],[39,1,39,2],[40,1,40,2],[55,1,55,2],[56,1,56,2],[36,4,36,6],[70,4,70,8],[71,4,71,8],[133,0,133,10],[61,3,65,3],[61,5,61,8],[62,5,62,8],[63,5,63,8],[7,4,9,6],[11,4,11,6],[12,4,12,6],[13,4,13,6],[14,4,14,6],[60,1,60,2],[17,4,17,6],[18,4,18,6],[19,4,19,6],[20,4,20,6],[64,5,64,8],[65,5,65,8],[60,4,60,6],[57,1,57,2],[58,1,58,2],[59,1,59,2],[58,4,58,6],[53,4,53,6],[54,4,54,6],[55,4,55,6],[56,4,56,6],[15,1,15,2],[16,1,16,2],[35,1,35,2],[15,4,15,6],[16,4,16,6],[35,4,35,6],[22,4,22,6],[24,4,24,6],[23,4,23,6],[25,4,25,6],[26,4,26,6],[27,4,27,6],[28,4,28,6],[24,1,24,2],[25,1,25,2],[26,1,26,2],[27,1,27,2],[28,1,28,2],[17,1,17,2],[18,1,18,2],[19,1,19,2],[20,1,20,2],[21,1,21,2],[22,1,22,2],[10,0,10,8],[10,9,10,10],[11,1,11,2],[12,1,12,2],[13,1,13,2],[14,1,14,2],[5,0,5,9],[6,0,6,1],[6,2,6,3],[6,7,6,10],[7,0,9,0],[7,1,9,2],[7,3,9,3],[7,7,9,7],[7,8,9,8],[7,9,9,10]]}
["благодарность",null,"победитель",null,null,"школьный",null,null,"Б"]
["грамота",null,"призёр",null,null,"муниципальный",null,null,"Э"]
[null,null,"участник",null,null,"региональный"]
[null,null,null,null,null,"федеральный"]
[null,null,null,null,null,"международный"]
["БЛАГОДАРНОСТИ, ГРАМОТЫ, НАГРАДЫ"]
[{"$f":"'Личные данные'!$A$9","v":"ЭЛЕКТРОННОЕ                "},null,{"$f":"'Личные данные'!$C$9","v":"ПОРТФОЛИО"},null,{"$f":"титульный!$D$57","v":"Антонова Светлана Степановна"},null,null,{"$f":"титульный!$D$58","v":"МБОУ \"СОШ№11\""}]
["№п\\п","Название поощрения",null,"Вид поощрения","Уровень",null,null,"класс","Балл","Номер в приложении"]
[]
[]
[null,null,null,null,null,null,null,null,null,null,null,"Результат","уровень","Форма"]
[1,"Похвальная грамота за успехи в учёбе и активность",null,"грамота","школьный",null,null,1,{"$f":"M12","v":1},"9.",{"$f":"IF(B12<>0,A12,\" \")","v":1},{"$f":"IF(D12=$C$1,Информационный!$Q$19,IF(D12=$C$2,Информационный!$R$19,IF(Награды!D12=Награды!$C$3,Информационный!$S$19,0)))","v":0},{"$f":"IF(E12=$F$5,Информационный!$I$19,IF(E12=$F$4,Информационный!$I$18,IF(E12=$F$3,Информационный!$I$17,IF(E12=$F$2,Информационный!$I$16,IF(E12=$F$1,Информационный!$I$15,0)))))","v":1},{"$f":"IF(G12=$I$1,Информационный!$X$11,IF(G12=$I$2,Информационный!$X$12,0))","v":0}]
[2,"Похвальная грамота за успехи в учёбе и активность",null,"грамота","школьный",null,null,3,{"$f":"M13","v":1},"9.",2,{"$f":"IF(D13=$C$1,Информационный!$Q$19,IF(D13=$C$2,Информационный!$R$19,IF(Награды!D13=Награды!$C$3,Информационный!$S$19,0)))","v":0},{"$f":"IF(E13=$F$5,Информационный!$I$19,IF(E13=$F$4,Информационный!$I$18,IF(E13=$F$3,Информационный!$I$17,IF(E13=$F$2,Информационный!$I$16,IF(E13=$F$1,Информационный!$I$15,0)))))","v":1},{"$f":"IF(G13=$I$1,Информационный!$X$11,IF(G13=$I$2,Информационный!$X$12,0))","v":0}]
[3,"Победителю муниципальных олимпиад",null,"грамота","школьный",null,null,4,1,"9.",3,{"$f":"IF(D14=$C$1,Информационный!$Q$19,IF(D14=$C$2,Информационный!$R$19,IF(Награды!D14=Награды!$C$3,Информационный!$S$19,0)))","v":0},{"$f":"IF(E14=$F$5,Информационный!$I$19,IF(E14=$F$4,Информационный!$I$18,IF(E14=$F$3,Информационный!$I$17,IF(E14=$F$2,Информационный!$I$16,IF(E14=$F$1,Информационный!$I$15,0)))))","v":1},{"$f":"IF(G14=$I$1,Информационный!$X$11,IF(G14=$I$2,Информационный!$X$12,0))","v":0}]
[4,"За хорошую учёбу и активность",null,"грамота","школьный",null,null,5,1,"9.",4,{"$f":"IF(D15=$C$1,Информационный!$Q$19,IF(D15=$C$2,Информационный!$R$19,IF(Награды!D15=Награды!$C$3,Информационный!$S$19,0)))","v":0},{"$f":"IF(E15=$F$5,Информационный!$I$19,IF(E15=$F$4,Информационный!$I$18,IF(E15=$F$3,Информационный!$I$17,IF(E15=$F$2,Информационный!$I$16,IF(E15=$F$1,Информационный!$I$15,0)))))","v":1},{"$f":"IF(G15=$I$1,Информационный!$X$11,IF(G15=$I$2,Информационный!$X$12,0))","v":0}]
[5,"За хорошую учёбу и активность",null,"грамота","школьный",null,null,6,1,"9.",5,{"$f":"IF(D16=$C$1,Информационный!$Q$19,IF(D16=$C$2,Информационный!$R$19,IF(Награды!D16=Награды!$C$3,Информационный!$S$19,0)))","v":0},{"$f":"IF(E16=$F$5,Информационный!$I$19,IF(E16=$F$4,Информационный!$I$18,IF(E16=$F$3,Информационный!$I$17,IF(E16=$F$2,Информационный!$I$16,IF(E16=$F$1,Информационный!$I$15,0)))))","v":1},{"$f":"IF(G16=$I$1,Информационный!$X$11,IF(G16=$I$2,Информационный!$X$12,0))","v":0}]
[6,"За хорошую учёбу и активность",null,"грамота","школьный",null,null,7,1,"9.",6,{"$f":"IF(D17=$C$1,Информационный!$Q$19,IF(D17=$C$2,Информационный!$R$19,IF(Награды!D17=Награды!$C$3,Информационный!$S$19,0)))","v":0},{"$f":"IF(E17=$F$5,Информационный!$I$19,IF(E17=$F$4,Информационный!$I$18,IF(E17=$F$3,Информационный!$I$17,IF(E17=$F$2,Информационный!$I$16,IF(E17=$F$1,Информационный!$I$15,0)))))","v":1},{"$f":"IF(G17=$I$1,Информационный!$X$11,IF(G17=$I$2,Информационный!$X$12,0))","v":0}]
[7,"За отличную учёбу и активность",null,"грамота","школьный",null,null,8,1,"9.",null,{"$f":"IF(D18=$C$1,Информационный!$Q$19,IF(D18=$C$2,Информационный!$R$19,IF(Награды!D18=Награды!$C$3,Информационный!$S$19,0)))","v":0},{"$f":"IF(E18=$F$5,Информационный!$I$19,IF(E18=$F$4,Информационный!$I$18,IF(E18=$F$3,Информационный!$I$17,IF(E18=$F$2,Информационный!$I$16,IF(E18=$F$1,Информационный!$I$15,0)))))","v":1},{"$f":"IF(G18=$I$1,Информационный!$X$11,IF(G18=$I$2,Информационный!$X$12,0))","v":0}]
[8,"Ангарский покров",null,"благодарность","муниципальный",null,null,6,2,"9.",null,{"$f":"IF(D19=$C$1,Информационный!$Q$19,IF(D19=$C$2,Информационный!$R$19,IF(Награды!D19=Награды!$C$3,Информационный!$S$19,0)))","v":0},{"$f":"IF(E19=$F$5,Информационный!$I$19,IF(E19=$F$4,Информационный!$I$18,IF(E19=$F$3,Информационный!$I$17,IF(E19=$F$2,Информационный!$I$16,IF(E19=$F$1,Информационный!$I$15,0)))))","v":2},{"$f":"IF(G19=$I$1,Информационный!$X$11,IF(G19=$I$2,Информационный!$X$12,0))","v":0}]
[9,"За отличные успехи и активную деятельность",null,"благодарность","муниципальный",null,null,8,2,"9.",null,{"$f":"IF(D20=$C$1,Информационный!$Q$19,IF(D20=$C$2,Информационный!$R$19,IF(Награды!D20=Награды!$C$3,Информационный!$S$19,0)))","v":0},{"$f":"IF(E20=$F$5,Информационный!$I$19,IF(E20=$F$4,Информационный!$I$18,IF(E20=$F$3,Информационный!$I$17,IF(E20=$F$2,Информационный!$I$16,IF(E20=$F$1,Информационный!$I$15,0)))))","v":2},{"$f":"IF(G20=$I$1,Информационный!$X$11,IF(G20=$I$2,Информационный!$X$12,0))","v":0}]
[10,"За отличные показатели в обучении  в худ школе",null,"благодарность","муниципальный",null,null,8,2,"9.",null,{"$f":"IF(D21=$C$1,Информационный!$Q$19,IF(D21=$C$2,Информационный!$R$19,IF(Награды!D21=Награды!$C$3,Информационный!$S$19,0)))","v":0},{"$f":"IF(E21=$F$5,Информационный!$I$19,IF(E21=$F$4,Информационный!$I$18,IF(E21=$F$3,Информационный!$I$17,IF(E21=$F$2,Информационный!$I$16,IF(E21=$F$1,Информационный!$I$15,0)))))","v":2},{"$f":"IF(G21=$I$1,Информационный!$X$11,IF(G21=$I$2,Информационный!$X$12,0))","v":0}]
[11,"За активное участие и творческие успхи в кружке \"Начало\"",null,"благодарность","муниципальный",null,null,6,2,"9.",null,{"$f":"IF(D22=$C$1,Информационный!$Q$19,IF(D22=$C$2,Информационный!$R$19,IF(Награды!D22=Награды!$C$3,Информационный!$S$19,0)))","v":0},{"$f":"IF(E22=$F$5,Информационный!$I$19,IF(E22=$F$4,Информационный!$I$18,IF(E22=$F$3,Информационный!$I$17,IF(E22=$F$2,Информационный!$I$16,IF(E22=$F$1,Информационный!$I$15,0)))))","v":2},{"$f":"IF(G22=$I$1,Информационный!$X$11,IF(G22=$I$2,Информационный!$X$12,0))","v":0}]
[12,null,null,null,null,null,null,null,0,"9.",null,{"$f":"IF(D23=$C$1,Информационный!$Q$19,IF(D23=$C$2,Информационный!$R$19,IF(Награды!D23=Награды!$C$3,Информационный!$S$19,0)))","v":0},{"$f":"IF(E23=$F$5,Информационный!$I$19,IF(E23=$F$4,Информационный!$I$18,IF(E23=$F$3,Информационный!$I$17,IF(E23=$F$2,Информационный!$I$16,IF(E23=$F$1,Информационный!$I$15,0)))))","v":0},{"$f":"IF(G23=$I$1,Информационный!$X$11,IF(G23=$I$2,Информационный!$X$12,0))","v":0}]
[13,null,null,null,null,null,null,null,0,"9.",null,{"$f":"IF(D24=$C$1,Информационный!$Q$19,IF(D24=$C$2,Информационный!$R$19,IF(Награды!D24=Награды!$C$3,Информационный!$S$19,0)))","v":0},{"$f":"IF(E24=$F$5,Информационный!$I$19,IF(E24=$F$4,Информационный!$I$18,IF(E24=$F$3,Информационный!$I$17,IF(E24=$F$2,Информационный!$I$16,IF(E24=$F$1,Информационный!$I$15,0)))))","v":0},{"$f":"IF(G24=$I$1,Информационный!$X$11,IF(G24=$I$2,Информационный!$X$12,0))","v":0}]
[14,null,null,null,null,null,null,null,0,"9.",null,{"$f":"IF(D25=$C$1,Информационный!$Q$19,IF(D25=$C$2,Информационный!$R$19,IF(Награды!D25=Награды!$C$3,Информационный!$S$19,0)))","v":0},{"$f":"IF(E25=$F$5,Информационный!$I$19,IF(E25=$F$4,Информационный!$I$18,IF(E25=$F$3,Информационный!$I$17,IF(E25=$F$2,Информационный!$I$16,IF(E25=$F$1,Информационный!$I$15,0)))))","v":0},{"$f":"IF(G25=$I$1,Информационный!$X$11,IF(G25=$I$2,Информационный!$X$12,0))","v":0}]
[15,null,null,null,null,null,null,null,0,"9.",null,{"$f":"IF(D26=$C$1,Информационный!$Q$19,IF(D26=$C$2,Информационный!$R$19,IF(Награды!D26=Награды!$C$3,Информационный!$S$19,0)))","v":0},{"$f":"IF(E26=$F$5,Информационный!$I$19,IF(E26=$F$4,Информационный!$I$18,IF(E26=$F$3,Информационный!$I$17,IF(E26=$F$2,Информационный!$I$16,IF(E26=$F$1,Информационный!$I$15,0)))))","v":0},{"$f":"IF(G26=$I$1,Информационный!$X$11,IF(G26=$I$2,Информационный!$X$12,0))","v":0}]
[16,null,null,null,null,null,null,null,0,"9.",null,{"$f":"IF(D27=$C$1,Информационный!$Q$19,IF(D27=$C$2,Информационный!$R$19,IF(Награды!D27=Награды!$C$3,Информационный!$S$19,0)))","v":0},{"$f":"IF(E27=$F$5,Информационный!$I$19,IF(E27=$F$4,Информационный!$I$18,IF(E27=$F$3,Информационный!$I$17,IF(E27=$F$2,Информационный!$I$16,IF(E27=$F$1,Информационный!$I$15,0)))))","v":0},{"$f":"IF(G27=$I$1,Информационный!$X$11,IF(G27=$I$2,Информационный!$X$12,0))","v":0}]
[17,null,null,null,null,null,null,null,0,"9.",null,{"$f":"IF(D28=$C$1,Информационный!$Q$19,IF(D28=$C$2,Информационный!$R$19,IF(Награды!D28=Награды!$C$3,Информационный!$S$19,0)))","v":0},{"$f":"IF(E28=$F$5,Информационный!$I$19,IF(E28=$F$4,Информационный!$I$18,IF(E28=$F$3,Информационный!$I$17,IF(E28=$F$2,Информационный!$I$16,IF(E28=$F$1,Информационный!$I$15,0)))))","v":0},{"$f":"IF(G28=$I$1,Информационный!$X$11,IF(G28=$I$2,Информационный!$X$12,0))","v":0}]
[18,null,null,null,null,null,null,null,0,"9.",null,{"$f":"IF(D29=$C$1,Информационный!$Q$19,IF(D29=$C$2,Информационный!$R$19,IF(Награды!D29=Награды!$C$3,Информационный!$S$19,0)))","v":0},{"$f":"IF(E29=$F$5,Информационный!$I$19,IF(E29=$F$4,Информационный!$I$18,IF(E29=$F$3,Информационный!$I$17,IF(E29=$F$2,Информационный!$I$16,IF(E29=$F$1,Информационный!$I$15,0)))))","v":0},{"$f":"IF(G29=$I$1,Информационный!$X$11,IF(G29=$I$2,Информационный!$X$12,0))","v":0}]
[19,null,null,null,null,null,null,null,0,"9.",null,{"$f":"IF(D30=$C$1,Информационный!$Q$19,IF(D30=$C$2,Информационный!$R$19,IF(Награды!D30=Награды!$C$3,Информационный!$S$19,0)))","v":0},{"$f":"IF(E30=$F$5,Информационный!$I$19,IF(E30=$F$4,Информационный!$I$18,IF(E30=$F$3,Информационный!$I$17,IF(E30=$F$2,Информационный!$I$16,IF(E30=$F$1,Информационный!$I$15,0)))))","v":0},{"$f":"IF(G30=$I$1,Информационный!$X$11,IF(G30=$I$2,Информационный!$X$12,0))","v":0}]
[20,null,null,null,null,null,null,null,0,"9.",null,{"$f":"IF(D31=$C$1,Информационный!$Q$19,IF(D31=$C$2,Информационный!$R$19,IF(Награды!D31=Награды!$C$3,Информационный!$S$19,0)))","v":0},{"$f":"IF(E31=$F$5,Информационный!$I$19,IF(E31=$F$4,Информационный!$I$18,IF(E31=$F$3,Информационный!$I$17,IF(E31=$F$2,Информационный!$I$16,IF(E31=$F$1,Информационный!$I$15,0)))))","v":0},{"$f":"IF(G31=$I$1,Информационный!$X$11,IF(G31=$I$2,Информационный!$X$12,0))","v":0}]
[21,null,null,null,null,null,null,null,0,"9.",null,{"$f":"IF(D32=$C$1,Информационный!$Q$19,IF(D32=$C$2,Информационный!$R$19,IF(Награды!D32=Награды!$C$3,Информационный!$S$19,0)))","v":0},{"$f":"IF(E32=$F$5,Информационный!$I$19,IF(E32=$F$4,Информационный!$I$18,IF(E32=$F$3,Информационный!$I$17,IF(E32=$F$2,Информационный!$I$16,IF(E32=$F$1,Информационный!$I$15,0)))))","v":0},{"$f":"IF(G32=$I$1,Информационный!$X$11,IF(G32=$I$2,Информационный!$X$12,0))","v":0}]
[22,null,null,null,null,null,null,null,0,"9.",null,{"$f":"IF(D33=$C$1,Информационный!$Q$19,IF(D33=$C$2,Информационный!$R$19,IF(Награды!D33=Награды!$C$3,Информационный!$S$19,0)))","v":0},{"$f":"IF(E33=$F$5,Информационный!$I$19,IF(E33=$F$4,Информационный!$I$18,IF(E33=$F$3,Информационный!$I$17,IF(E33=$F$2,Информационный!$I$16,IF(E33=$F$1,Информационный!$I$15,0)))))","v":0},{"$f":"IF(G33=$I$1,Информационный!$X$11,IF(G33=$I$2,Информационный!$X$12,0))","v":0}]
[23,null,null,null,null,null,null,null,0,"9.",null,{"$f":"IF(D34=$C$1,Информационный!$Q$19,IF(D34=$C$2,Информационный!$R$19,IF(Награды!D34=Награды!$C$3,Информационный!$S$19,0)))","v":0},{"$f":"IF(E34=$F$5,Информационный!$I$19,IF(E34=$F$4,Информационный!$I$18,IF(E34=$F$3,Информационный!$I$17,IF(E34=$F$2,Информационный!$I$16,IF(E34=$F$1,Информационный!$I$15,0)))))","v":0},{"$f":"IF(G34=$I$1,Информационный!$X$11,IF(G34=$I$2,Информационный!$X$12,0))","v":0}]
[24,null,null,null,null,null,null,null,0,"9.",null,{"$f":"IF(D35=$C$1,Информационный!$Q$19,IF(D35=$C$2,Информационный!$R$19,IF(Награды!D35=Награды!$C$3,Информационный!$S$19,0)))","v":0},{"$f":"IF(E35=$F$5,Информационный!$I$19,IF(E35=$F$4,Информационный!$I$18,IF(E35=$F$3,Информационный!$I$17,IF(E35=$F$2,Информационный!$I$16,IF(E35=$F$1,Информационный!$I$15,0)))))","v":0},{"$f":"IF(G35=$I$1,Информационный!$X$11,IF(G35=$I$2,Информационный!$X$12,0))","v":0}]
[25,null,null,null,null,null,null,null,0,"9.",{"$f":"IF(B36<>0,A36,\" \")","v":" "},{"$f":"IF(D36=$C$1,Информационный!$Q$19,IF(D36=$C$2,Информационный!$R$19,IF(Награды!D36=Награды!$C$3,Информационный!$S$19,0)))","v":0},{"$f":"IF(E36=$F$5,Информационный!$I$19,IF(E36=$F$4,Информационный!$I$18,IF(E36=$F$3,Информационный!$I$17,IF(E36=$F$2,Информационный!$I$16,IF(E36=$F$1,Информационный!$I$15,0)))))","v":0},{"$f":"IF(G36=$I$1,Информационный!$X$11,IF(G36=$I$2,Информационный!$X$12,0))","v":0}]
[26,null,null,null,null,null,null,null,0,"9.",{"$f":"IF(B37<>0,A37,\" \")","v":" "},{"$f":"IF(D37=$C$1,Информационный!$Q$19,IF(D37=$C$2,Информационный!$R$19,IF(Награды!D37=Награды!$C$3,Информационный!$S$19,0)))","v":0},{"$f":"IF(E37=$F$5,Информационный!$I$19,IF(E37=$F$4,Информационный!$I$18,IF(E37=$F$3,Информационный!$I$17,IF(E37=$F$2,Информационный!$I$16,IF(E37=$F$1,Информационный!$I$15,0)))))","v":0},{"$f":"IF(G37=$I$1,Информационный!$X$11,IF(G37=$I$2,Информационный!$X$12,0))","v":0}]
[27,null,null,null,null,null,null,null,0,"9.",{"$f":"IF(B38<>0,A38,\" \")","v":" "},{"$f":"IF(D38=$C$1,Информационный!$Q$19,IF(D38=$C$2,Информационный!$R$19,IF(Награды!D38=Награды!$C$3,Информационный!$S$19,0)))","v":0},{"$f":"IF(E38=$F$5,Информационный!$I$19,IF(E38=$F$4,Информационный!$I$18,IF(E38=$F$3,Информационный!$I$17,IF(E38=$F$2,Информационный!$I$16,IF(E38=$F$1,Информационный!$I$15,0)))))","v":0},{"$f":"IF(G38=$I$1,Информационный!$X$11,IF(G38=$I$2,Информационный!$X$12,0))","v":0}]
[28,null,null,null,null,null,null,null,0,"9.",{"$f":"IF(B39<>0,A39,\" \")","v":" "},{"$f":"IF(D39=$C$1,Информационный!$Q$19,IF(D39=$C$2,Информационный!$R$19,IF(Награды!D39=Награды!$C$3,Информационный!$S$19,0)))","v":0},{"$f":"IF(E39=$F$5,Информационный!$I$19,IF(E39=$F$4,Информационный!$I$18,IF(E39=$F$3,Информационный!$I$17,IF(E39=$F$2,Информационный!$I$16,IF(E39=$F$1,Информационный!$I$15,0)))))","v":0},{"$f":"IF(G39=$I$1,Информационный!$X$11,IF(G39=$I$2,Информационный!$X$12,0))","v":0}]
[29,null,null,null,null,null,null,null,0,"9.",{"$f":"IF(B40<>0,A40,\" \")","v":" "},{"$f":"IF(D40=$C$1,Информационный!$Q$19,IF(D40=$C$2,Информационный!$R$19,IF(Награды!D40=Награды!$C$3,Информационный!$S$19,0)))","v":0},{"$f":"IF(E40=$F$5,Информационный!$I$19,IF(E40=$F$4,Информационный!$I$18,IF(E40=$F$3,Информационный!$I$17,IF(E40=$F$2,Информационный!$I$16,IF(E40=$F$1,Информационный!$I$15,0)))))","v":0},{"$f":"IF(G40=$I$1,Информационный!$X$11,IF(G40=$I$2,Информационный!$X$12,0))","v":0}]
[30,null,null,null,null,null,null,null,0,"9.",null,{"$f":"IF(D41=$C$1,Информационный!$Q$19,IF(D41=$C$2,Информационный!$R$19,IF(Награды!D41=Награды!$C$3,Информационный!$S$19,0)))","v":0},{"$f":"IF(E41=$F$5,Информационный!$I$19,IF(E41=$F$4,Информационный!$I$18,IF(E41=$F$3,Информационный!$I$17,IF(E41=$F$2,Информационный!$I$16,IF(E41=$F$1,Информационный!$I$15,0)))))","v":0},{"$f":"IF(G41=$I$1,Информационный!$X$11,IF(G41=$I$2,Информационный!$X$12,0))","v":0}]
[31,null,null,null,null,null,null,null,0,"9.",null,{"$f":"IF(D42=$C$1,Информационный!$Q$19,IF(D42=$C$2,Информационный!$R$19,IF(Награды!D42=Награды!$C$3,Информационный!$S$19,0)))","v":0},{"$f":"IF(E42=$F$5,Информационный!$I$19,IF(E42=$F$4,Информационный!$I$18,IF(E42=$F$3,Информационный!$I$17,IF(E42=$F$2,Информационный!$I$16,IF(E42=$F$1,Информационный!$I$15,0)))))","v":0},{"$f":"IF(G42=$I$1,Информационный!$X$11,IF(G42=$I$2,Информационный!$X$12,0))","v":0}]
[32,null,null,null,null,null,null,null,0,"9.",null,{"$f":"IF(D43=$C$1,Информационный!$Q$19,IF(D43=$C$2,Информационный!$R$19,IF(Награды!D43=Награды!$C$3,Информационный!$S$19,0)))","v":0},{"$f":"IF(E43=$F$5,Информационный!$I$19,IF(E43=$F$4,Информационный!$I$18,IF(E43=$F$3,Информационный!$I$17,IF(E43=$F$2,Информационный!$I$16,IF(E43=$F$1,Информационный!$I$15,0)))))","v":0},{"$f":"IF(G43=$I$1,Информационный!$X$11,IF(G43=$I$2,Информационный!$X$12,0))","v":0}]
[33,null,null,null,null,null,null,null,0,"9.",null,{"$f":"IF(D44=$C$1,Информационный!$Q$19,IF(D44=$C$2,Информационный!$R$19,IF(Награды!D44=Награды!$C$3,Информационный!$S$19,0)))","v":0},{"$f":"IF(E44=$F$5,Информационный!$I$19,IF(E44=$F$4,Информационный!$I$18,IF(E44=$F$3,Информационный!$I$17,IF(E44=$F$2,Информационный!$I$16,IF(E44=$F$1,Информационный!$I$15,0)))))","v":0},{"$f":"IF(G44=$I$1,Информационный!$X$11,IF(G44=$I$2,Информационный!$X$12,0))","v":0}]
[34,null,null,null,null,null,null,null,0,"9.",null,{"$f":"IF(D45=$C$1,Информационный!$Q$19,IF(D45=$C$2,Информационный!$R$19,IF(Награды!D45=Награды!$C$3,Информационный!$S$19,0)))","v":0},{"$f":"IF(E45=$F$5,Информационный!$I$19,IF(E45=$F$4,Информационный!$I$18,IF(E45=$F$3,Информационный!$I$17,IF(E45=$F$2,Информационный!$I$16,IF(E45=$F$1,Информационный!$I$15,0)))))","v":0},{"$f":"IF(G45=$I$1,Информационный!$X$11,IF(G45=$I$2,Информационный!$X$12,0))","v":0}]
[35,null,null,null,null,null,null,null,0,"9.",null,{"$f":"IF(D46=$C$1,Информационный!$Q$19,IF(D46=$C$2,Информационный!$R$19,IF(Награды!D46=Награды!$C$3,Информационный!$S$19,0)))","v":0},{"$f":"IF(E46=$F$5,Информационный!$I$19,IF(E46=$F$4,Информационный!$I$18,IF(E46=$F$3,Информационный!$I$17,IF(E46=$F$2,Информационный!$I$16,IF(E46=$F$1,Информационный!$I$15,0)))))","v":0},{"$f":"IF(G46=$I$1,Информационный!$X$11,IF(G46=$I$2,Информационный!$X$12,0))","v":0}]
[36,null,null,null,null,null,null,null,0,"9.",null,{"$f":"IF(D47=$C$1,Информационный!$Q$19,IF(D47=$C$2,Информационный!$R$19,IF(Награды!D47=Награды!$C$3,Информационный!$S$19,0)))","v":0},{"$f":"IF(E47=$F$5,Информационный!$I$19,IF(E47=$F$4,Информационный!$I$18,IF(E47=$F$3,Информационный!$I$17,IF(E47=$F$2,Информационный!$I$16,IF(E47=$F$1,Информационный!$I$15,0)))))","v":0},{"$f":"IF(G47=$I$1,Информационный!$X$11,IF(G47=$I$2,Информационный!$X$12,0))","v":0}]
[37,null,null,null,null,null,null,null,0,"9.",null,{"$f":"IF(D48=$C$1,Информационный!$Q$19,IF(D48=$C$2,Информационный!$R$19,IF(Награды!D48=Награды!$C$3,Информационный!$S$19,0)))","v":0},{"$f":"IF(E48=$F$5,Информационный!$I$19,IF(E48=$F$4,Информационный!$I$18,IF(E48=$F$3,Информационный!$I$17,IF(E48=$F$2,Информационный!$I$16,IF(E48=$F$1,Информационный!$I$15,0)))))","v":0},{"$f":"IF(G48=$I$1,Информационный!$X$11,IF(G48=$I$2,Информационный!$X$12,0))","v":0}]
[38,null,null,null,null,null,null,null,0,"9.",null,{"$f":"IF(D49=$C$1,Информационный!$Q$19,IF(D49=$C$2,Информационный!$R$19,IF(Награды!D49=Награды!$C$3,Информационный!$S$19,0)))","v":0},{"$f":"IF(E49=$F$5,Информационный!$I$19,IF(E49=$F$4,Информационный!$I$18,IF(E49=$F$3,Информационный!$I$17,IF(E49=$F$2,Информационный!$I$16,IF(E49=$F$1,Информационный!$I$15,0)))))","v":0},{"$f":"IF(G49=$I$1,Информационный!$X$11,IF(G49=$I$2,Информационный!$X$12,0))","v":0}]
[39,null,null,null,null,null,null,null,0,"9.",null,{"$f":"IF(D50=$C$1,Информационный!$Q$19,IF(D50=$C$2,Информационный!$R$19,IF(Награды!D50=Награды!$C$3,Информационный!$S$19,0)))","v":0},{"$f":"IF(E50=$F$5,Информационный!$I$19,IF(E50=$F$4,Информационный!$I$18,IF(E50=$F$3,Информационный!$I$17,IF(E50=$F$2,Информационный!$I$16,IF(E50=$F$1,Информационный!$I$15,0)))))","v":0},{"$f":"IF(G50=$I$1,Информационный!$X$11,IF(G50=$I$2,Информационный!$X$12,0))","v":0}]
[40,null,null,null,null,null,null,null,0,"9.",null,{"$f":"IF(D51=$C$1,Информационный!$Q$19,IF(D51=$C$2,Информационный!$R$19,IF(Награды!D51=Награды!$C$3,Информационный!$S$19,0)))","v":0},{"$f":"IF(E51=$F$5,Информационный!$I$19,IF(E51=$F$4,Информационный!$I$18,IF(E51=$F$3,Информационный!$I$17,IF(E51=$F$2,Информационный!$I$16,IF(E51=$F$1,Информационный!$I$15,0)))))","v":0},{"$f":"IF(G51=$I$1,Информационный!$X$11,IF(G51=$I$2,Информационный!$X$12,0))","v":0}]
[41,null,null,null,null,null,null,null,0,"9.",null,{"$f":"IF(D52=$C$1,Информационный!$Q$19,IF(D52=$C$2,Информационный!$R$19,IF(Награды!D52=Награды!$C$3,Информационный!$S$19,0)))","v":0},{"$f":"IF(E52=$F$5,Информационный!$I$19,IF(E52=$F$4,Информационный!$I$18,IF(E52=$F$3,Информационный!$I$17,IF(E52=$F$2,Информационный!$I$16,IF(E52=$F$1,Информационный!$I$15,0)))))","v":0},{"$f":"IF(G52=$I$1,Информационный!$X$11,IF(G52=$I$2,Информационный!$X$12,0))","v":0}]
[42,null,null,null,null,null,null,null,0,"9.",{"$f":"IF(B53<>0,A53,\" \")","v":" "},{"$f":"IF(D53=$C$1,Информационный!$Q$19,IF(D53=$C$2,Информационный!$R$19,IF(Награды!D53=Награды!$C$3,Информационный!$S$19,0)))","v":0},{"$f":"IF(E53=$F$5,Информационный!$I$19,IF(E53=$F$4,Информационный!$I$18,IF(E53=$F$3,Информационный!$I$17,IF(E53=$F$2,Информационный!$I$16,IF(E53=$F$1,Информационный!$I$15,0)))))","v":0},{"$f":"IF(G53=$I$1,Информационный!$X$11,IF(G53=$I$2,Информационный!$X$12,0))","v":0}]
[43,null,null,null,null,null,null,null,0,"9."," ",{"$f":"IF(D54=$C$1,Информационный!$Q$19,IF(D54=$C$2,Информационный!$R$19,IF(Награды!D54=Награды!$C$3,Информационный!$S$19,0)))","v":0},{"$f":"IF(E54=$F$5,Информационный!$I$19,IF(E54=$F$4,Информационный!$I$18,IF(E54=$F$3,Информационный!$I$17,IF(E54=$F$2,Информационный!$I$16,IF(E54=$F$1,Информационный!$I$15,0)))))","v":0},{"$f":"IF(G54=$I$1,Информационный!$X$11,IF(G54=$I$2,Информационный!$X$12,0))","v":0}]
[44,null,null,null,null,null,null,null,0,"9."," ",{"$f":"IF(D55=$C$1,Информационный!$Q$19,IF(D55=$C$2,Информационный!$R$19,IF(Награды!D55=Награды!$C$3,Информационный!$S$19,0)))","v":0},{"$f":"IF(E55=$F$5,Информационный!$I$19,IF(E55=$F$4,Информационный!$I$18,IF(E55=$F$3,Информационный!$I$17,IF(E55=$F$2,Информационный!$I$16,IF(E55=$F$1,Информационный!$I$15,0)))))","v":0},{"$f":"IF(G55=$I$1,Информационный!$X$11,IF(G55=$I$2,Информационный!$X$12,0))","v":0}]
[45,null,null,null,null,null,null,null,0,"9."," ",{"$f":"IF(D56=$C$1,Информационный!$Q$19,IF(D56=$C$2,Информационный!$R$19,IF(Награды!D56=Награды!$C$3,Информационный!$S$19,0)))","v":0},{"$f":"IF(E56=$F$5,Информационный!$I$19,IF(E56=$F$4,Информационный!$I$18,IF(E56=$F$3,Информационный!$I$17,IF(E56=$F$2,Информационный!$I$16,IF(E56=$F$1,Информационный!$I$15,0)))))","v":0},{"$f":"IF(G56=$I$1,Информационный!$X$11,IF(G56=$I$2,Информационный!$X$12,0))","v":0}]
[46,null,null,null,null,null,null,null,0,"9."," ",{"$f":"IF(D57=$C$1,Информационный!$Q$19,IF(D57=$C$2,Информационный!$R$19,IF(Награды!D57=Награды!$C$3,Информационный!$S$19,0)))","v":0},{"$f":"IF(E57=$F$5,Информационный!$I$19,IF(E57=$F$4,Информационный!$I$18,IF(E57=$F$3,Информационный!$I$17,IF(E57=$F$2,Информационный!$I$16,IF(E57=$F$1,Информационный!$I$15,0)))))","v":0},{"$f":"IF(G57=$I$1,Информационный!$X$11,IF(G57=$I$2,Информационный!$X$12,0))","v":0}]
[47,null,null,null,null,null,null,null,0,"9."," ",{"$f":"IF(D58=$C$1,Информационный!$Q$19,IF(D58=$C$2,Информационный!$R$19,IF(Награды!D58=Награды!$C$3,Информационный!$S$19,0)))","v":0},{"$f":"IF(E58=$F$5,Информационный!$I$19,IF(E58=$F$4,Информационный!$I$18,IF(E58=$F$3,Информационный!$I$17,IF(E58=$F$2,Информационный!$I$16,IF(E58=$F$1,Информационный!$I$15,0)))))","v":0},{"$f":"IF(G58=$I$1,Информационный!$X$11,IF(G58=$I$2,Информационный!$X$12,0))","v":0}]
[48,null,null,null,null,null,null,null,0,"9."," ",{"$f":"IF(D59=$C$1,Информационный!$Q$19,IF(D59=$C$2,Информационный!$R$19,IF(Награды!D59=Награды!$C$3,Информационный!$S$19,0)))","v":0},{"$f":"IF(E59=$F$5,Информационный!$I$19,IF(E59=$F$4,Информационный!$I$18,IF(E59=$F$3,Информационный!$I$17,IF(E59=$F$2,Информационный!$I$16,IF(E59=$F$1,Информационный!$I$15,0)))))","v":0},{"$f":"IF(G59=$I$1,Информационный!$X$11,IF(G59=$I$2,Информационный!$X$12,0))","v":0}]
[49,null,null,null,null,null,null,null,0,"9."," ",{"$f":"IF(D60=$C$1,Информационный!$Q$19,IF(D60=$C$2,Информационный!$R$19,IF(Награды!D60=Награды!$C$3,Информационный!$S$19,0)))","v":0},{"$f":"IF(E60=$F$5,Информационный!$I$19,IF(E60=$F$4,Информационный!$I$18,IF(E60=$F$3,Информационный!$I$17,IF(E60=$F$2,Информационный!$I$16,IF(E60=$F$1,Информационный!$I$15,0)))))","v":0},{"$f":"IF(G60=$I$1,Информационный!$X$11,IF(G60=$I$2,Информационный!$X$12,0))","v":0}]
[50,null,null,null,null,null,null,null,0,"9."," ",{"$f":"IF(D61=$C$1,Информационный!$Q$19,IF(D61=$C$2,Информационный!$R$19,IF(Награды!D61=Награды!$C$3,Информационный!$S$19,0)))","v":0},{"$f":"IF(E61=$F$5,Информационный!$I$19,IF(E61=$F$4,Информационный!$I$18,IF(E61=$F$3,Информационный!$I$17,IF(E61=$F$2,Информационный!$I$16,IF(E61=$F$1,Информационный!$I$15,0)))))","v":0},{"$f":"IF(G61=$I$1,Информационный!$X$11,IF(G61=$I$2,Информационный!$X$12,0))","v":0}]
[null,null,null,"Уровень поощрения",{"$f":"COUNTIF($E$12:$E$61,\"школьный\")","v":7},{"$f":"F1","v":"школьный"}]
[null,null,null,null,{"$f":"COUNTIF($E$12:$E$61,\"муниципальный\")","v":4},{"$f":"F2","v":"муниципальный"}]
[null,null,null,null,{"$f":"COUNTIF($E$12:$E$61,\"региональный\")","v":0},{"$f":"F3","v":"региональный"}]
[null,null,null,null,{"$f":"COUNTIF($E$12:$E$61,\"всероссийский\")","v":0},{"$f":"F4","v":"федеральный"}]
[null,null,null,null,{"$f":"COUNTIF($E$12:$E$61,\"международный\")","v":0},{"$f":"F5","v":"международный"}]
[]
[null,null,null,null,null,null,null,{"$f":"NOW()","v":"2019-08-24T15:19:23.810"}]
[]
[null,null,null,null,{"$f":"'Информация о школе'!$A$22","v":"Классный руководитель"}]
[null,null,null,null,"/_________________/"]
[null,null,null,null,{"$f":"'Информация о школе'!$D$22","v":"Главаля Ирина Геннадьевна"}]
[]
[]
[]
[]
[]
[]
[]
[]
[]
[]
[]
[]
[null,null,null,null,null,null,null,"1 класс",{"$f":"SUMIF($H$12:$H$61,\"1\",$I$12:$I$61)","v":1}]
[null,null,null,null,null,null,null,"2 класс",{"$f":"SUMIF($H$12:$H$61,\"2\",$I$12:$I$61)","v":0}]
[null,null,null,null,null,null,null,"3 класс",{"$f":"SUMIF($H$12:$H$61,\"3\",$I$12:$I$61)","v":1}]
[null,null,null,null,null,null,null,"4 класс",{"$f":"SUMIF($H$12:$H$61,\"4\",$I$12:$I$61)","v":1}]
[null,null,null,null,null,null,null,"5 класс",{"$f":"SUMIF($H$12:$H$61,\"5\",$I$12:$I$61)","v":1}]
[null,null,null,null,null,null,null,"6 класс",{"$f":"SUMIF($H$12:$H$61,\"6\",$I$12:$I$61)","v":5}]
[null,null,null,null,null,null,null,"7 класс",{"$f":"SUMIF($H$12:$H$61,\"7\",$I$12:$I$61)","v":1}]
[null,null,null,null,null,null,null,"8 класс",{"$f":"SUMIF($H$12:$H$61,\"81\",$I$12:$I$61)","v":0}]
[null,null,null,null,null,null,null,"9 класс",{"$f":"SUMIF($H$12:$H$61,\"9\",$I$12:$I$61)","v":0}]
[null,null,null,null,null,null,null,"10 класс",{"$f":"SUMIF($H$12:$H$61,\"10\",$I$12:$I$61)","v":0}]
[null,null,null,null,null,null,null,"11 класс",{"$f":"SUMIF($H$12:$H$61,\"11\",$I$12:$I$61)","v":0}]
[]
[]
[]
[]
[]
[]
[]
[]
[]
[]
[]
[]
[]
[]
[]
[]
[]
[]
[]
[]
[]
[]
[]
[]
[]
[]
[]
[]
[]
[]
[]
[]
[]
[]
[]
[]
[]
[]
["Электронное портфолио учащегося"]

{"sheet":"СОЦпрактики","index":12,"n_rows":105,"n_cols":14,"rows_kept":105,"cut":false,"hidden":false,"merged":[[18,1,18,3],[19,1,19,3],[20,1,20,3],[21,1,21,3],[22,1,22,3],[23,1,23,3],[37,4,37,8],[39,4,39,8],[40,4,40,8],[41,4,41,8],[30,1,30,3],[24,1,24,3],[25,1,25,3],[26,1,26,3],[27,1,27,3],[28,1,28,3],[29,1,29,3],[104,0,104,10],[7,1,9,3],[11,1,11,3],[12,1,12,3],[13,1,13,3],[14,1,14,3],[31,3,35,3],[31,5,31,8],[32,5,32,8],[33,5,33,8],[34,5,34,8],[35,5,35,8],[15,4,15,5],[16,4,16,5],[17,4,17,5],[15,1,15,3],[16,1,16,3],[17,1,17,3],[12,4,12,5],[13,4,13,5],[14,4,14,5],[7,7,9,7],[7,8,9,8],[7,9,9,10],[10,0,10,10],[11,4,11,5],[7,0,9,0],[7,4,9,5],[7,6,9,6],[5,0,5,9],[6,0,6,1],[6,2,6,3],[6,4,6,5],[6,7,6,10]]}
[null,null,"победитель",null,null,"школьный",null,null,"А"]
[null,null,"призёр",null,null,"муниципальный",null,null,"П"]
[null,null,"участник",null,null,"региональный"]
[null,null,null,null,null,"федеральный"]
[null,null,null,null,null,"международный"]
["СОЦИАЛЬНЫЕ ПРАКТИКИ"]
[{"$f":"'Личные данные'!$A$9","v":"ЭЛЕКТРОННОЕ                "},null,{"$f":"'Личные данные'!$C$9","v":"ПОРТФОЛИО"},null,{"$f":"титульный!$D$57","v":"Антонова Светлана Степановна"},null,null,{"$f":"титульный!$D$58","v":"МБОУ \"СОШ№11\""}]
["№п\\п","Название соцпрактики",null,null,"Уровень",null,"Форма участия","класс","Балл","Номер в приложении"]
[]
[]
[null,null,null,null,null,null,null,null,null,null,null,null,"уровень","Форма"]
[1,"За активное участие в жизни отряда",null,null,"муниципальный",null,"А",1,{"$f":"M12*N12","v":4},"10.",{"$f":"IF(B12<>0,A12,\" \")","v":1},null,{"$f":"IF(E12=$F$5,Информационный!$K$19,IF(E12=$F$4,Информационный!$K$18,IF(E12=$F$3,Информационный!$K$17,IF(E12=$F$2,Информационный!$K$16,IF(E12=$F$1,Информационный!$K$15,0)))))","v":4},{"$f":"IF(G12=$I$1,Информационный!$G$11,IF(G12=$I$2,Информационный!$G$12,0))","v":1}]
[2,null,null,null,null,null,null,null,{"$f":"M13*N13","v":0},"10.",{"$f":"IF(B13<>0,A13,\" \")","v":" "},null,{"$f":"IF(E13=$F$5,Информационный!$K$19,IF(E13=$F$4,Информационный!$K$18,IF(E13=$F$3,Информационный!$K$17,IF(E13=$F$2,Информационный!$K$16,IF(E13=$F$1,Информационный!$K$15,0)))))","v":0},{"$f":"IF(G13=$I$1,Информационный!$G$11,IF(G13=$I$2,Информационный!$G$12,0))","v":0}]
[3,null,null,null,null,null,null,null,0,"10."," ",null,{"$f":"IF(E14=$F$5,Информационный!$K$19,IF(E14=$F$4,Информационный!$K$18,IF(E14=$F$3,Информационный!$K$17,IF(E14=$F$2,Информационный!$K$16,IF(E14=$F$1,Информационный!$K$15,0)))))","v":0},{"$f":"IF(G14=$I$1,Информационный!$G$11,IF(G14=$I$2,Информационный!$G$12,0))","v":0}]
[4,null,null,null,null,null,null,null,0,"10."," ",null,{"$f":"IF(E15=$F$5,Информационный!$K$19,IF(E15=$F$4,Информационный!$K$18,IF(E15=$F$3,Информационный!$K$17,IF(E15=$F$2,Информационный!$K$16,IF(E15=$F$1,Информационный!$K$15,0)))))","v":0},{"$f":"IF(G15=$I$1,Информационный!$G$11,IF(G15=$I$2,Информационный!$G$12,0))","v":0}]
[5,null,null,null,null,null,null,null,0,"10."," ",null,{"$f":"IF(E16=$F$5,Информационный!$K$19,IF(E16=$F$4,Информационный!$K$18,IF(E16=$F$3,Информационный!$K$17,IF(E16=$F$2,Информационный!$K$16,IF(E16=$F$1,Информационный!$K$15,0)))))","v":0},{"$f":"IF(G16=$I$1,Информационный!$G$11,IF(G16=$I$2,Информационный!$G$12,0))","v":0}]
[6,null,null,null,null,null,null,null,0,"10."," ",null,{"$f":"IF(E17=$F$5,Информационный!$K$19,IF(E17=$F$4,Информационный!$K$18,IF(E17=$F$3,Информационный!$K$17,IF(E17=$F$2,Информационный!$K$16,IF(E17=$F$1,Информационный!$K$15,0)))))","v":0},{"$f":"IF(G17=$I$1,Информационный!$G$11,IF(G17=$I$2,Информационный!$G$12,0))","v":0}]
[7,null,null,null,null,null,null,null,0,"10."," ",null,{"$f":"IF(E18=$F$5,Информационный!$K$19,IF(E18=$F$4,Информационный!$K$18,IF(E18=$F$3,Информационный!$K$17,IF(E18=$F$2,Информационный!$K$16,IF(E18=$F$1,Информационный!$K$15,0)))))","v":0},{"$f":"IF(G18=$I$1,Информационный!$G$11,IF(G18=$I$2,Информационный!$G$12,0))","v":0}]
[8,null,null,null,null,null,null,null,0,"10."," ",null,{"$f":"IF(E19=$F$5,Информационный!$K$19,IF(E19=$F$4,Информационный!$K$18,IF(E19=$F$3,Информационный!$K$17,IF(E19=$F$2,Информационный!$K$16,IF(E19=$F$1,Информационный!$K$15,0)))))","v":0},{"$f":"IF(G19=$I$1,Информационный!$G$11,IF(G19=$I$2,Информационный!$G$12,0))","v":0}]
[9,null,null,null,null,null,null,null,0,"10."," ",null,{"$f":"IF(E20=$F$5,Информационный!$K$19,IF(E20=$F$4,Информационный!$K$18,IF(E20=$F$3,Информационный!$K$17,IF(E20=$F$2,Информационный!$K$16,IF(E20=$F$1,Информационный!$K$15,0)))))","v":0},{"$f":"IF(G20=$I$1,Информационный!$G$11,IF(G20=$I$2,Информационный!$G$12,0))","v":0}]
[10,null,null,null,null,null,null,null,0,"10."," ",null,{"$f":"IF(E21=$F$5,Информационный!$K$19,IF(E21=$F$4,Информационный!$K$18,IF(E21=$F$3,Информационный!$K$17,IF(E21=$F$2,Информационный!$K$16,IF(E21=$F$1,Информационный!$K$15,0)))))","v":0},{"$f":"IF(G21=$I$1,Информационный!$G$11,IF(G21=$I$2,Информационный!$G$12,0))","v":0}]
[11,null,null,null,null,null,null,null,0,"10."," ",null,{"$f":"IF(E22=$F$5,Информационный!$K$19,IF(E22=$F$4,Информационный!$K$18,IF(E22=$F$3,Информационный!$K$17,IF(E22=$F$2,Информационный!$K$16,IF(E22=$F$1,Информационный!$K$15,0)))))","v":0},{"$f":"IF(G22=$I$1,Информационный!$G$11,IF(G22=$I$2,Информационный!$G$12,0))","v":0}]
[12,null,null,null,null,null,null,null,0,"10."," ",null,{"$f":"IF(E23=$F$5,Информационный!$K$19,IF(E23=$F$4,Информационный!$K$18,IF(E23=$F$3,Информационный!$K$17,IF(E23=$F$2,Информационный!$K$16,IF(E23=$F$1,Информационный!$K$15,0)))))","v":0},{"$f":"IF(G23=$I$1,Информационный!$G$11,IF(G23=$I$2,Информационный!$G$12,0))","v":0}]
[13,null,null,null,null,null,null,null,0,"10."," ",null,{"$f":"IF(E24=$F$5,Информационный!$K$19,IF(E24=$F$4,Информационный!$K$18,IF(E24=$F$3,Информационный!$K$17,IF(E24=$F$2,Информационный!$K$16,IF(E24=$F$1,Информационный!$K$15,0)))))","v":0},{"$f":"IF(G24=$I$1,Информационный!$G$11,IF(G24=$I$2,Информационный!$G$12,0))","v":0}]
[14,null,null,null,null,null,null,null,0,"10."," ",null,{"$f":"IF(E25=$F$5,Информационный!$K$19,IF(E25=$F$4,Информационный!$K$18,IF(E25=$F$3,Информационный!$K$17,IF(E25=$F$2,Информационный!$K$16,IF(E25=$F$1,Информационный!$K$15,0)))))","v":0},{"$f":"IF(G25=$I$1,Информационный!$G$11,IF(G25=$I$2,Информационный!$G$12,0))","v":0}]
[15,null,null,null,null,null,null,null,0,"10."," ",null,{"$f":"IF(E26=$F$5,Информационный!$K$19,IF(E26=$F$4,Информационный!$K$18,IF(E26=$F$3,Информационный!$K$17,IF(E26=$F$2,Информационный!$K$16,IF(E26=$F$1,Информационный!$K$15,0)))))","v":0},{"$f":"IF(G26=$I$1,Информационный!$G$11,IF(G26=$I$2,Информационный!$G$12,0))","v":0}]
[16,null,null,null,null,null,null,null,0,"10."," ",null,{"$f":"IF(E27=$F$5,Информационный!$K$19,IF(E27=$F$4,Информационный!$K$18,IF(E27=$F$3,Информационный!$K$17,IF(E27=$F$2,Информационный!$K$16,IF(E27=$F$1,Информационный!$K$15,0)))))","v":0},{"$f":"IF(G27=$I$1,Информационный!$G$11,IF(G27=$I$2,Информационный!$G$12,0))","v":0}]
[17,null,null,null,null,null,null,null,0,"10."," ",null,{"$f":"IF(E28=$F$5,Информационный!$K$19,IF(E28=$F$4,Информационный!$K$18,IF(E28=$F$3,Информационный!$K$17,IF(E28=$F$2,Информационный!$K$16,IF(E28=$F$1,Информационный!$K$15,0)))))","v":0},{"$f":"IF(G28=$I$1,Информационный!$G$11,IF(G28=$I$2,Информационный!$G$12,0))","v":0}]
[18,null,null,null,null,null,null,null,0,"10."," ",null,{"$f":"IF(E29=$F$5,Информационный!$K$19,IF(E29=$F$4,Информационный!$K$18,IF(E29=$F$3,Информационный!$K$17,IF(E29=$F$2,Информационный!$K$16,IF(E29=$F$1,Информационный!$K$15,0)))))","v":0},{"$f":"IF(G29=$I$1,Информационный!$G$11,IF(G29=$I$2,Информационный!$G$12,0))","v":0}]
[19,null,null,null,null,null,null,null,0,"10."," ",null,{"$f":"IF(E30=$F$5,Информационный!$K$19,IF(E30=$F$4,Информационный!$K$18,IF(E30=$F$3,Информационный!$K$17,IF(E30=$F$2,Информационный!$K$16,IF(E30=$F$1,Информационный!$K$15,0)))))","v":0},{"$f":"IF(G30=$I$1,Информационный!$G$11,IF(G30=$I$2,Информационный!$G$12,0))","v":0}]
[20,null,null,null,null,null,null,null,0,"10."," ",null,{"$f":"IF(E31=$F$5,Информационный!$K$19,IF(E31=$F$4,Информационный!$K$18,IF(E31=$F$3,Информационный!$K$17,IF(E31=$F$2,Информационный!$K$16,IF(E31=$F$1,Информационный!$K$15,0)))))","v":0},{"$f":"IF(G31=$I$1,Информационный!$G$11,IF(G31=$I$2,Информационный!$G$12,0))","v":0}]
[null,null,null,"Уровень соцпрактик",{"$f":"COUNTIF($E$12:$E$31,\"школьный\")","v":0},{"$f":"F1","v":"школьный"}]
[null,null,null,null,{"$f":"COUNTIF($E$12:$E$31,\"муниципальный\")","v":1},{"$f":"F2","v":"муниципальный"}]
[null,null,null,null,{"$f":"COUNTIF($E$12:$E$31,\"региональный\")","v":0},{"$f":"F3","v":"региональный"}]
[null,null,null,null,{"$f":"COUNTIF($E$12:$E$31,\"всероссийский\")","v":0},{"$f":"F4","v":"федеральный"}]
[null,null,null,null,{"$f":"COUNTIF($E$12:$E$31,\"международный\")","v":0},{"$f":"F5","v":"международный"}]
[]
[null,null,null,null,{"$f":"NOW()","v":"2019-08-24T15:19:23.810"}]
[]
[null,null,null,null,{"$f":"'Информация о школе'!$A$22","v":"Классный руководитель"}]
[null,null,null,null,"/_________________/"]
[null,null,null,null,{"$f":"'Информация о школе'!$D$22","v":"Главаля Ирина Геннадьевна"}]
[]
[]
[]
[]
[]
[]
[]
[]
[]
[]
[]
[]
[]
[]
[]
[null,null,null,null,null,null,null,"1 класс",{"$f":"SUMIF($H$12:$H$31,\"1\",$I$12:$I$31)","v":4}]
[null,null,null,null,null,null,null,"2 класс",{"$f":"SUMIF($H$12:$H$31,\"2\",$I$12:$I$31)","v":0}]
[null,null,null,null,null,null,null,"3 класс",{"$f":"SUMIF($H$12:$H$31,\"3\",$I$12:$I$31)","v":0}]
[null,null,null,null,null,null,null,"4 класс",{"$f":"SUMIF($H$12:$H$31,\"4\",$I$12:$I$31)","v":0}]
[null,null,null,null,null,null,null,"5 класс",{"$f":"SUMIF($H$12:$H$31,\"5\",$I$12:$I$31)","v":0}]
[null,null,null,null,null,null,null,"6 класс",{"$f":"SUMIF($H$12:$H$31,\"6\",$I$12:$I$31)","v":0}]
[null,null,null,null,null,null,null,"7 класс",{"$f":"SUMIF($H$12:$H$31,\"7\",$I$12:$I$31)","v":0}]
[null,null,null,null,null,null,null,"8 класс",{"$f":"SUMIF($H$12:$H$31,\"81\",$I$12:$I$31)","v":0}]
[null,null,null,null,null,null,null,"9 класс",{"$f":"SUMIF($H$12:$H$31,\"9\",$I$12:$I$31)","v":0}]
[null,null,null,null,null,null,null,"10 класс",{"$f":"SUMIF($H$12:$H$31,\"10\",$I$12:$I$31)","v":0}]
[null,null,null,null,null,null,null,"11 класс",{"$f":"SUMIF($H$12:$H$31,\"11\",$I$12:$I$31)","v":0}]
[]
[]
[]
[]
[]
[]
[]
[]
[]
[]
[]
[]
[]
[]
[]
[]
[]
[]
[]
[]
[]
[]
[]
[]
[]
[]
[]
[]
[]
[]
[]
[]
[]
[]
[]
[]
["Электронное портфолио учащегося"]

{"sheet":"Самоуправление","index":13,"n_rows":52,"n_cols":14,"rows_kept":52,"cut":false,"hidden":false,"merged":[[12,4,12,5],[27,7,27,8],[28,4,28,8],[29,4,29,8],[30,4,30,8],[19,4,19,5],[20,4,20,5],[21,4,21,5],[15,4,15,5],[16,4,16,5],[17,4,17,5],[18,4,18,5],[13,4,13,5],[14,4,14,5],[22,3,26,3],[22,5,22,8],[23,5,23,8],[24,5,24,8],[25,5,25,8],[26,5,26,8],[12,1,12,3],[13,1,13,3],[14,1,14,3],[15,1,15,3],[19,1,19,3],[20,1,20,3],[16,1,16,3],[17,1,17,3],[18,1,18,3],[21,1,21,3],[10,0,10,8],[10,9,10,10],[11,4,11,5],[7,1,9,3],[11,1,11,3],[5,0,5,9],[6,0,6,1],[6,2,6,3],[6,7,6,10],[7,0,9,0],[7,4,9,5],[7,6,9,6],[6,4,6,6],[7,7,9,7],[7,8,9,8],[7,9,9,10]]}
[{"$f":"Информационный!M19","v":"президент "},null,"победитель",null,null,{"$f":"Информационный!M15","v":"другое"},null,null,"0-2"]
[{"$f":"Информационный!M18","v":"министр"},null,"призёр",null,null,{"$f":"Информационный!M16","v":"помощник"},null,null,"3-4"]
[{"$f":"Информационный!M17","v":"редколлегия"},null,"участник",null,null,{"$f":"Информационный!M17","v":"редколлегия"},null,null,"5-6"]
[{"$f":"Информационный!M16","v":"помощник"},null,null,null,null,{"$f":"Информационный!M18","v":"министр"},null,null,"7-8"]
[{"$f":"Информационный!M15","v":"другое"},null,null,null,null,{"$f":"Информационный!M19","v":"президент "},null,null,"9-10"]
["УЧЕНИЧЕСКОЕ САМОУПРАВЛЕНИЕ"]
[{"$f":"'Личные данные'!$A$9","v":"ЭЛЕКТРОННОЕ                "},null,{"$f":"'Личные данные'!$C$9","v":"ПОРТФОЛИО"},null,{"$f":"титульный!$D$57","v":"Антонова Светлана Степановна"},null,null,{"$f":"титульный!$D$58","v":"МБОУ \"СОШ№11\""}]
["№п\\п","Название должности",null,null,"Категория должности",null,"стаж (лет)","класс","Балл","Номер в приложении"]
[]
[]
[null,null,null,null,null,null,null,null,null,null,null,"Результат","уровень","Стаж"]
[1,"Президент  2 класса",null,null,"президент ",null,"0-2",2,{"$f":"M12+N12","v":5.2},"11.",{"$f":"IF(B12<>0,A12,\" \")","v":1},{"$f":"IF(D12=$C$1,Информационный!$Q$19,IF(D12=$C$2,Информационный!$R$19,IF(Самоуправление!D12=Самоуправление!$C$3,Информационный!$S$19,0)))","v":0},{"$f":"IF(E12=$F$5,Информационный!$L$19,IF(E12=$F$4,Информационный!$L$18,IF(E12=$F$3,Информационный!$L$17,IF(E12=$F$2,Информационный!$L$16,IF(E12=$F$1,Информационный!$L$15,0)))))","v":5},{"$f":"IF(G12=$I$5,1,IF(G12=$I$4,0.8,IF(G12=$I$3,0.6,IF(G12=$I$2,0.4,IF(G12=$I$1,0.2,0)))))","v":0.2}]
[2,"Президент  3 класса",null,null,"президент ",null,"0-2",3,{"$f":"M13+N13","v":5.2},"11.",{"$f":"IF(B13<>0,A13,\" \")","v":2},{"$f":"IF(D13=$C$1,Информационный!$Q$19,IF(D13=$C$2,Информационный!$R$19,IF(Самоуправление!D13=Самоуправление!$C$3,Информационный!$S$19,0)))","v":0},{"$f":"IF(E13=$F$5,Информационный!$L$19,IF(E13=$F$4,Информационный!$L$18,IF(E13=$F$3,Информационный!$L$17,IF(E13=$F$2,Информационный!$L$16,IF(E13=$F$1,Информационный!$L$15,0)))))","v":5},{"$f":"IF(G13=$I$5,1,IF(G13=$I$4,0.8,IF(G13=$I$3,0.6,IF(G13=$I$2,0.4,IF(G13=$I$1,0.2,0)))))","v":0.2}]
[3,"Президент  4 класса",null,null,"президент ",null,"3-4",4,5.4,"11.",3,{"$f":"IF(D14=$C$1,Информационный!$Q$19,IF(D14=$C$2,Информационный!$R$19,IF(Самоуправление!D14=Самоуправление!$C$3,Информационный!$S$19,0)))","v":0},{"$f":"IF(E14=$F$5,Информационный!$L$19,IF(E14=$F$4,Информационный!$L$18,IF(E14=$F$3,Информационный!$L$17,IF(E14=$F$2,Информационный!$L$16,IF(E14=$F$1,Информационный!$L$15,0)))))","v":5},0.4]
[4,"Президент  5 класса",null,null,"президент ",null,"3-4",5,5.4,"11.",4,{"$f":"IF(D15=$C$1,Информационный!$Q$19,IF(D15=$C$2,Информационный!$R$19,IF(Самоуправление!D15=Самоуправление!$C$3,Информационный!$S$19,0)))","v":0},{"$f":"IF(E15=$F$5,Информационный!$L$19,IF(E15=$F$4,Информационный!$L$18,IF(E15=$F$3,Информационный!$L$17,IF(E15=$F$2,Информационный!$L$16,IF(E15=$F$1,Информационный!$L$15,0)))))","v":5},0.4]
[5,"Редколегия",null,null,"редколлегия",null,"0-2",6,3.2,"11.",5,{"$f":"IF(D16=$C$1,Информационный!$Q$19,IF(D16=$C$2,Информационный!$R$19,IF(Самоуправление!D16=Самоуправление!$C$3,Информационный!$S$19,0)))","v":0},{"$f":"IF(E16=$F$5,Информационный!$L$19,IF(E16=$F$4,Информационный!$L$18,IF(E16=$F$3,Информационный!$L$17,IF(E16=$F$2,Информационный!$L$16,IF(E16=$F$1,Информационный!$L$15,0)))))","v":3},0.2]
[6,"Редколегия",null,null,"редколлегия",null,"0-2",7,3.2,"11.",6,{"$f":"IF(D17=$C$1,Информационный!$Q$19,IF(D17=$C$2,Информационный!$R$19,IF(Самоуправление!D17=Самоуправление!$C$3,Информационный!$S$19,0)))","v":0},{"$f":"IF(E17=$F$5,Информационный!$L$19,IF(E17=$F$4,Информационный!$L$18,IF(E17=$F$3,Информационный!$L$17,IF(E17=$F$2,Информационный!$L$16,IF(E17=$F$1,Информационный!$L$15,0)))))","v":3},0.2]
[7,"Редколегия",null,null,"редколлегия",null,"3-4",8,3.4,"11.",7,{"$f":"IF(D18=$C$1,Информационный!$Q$19,IF(D18=$C$2,Информационный!$R$19,IF(Самоуправление!D18=Самоуправление!$C$3,Информационный!$S$19,0)))","v":0},{"$f":"IF(E18=$F$5,Информационный!$L$19,IF(E18=$F$4,Информационный!$L$18,IF(E18=$F$3,Информационный!$L$17,IF(E18=$F$2,Информационный!$L$16,IF(E18=$F$1,Информационный!$L$15,0)))))","v":3},0.4]
[8,"Редколегия",null,null,"редколлегия",null,"3-4",9,3.4,"11.",8,{"$f":"IF(D19=$C$1,Информационный!$Q$19,IF(D19=$C$2,Информационный!$R$19,IF(Самоуправление!D19=Самоуправление!$C$3,Информационный!$S$19,0)))","v":0},{"$f":"IF(E19=$F$5,Информационный!$L$19,IF(E19=$F$4,Информационный!$L$18,IF(E19=$F$3,Информационный!$L$17,IF(E19=$F$2,Информационный!$L$16,IF(E19=$F$1,Информационный!$L$15,0)))))","v":3},0.4]
[9,null,null,null,null,null,null,null,0,"11."," ",{"$f":"IF(D20=$C$1,Информационный!$Q$19,IF(D20=$C$2,Информационный!$R$19,IF(Самоуправление!D20=Самоуправление!$C$3,Информационный!$S$19,0)))","v":0},{"$f":"IF(E20=$F$5,Информационный!$L$19,IF(E20=$F$4,Информационный!$L$18,IF(E20=$F$3,Информационный!$L$17,IF(E20=$F$2,Информационный!$L$16,IF(E20=$F$1,Информационный!$L$15,0)))))","v":0},0]
[10,null,null,null,null,null,null,null,0,"11."," ",{"$f":"IF(D21=$C$1,Информационный!$Q$19,IF(D21=$C$2,Информационный!$R$19,IF(Самоуправление!D21=Самоуправление!$C$3,Информационный!$S$19,0)))","v":0},{"$f":"IF(E21=$F$5,Информационный!$L$19,IF(E21=$F$4,Информационный!$L$18,IF(E21=$F$3,Информационный!$L$17,IF(E21=$F$2,Информационный!$L$16,IF(E21=$F$1,Информационный!$L$15,0)))))","v":0},0]
[11,null,null,null,null,null,null,null,0,"11."," ",{"$f":"IF(D22=$C$1,Информационный!$Q$19,IF(D22=$C$2,Информационный!$R$19,IF(Самоуправление!D22=Самоуправление!$C$3,Информационный!$S$19,0)))","v":0},{"$f":"IF(E22=$F$5,Информационный!$L$19,IF(E22=$F$4,Информационный!$L$18,IF(E22=$F$3,Информационный!$L$17,IF(E22=$F$2,Информационный!$L$16,IF(E22=$F$1,Информационный!$L$15,0)))))","v":0},0]
[null,null,null,"Категория должности",{"$f":"COUNTIF($E$12:$E$22,F23)","v":0},{"$f":"F1","v":"другое"}]
[null,null,null,null,{"$f":"COUNTIF($E$12:$E$22,F24)","v":0},{"$f":"F2","v":"помощник"}]
[null,null,null,null,{"$f":"COUNTIF($E$12:$E$22,F25)","v":4},{"$f":"F3","v":"редколлегия"}]
[null,null,null,null,{"$f":"COUNTIF($E$12:$E$22,F26)","v":0},{"$f":"F4","v":"министр"}]
[null,null,null,null,{"$f":"COUNTIF($E$12:$E$22,F27)","v":4},{"$f":"F5","v":"президент "}]
[null,null,null,null,null,null,null,{"$f":"NOW()","v":"2019-08-24T15:19:23.810"}]
[null,null,null,null,{"$f":"'Информация о школе'!$A$22","v":"Классный руководитель"}]
[null,null,null,null,"/_________________/"]
[null,null,null,null,{"$f":"'Информация о школе'!$D$22","v":"Главаля Ирина Геннадьевна"}]
[]
[]
[]
[]
[]
[]
[]
[]
[]
[]
[null,null,null,null,null,null,null,"1 класс",{"$f":"SUMIF($H$12:$H$22,\"1\",$I$12:$I$22)","v":0}]
[null,null,null,null,null,null,null,"2 класс",{"$f":"SUMIF($H$12:$H$22,\"2\",$I$12:$I$22)","v":5.2}]
[null,null,null,null,null,null,null,"3 класс",{"$f":"SUMIF($H$12:$H$22,\"3\",$I$12:$I$22)","v":5.2}]
[null,null,null,null,null,null,null,"4 класс",{"$f":"SUMIF($H$12:$H$22,\"4\",$I$12:$I$22)","v":5.4}]
[null,null,null,null,null,null,null,"5 класс",{"$f":"SUMIF($H$12:$H$22,\"5\",$I$12:$I$22)","v":5.4}]
[null,null,null,null,null,null,null,"6 класс",{"$f":"SUMIF($H$12:$H$22,\"6\",$I$12:$I$22)","v":3.2}]
[null,null,null,null,null,null,null,"7 класс",{"$f":"SUMIF($H$12:$H$22,\"7\",$I$12:$I$22)","v":3.2}]
[null,null,null,null,null,null,null,"8 класс",{"$f":"SUMIF($H$12:$H$22,\"81\",$I$12:$I$22)","v":0}]
[null,null,null,null,null,null,null,"9 класс",{"$f":"SUMIF($H$12:$H$22,\"9\",$I$12:$I$22)","v":3.4}]
[null,null,null,null,null,null,null,"10 класс",{"$f":"SUMIF($H$12:$H$22,\"10\",$I$12:$I$22)","v":0}]
[null,null,null,null,null,null,null,"11 класс",{"$f":"SUMIF($H$12:$H$22,\"11\",$I$12:$I$22)","v":0}]

{"sheet":"Творческие","index":14,"n_rows":151,"n_cols":14,"rows_kept":151,"cut":false,"hidden":false,"merged":[[109,4,109,5],[110,4,110,5],[103,4,103,5],[104,4,104,5],[105,4,105,5],[106,4,106,5],[107,4,107,5],[108,4,108,5],[97,4,97,5],[98,4,98,5],[99,4,99,5],[100,4,100,5],[101,4,101,5],[102,4,102,5],[91,4,91,5],[92,4,92,5],[93,4,93,5],[94,4,94,5],[95,4,95,5],[96,4,96,5],[85,4,85,5],[86,4,86,5],[87,4,87,5],[88,4,88,5],[89,4,89,5],[90,4,90,5],[79,4,79,5],[80,4,80,5],[81,4,81,5],[82,4,82,5],[83,4,83,5],[84,4,84,5],[73,4,73,5],[74,4,74,5],[75,4,75,5],[76,4,76,5],[77,4,77,5],[78,4,78,5],[67,4,67,5],[68,4,68,5],[69,4,69,5],[70,4,70,5],[71,4,71,5],[72,4,72,5],[61,4,61,5],[62,4,62,5],[63,4,63,5],[64,4,64,5],[65,4,65,5],[66,4,66,5],[55,4,55,5],[56,4,56,5],[57,4,57,5],[58,4,58,5],[59,4,59,5],[60,4,60,5],[49,4,49,5],[50,4,50,5],[51,4,51,5],[52,4,52,5],[53,4,53,5],[54,4,54,5],[43,4,43,5],[44,4,44,5],[45,4,45,5],[46,4,46,5],[47,4,47,5],[48,4,48,5],[37,4,37,5],[38,4,38,5],[39,4,39,5],[40,4,40,5],[41,4,41,5],[42,4,42,5],[31,4,31,5],[32,4,32,5],[33,4,33,5],[34,4,34,5],[35,4,35,5],[36,4,36,5],[25,4,25,5],[26,4,26,5],[27,4,27,5],[28,4,28,5],[29,4,29,5],[30,4,30,5],[108,1,108,2],[109,1,109,2],[110,1,110,2],[18,4,18,5],[19,4,19,5],[20,4,20,5],[21,4,21,5],[22,4,22,5],[23,4,23,5],[24,4,24,5],[102,1,102,2],[103,1,103,2],[104,1,104,2],[105,1,105,2],[106,1,106,2],[107,1,107,2],[96,1,96,2],[97,1,97,2],[98,1,98,2],[99,1,99,2],[100,1,100,2],[101,1,101,2],[90,1,90,2],[91,1,91,2],[92,1,92,2],[93,1,93,2],[94,1,94,2],[95,1,95,2],[84,1,84,2],[85,1,85,2],[86,1,86,2],[87,1,87,2],[88,1,88,2],[89,1,89,2],[78,1,78,2],[79,1,79,2],[80,1,80,2],[81,1,81,2],[82,1,82,2],[83,1,83,2],[72,1,72,2],[73,1,73,2],[74,1,74,2],[75,1,75,2],[76,1,76,2],[77,1,77,2],[66,1,66,2],[67,1,67,2],[68,1,68,2],[69,1,69,2],[70,1,70,2],[71,1,71,2],[60,1,60,2],[61,1,61,2],[62,1,62,2],[63,1,63,2],[64,1,64,2],[65,1,65,2],[54,1,54,2],[55,1,55,2],[56,1,56,2],[57,1,57,2],[58,1,58,2],[59,1,59,2],[48,1,48,2],[49,1,49,2],[50,1,50,2],[51,1,51,2],[52,1,52,2],[53,1,53,2],[42,1,42,2],[43,1,43,2],[44,1,44,2],[45,1,45,2],[46,1,46,2],[47,1,47,2],[36,1,36,2],[37,1,37,2],[38,1,38,2],[39,1,39,2],[40,1,40,2],[41,1,41,2],[30,1,30,2],[31,1,31,2],[32,1,32,2],[33,1,33,2],[34,1,34,2],[35,1,35,2],[24,1,24,2],[25,1,25,2],[26,1,26,2],[27,1,27,2],[28,1,28,2],[29,1,29,2],[18,1,18,2],[19,1,19,2],[20,1,20,2],[21,1,21,2],[22,1,22,2],[23,1,23,2],[150,0,150,10],[6,4,6,6],[111,3,115,3],[111,5,111,8],[112,5,112,8],[113,5,113,8],[17,1,17,2],[17,4,17,5],[117,4,117,8],[119,4,119,8],[120,4,120,8],[121,4,121,8],[13,1,13,2],[13,4,13,5],[14,1,14,2],[14,4,14,5],[114,5,114,8],[115,5,115,8],[15,1,15,2],[15,4,15,5],[16,1,16,2],[16,4,16,5],[7,8,9,8],[7,9,9,10],[10,0,10,10],[11,1,11,2],[11,4,11,5],[12,1,12,2],[12,4,12,5],[5,0,5,9],[6,0,6,1],[6,2,6,3],[6,7,6,10],[7,0,9,0],[7,1,9,2],[7,3,9,3],[7,4,9,5],[7,6,9,6],[7,7,9,7]]}
[null,null,"победитель",null,null,"школьный",null,null,"О"]
[null,null,"призёр",null,null,"муниципальный",null,null,"Д"]
[null,null,"участник",null,null,"региональный"]
[null,null,null,null,null,"федеральный"]
[null,null,null,null,null,"международный"]
["УЧАСТИЕ в ТВОРЧЕСКИХ  конкурсах"]
[{"$f":"'Личные данные'!$A$9","v":"ЭЛЕКТРОННОЕ                "},null,{"$f":"'Личные данные'!$C$9","v":"ПОРТФОЛИО"},null,{"$f":"титульный!$D$57","v":"Антонова Светлана Степановна"},null,null,{"$f":"титульный!$D$58","v":"МБОУ \"СОШ№11\""}]
["№п\\п","Название конкурса",null,"Результат","Уровень",null,"Форма участия","класс","Балл","Номер в приложении"]
[]
[]
[null,null,null,null,null,null,null,null,null,null,null,"Результат","уровень","Форма"]
[1,"Здравствуй, гостья- Зима!",null,"участник","школьный",null,"О",1,{"$f":"L12*M12*N12","v":2.6},"12.",{"$f":"IF(B12<>0,A12,\" \")","v":1},{"$f":"IF(D12=$C$1,Информационный!$Q$19,IF(D12=$C$2,Информационный!$R$19,IF(Творческие!D12=Творческие!$C$3,Информационный!$S$19,0)))","v":13},{"$f":"IF(E12=$F$5,1,IF(E12=$F$4,0.8,IF(E12=$F$3,0.6,IF(E12=$F$2,0.4,IF(E12=$F$1,0.2,0)))))","v":0.2},{"$f":"IF(G12=$I$1,Информационный!$G$11,IF(G12=$I$2,Информационный!$G$12,0))","v":1}]
[2,"Радуга идей Ангарский детей",null,"призёр","муниципальный",null,"О",5,{"$f":"L13*M13*N13","v":5.6000000000000005},"12.",{"$f":"IF(B13<>0,A13,\" \")","v":2},{"$f":"IF(D13=$C$1,Информационный!$Q$19,IF(D13=$C$2,Информационный!$R$19,IF(Творческие!D13=Творческие!$C$3,Информационный!$S$19,0)))","v":14},{"$f":"IF(E13=$F$5,1,IF(E13=$F$4,0.8,IF(E13=$F$3,0.6,IF(E13=$F$2,0.4,IF(E13=$F$1,0.2,0)))))","v":0.4},{"$f":"IF(G13=$I$1,Информационный!$G$11,IF(G13=$I$2,Информационный!$G$12,0))","v":1}]
[3,"Радуга идей Ангарский детей",null,"призёр","муниципальный",null,"О",6,5.6000000000000005,"12.",3,{"$f":"IF(D14=$C$1,Информационный!$Q$19,IF(D14=$C$2,Информационный!$R$19,IF(Творческие!D14=Творческие!$C$3,Информационный!$S$19,0)))","v":14},0.4,{"$f":"IF(G14=$I$1,Информационный!$G$11,IF(G14=$I$2,Информационный!$G$12,0))","v":1}]
[4,"Космос и Я",null,"призёр","международный",null,"Д",3,7,"12.",4,{"$f":"IF(D15=$C$1,Информационный!$Q$19,IF(D15=$C$2,Информационный!$R$19,IF(Творческие!D15=Творческие!$C$3,Информационный!$S$19,0)))","v":14},1,{"$f":"IF(G15=$I$1,Информационный!$G$11,IF(G15=$I$2,Информационный!$G$12,0))","v":0.5}]
[5,"Региональная олимпиада по академическому рисунку",null,"призёр","региональный",null,"О",4,8.4,"12.",5,{"$f":"IF(D16=$C$1,Информационный!$Q$19,IF(D16=$C$2,Информационный!$R$19,IF(Творческие!D16=Творческие!$C$3,Информационный!$S$19,0)))","v":14},0.6,{"$f":"IF(G16=$I$1,Информационный!$G$11,IF(G16=$I$2,Информационный!$G$12,0))","v":1}]
[6,"Турнир по волейболу",null,"призёр","муниципальный",null,"О",9,5.6000000000000005,"12.",6,{"$f":"IF(D17=$C$1,Информационный!$Q$19,IF(D17=$C$2,Информационный!$R$19,IF(Творческие!D17=Творческие!$C$3,Информационный!$S$19,0)))","v":14},0.4,{"$f":"IF(G17=$I$1,Информационный!$G$11,IF(G17=$I$2,Информационный!$G$12,0))","v":1}]
[7,"Летний кубок \"Что, Где, Когда?\"",null,"призёр","региональный",null,"О",8,8.4,"12.",7,{"$f":"IF(D18=$C$1,Информационный!$Q$19,IF(D18=$C$2,Информационный!$R$19,IF(Творческие!D18=Творческие!$C$3,Информационный!$S$19,0)))","v":14},0.6,{"$f":"IF(G18=$I$1,Информационный!$G$11,IF(G18=$I$2,Информационный!$G$12,0))","v":1}]
[8,"Лёгкоатлетичекая эстафета",null,"победитель","школьный",null,"О",5,3,"12.",8,{"$f":"IF(D19=$C$1,Информационный!$Q$19,IF(D19=$C$2,Информационный!$R$19,IF(Творческие!D19=Творческие!$C$3,Информационный!$S$19,0)))","v":15},0.2,{"$f":"IF(G19=$I$1,Информационный!$G$11,IF(G19=$I$2,Информационный!$G$12,0))","v":1}]
[9,"Лёгкоатлетичекая эстафета",null,"победитель","школьный",null,"О",7,3,"12.",9,{"$f":"IF(D20=$C$1,Информационный!$Q$19,IF(D20=$C$2,Информационный!$R$19,IF(Творческие!D20=Творческие!$C$3,Информационный!$S$19,0)))","v":15},0.2,{"$f":"IF(G20=$I$1,Информационный!$G$11,IF(G20=$I$2,Информационный!$G$12,0))","v":1}]
[10,null,null,null,null,null,null,null,0,"12."," ",{"$f":"IF(D21=$C$1,Информационный!$Q$19,IF(D21=$C$2,Информационный!$R$19,IF(Творческие!D21=Творческие!$C$3,Информационный!$S$19,0)))","v":0},0,{"$f":"IF(G21=$I$1,Информационный!$G$11,IF(G21=$I$2,Информационный!$G$12,0))","v":0}]
[11,null,null,null,null,null,null,null,0,"12."," ",{"$f":"IF(D22=$C$1,Информационный!$Q$19,IF(D22=$C$2,Информационный!$R$19,IF(Творческие!D22=Творческие!$C$3,Информационный!$S$19,0)))","v":0},0,{"$f":"IF(G22=$I$1,Информационный!$G$11,IF(G22=$I$2,Информационный!$G$12,0))","v":0}]
[12,null,null,null,null,null,null,null,0,"12."," ",{"$f":"IF(D23=$C$1,Информационный!$Q$19,IF(D23=$C$2,Информационный!$R$19,IF(Творческие!D23=Творческие!$C$3,Информационный!$S$19,0)))","v":0},0,{"$f":"IF(G23=$I$1,Информационный!$G$11,IF(G23=$I$2,Информационный!$G$12,0))","v":0}]
[13,null,null,null,null,null,null,null,0,"12."," ",{"$f":"IF(D24=$C$1,Информационный!$Q$19,IF(D24=$C$2,Информационный!$R$19,IF(Творческие!D24=Творческие!$C$3,Информационный!$S$19,0)))","v":0},0,{"$f":"IF(G24=$I$1,Информационный!$G$11,IF(G24=$I$2,Информационный!$G$12,0))","v":0}]
[14,null,null,null,null,null,null,null,0,"12."," ",{"$f":"IF(D25=$C$1,Информационный!$Q$19,IF(D25=$C$2,Информационный!$R$19,IF(Творческие!D25=Творческие!$C$3,Информационный!$S$19,0)))","v":0},0,{"$f":"IF(G25=$I$1,Информационный!$G$11,IF(G25=$I$2,Информационный!$G$12,0))","v":0}]
[15,null,null,null,null,null,null,null,0,"12."," ",{"$f":"IF(D26=$C$1,Информационный!$Q$19,IF(D26=$C$2,Информационный!$R$19,IF(Творческие!D26=Творческие!$C$3,Информационный!$S$19,0)))","v":0},0,{"$f":"IF(G26=$I$1,Информационный!$G$11,IF(G26=$I$2,Информационный!$G$12,0))","v":0}]
[16,null,null,null,null,null,null,null,0,"12."," ",{"$f":"IF(D27=$C$1,Информационный!$Q$19,IF(D27=$C$2,Информационный!$R$19,IF(Творческие!D27=Творческие!$C$3,Информационный!$S$19,0)))","v":0},0,{"$f":"IF(G27=$I$1,Информационный!$G$11,IF(G27=$I$2,Информационный!$G$12,0))","v":0}]
[17,null,null,null,null,null,null,null,0,"12."," ",{"$f":"IF(D28=$C$1,Информационный!$Q$19,IF(D28=$C$2,Информационный!$R$19,IF(Творческие!D28=Творческие!$C$3,Информационный!$S$19,0)))","v":0},0,{"$f":"IF(G28=$I$1,Информационный!$G$11,IF(G28=$I$2,Информационный!$G$12,0))","v":0}]
[18,null,null,null,null,null,null,null,0,"12."," ",{"$f":"IF(D29=$C$1,Информационный!$Q$19,IF(D29=$C$2,Информационный!$R$19,IF(Творческие!D29=Творческие!$C$3,Информационный!$S$19,0)))","v":0},0,{"$f":"IF(G29=$I$1,Информационный!$G$11,IF(G29=$I$2,Информационный!$G$12,0))","v":0}]
[19,null,null,null,null,null,null,null,0,"12."," ",{"$f":"IF(D30=$C$1,Информационный!$Q$19,IF(D30=$C$2,Информационный!$R$19,IF(Творческие!D30=Творческие!$C$3,Информационный!$S$19,0)))","v":0},0,{"$f":"IF(G30=$I$1,Информационный!$G$11,IF(G30=$I$2,Информационный!$G$12,0))","v":0}]
[20,null,null,null,null,null,null,null,0,"12."," ",{"$f":"IF(D31=$C$1,Информационный!$Q$19,IF(D31=$C$2,Информационный!$R$19,IF(Творческие!D31=Творческие!$C$3,Информационный!$S$19,0)))","v":0},0,{"$f":"IF(G31=$I$1,Информационный!$G$11,IF(G31=$I$2,Информационный!$G$12,0))","v":0}]
[21,null,null,null,null,null,null,null,0,"12."," ",{"$f":"IF(D32=$C$1,Информационный!$Q$19,IF(D32=$C$2,Информационный!$R$19,IF(Творческие!D32=Творческие!$C$3,Информационный!$S$19,0)))","v":0},0,{"$f":"IF(G32=$I$1,Информационный!$G$11,IF(G32=$I$2,Информационный!$G$12,0))","v":0}]
[22,null,null,null,null,null,null,null,0,"12."," ",{"$f":"IF(D33=$C$1,Информационный!$Q$19,IF(D33=$C$2,Информационный!$R$19,IF(Творческие!D33=Творческие!$C$3,Информационный!$S$19,0)))","v":0},0,{"$f":"IF(G33=$I$1,Информационный!$G$11,IF(G33=$I$2,Информационный!$G$12,0))","v":0}]
[23,null,null,null,null,null,null,null,0,"12."," ",{"$f":"IF(D34=$C$1,Информационный!$Q$19,IF(D34=$C$2,Информационный!$R$19,IF(Творческие!D34=Творческие!$C$3,Информационный!$S$19,0)))","v":0},0,{"$f":"IF(G34=$I$1,Информационный!$G$11,IF(G34=$I$2,Информационный!$G$12,0))","v":0}]
[24,null,null,null,null,null,null,null,0,"12."," ",{"$f":"IF(D35=$C$1,Информационный!$Q$19,IF(D35=$C$2,Информационный!$R$19,IF(Творческие!D35=Творческие!$C$3,Информационный!$S$19,0)))","v":0},0,{"$f":"IF(G35=$I$1,Информационный!$G$11,IF(G35=$I$2,Информационный!$G$12,0))","v":0}]
[25,null,null,null,null,null,null,null,0,"12."," ",{"$f":"IF(D36=$C$1,Информационный!$Q$19,IF(D36=$C$2,Информационный!$R$19,IF(Творческие!D36=Творческие!$C$3,Информационный!$S$19,0)))","v":0},0,{"$f":"IF(G36=$I$1,Информационный!$G$11,IF(G36=$I$2,Информационный!$G$12,0))","v":0}]
[26,null,null,null,null,null,null,null,0,"12."," ",{"$f":"IF(D37=$C$1,Информационный!$Q$19,IF(D37=$C$2,Информационный!$R$19,IF(Творческие!D37=Творческие!$C$3,Информационный!$S$19,0)))","v":0},0,{"$f":"IF(G37=$I$1,Информационный!$G$11,IF(G37=$I$2,Информационный!$G$12,0))","v":0}]
[27,null,null,null,null,null,null,null,0,"12."," ",{"$f":"IF(D38=$C$1,Информационный!$Q$19,IF(D38=$C$2,Информационный!$R$19,IF(Творческие!D38=Творческие!$C$3,Информационный!$S$19,0)))","v":0},0,{"$f":"IF(G38=$I$1,Информационный!$G$11,IF(G38=$I$2,Информационный!$G$12,0))","v":0}]
[28,null,null,null,null,null,null,null,0,"12."," ",{"$f":"IF(D39=$C$1,Информационный!$Q$19,IF(D39=$C$2,Информационный!$R$19,IF(Творческие!D39=Творческие!$C$3,Информационный!$S$19,0)))","v":0},0,{"$f":"IF(G39=$I$1,Информационный!$G$11,IF(G39=$I$2,Информационный!$G$12,0))","v":0}]
[29,null,null,null,null,null,null,null,0,"12."," ",{"$f":"IF(D40=$C$1,Информационный!$Q$19,IF(D40=$C$2,Информационный!$R$19,IF(Творческие!D40=Творческие!$C$3,Информационный!$S$19,0)))","v":0},0,{"$f":"IF(G40=$I$1,Информационный!$G$11,IF(G40=$I$2,Информационный!$G$12,0))","v":0}]
[30,null,null,null,null,null,null,null,0,"12."," ",{"$f":"IF(D41=$C$1,Информационный!$Q$19,IF(D41=$C$2,Информационный!$R$19,IF(Творческие!D41=Творческие!$C$3,Информационный!$S$19,0)))","v":0},0,{"$f":"IF(G41=$I$1,Информационный!$G$11,IF(G41=$I$2,Информационный!$G$12,0))","v":0}]
[31,null,null,null,null,null,null,null,0,"12."," ",{"$f":"IF(D42=$C$1,Информационный!$Q$19,IF(D42=$C$2,Информационный!$R$19,IF(Творческие!D42=Творческие!$C$3,Информационный!$S$19,0)))","v":0},0,{"$f":"IF(G42=$I$1,Информационный!$G$11,IF(G42=$I$2,Информационный!$G$12,0))","v":0}]
[32,null,null,null,null,null,null,null,0,"12."," ",{"$f":"IF(D43=$C$1,Информационный!$Q$19,IF(D43=$C$2,Информационный!$R$19,IF(Творческие!D43=Творческие!$C$3,Информационный!$S$19,0)))","v":0},0,{"$f":"IF(G43=$I$1,Информационный!$G$11,IF(G43=$I$2,Информационный!$G$12,0))","v":0}]
[33,null,null,null,null,null,null,null,0,"12."," ",{"$f":"IF(D44=$C$1,Информационный!$Q$19,IF(D44=$C$2,Информационный!$R$19,IF(Творческие!D44=Творческие!$C$3,Информационный!$S$19,0)))","v":0},0,{"$f":"IF(G44=$I$1,Информационный!$G$11,IF(G44=$I$2,Информационный!$G$12,0))","v":0}]
[34,null,null,null,null,null,null,null,0,"12."," ",{"$f":"IF(D45=$C$1,Информационный!$Q$19,IF(D45=$C$2,Информационный!$R$19,IF(Творческие!D45=Творческие!$C$3,Информационный!$S$19,0)))","v":0},0,{"$f":"IF(G45=$I$1,Информационный!$G$11,IF(G45=$I$2,Информационный!$G$12,0))","v":0}]
[35,null,null,null,null,null,null,null,0,"12."," ",{"$f":"IF(D46=$C$1,Информационный!$Q$19,IF(D46=$C$2,Информационный!$R$19,IF(Творческие!D46=Творческие!$C$3,Информационный!$S$19,0)))","v":0},0,{"$f":"IF(G46=$I$1,Информационный!$G$11,IF(G46=$I$2,Информационный!$G$12,0))","v":0}]
[36,null,null,null,null,null,null,null,0,"12."," ",{"$f":"IF(D47=$C$1,Информационный!$Q$19,IF(D47=$C$2,Информационный!$R$19,IF(Творческие!D47=Творческие!$C$3,Информационный!$S$19,0)))","v":0},0,{"$f":"IF(G47=$I$1,Информационный!$G$11,IF(G47=$I$2,Информационный!$G$12,0))","v":0}]
[37,null,null,null,null,null,null,null,0,"12."," ",{"$f":"IF(D48=$C$1,Информационный!$Q$19,IF(D48=$C$2,Информационный!$R$19,IF(Творческие!D48=Творческие!$C$3,Информационный!$S$19,0)))","v":0},0,{"$f":"IF(G48=$I$1,Информационный!$G$11,IF(G48=$I$2,Информационный!$G$12,0))","v":0}]
[38,null,null,null,null,null,null,null,0,"12."," ",{"$f":"IF(D49=$C$1,Информационный!$Q$19,IF(D49=$C$2,Информационный!$R$19,IF(Творческие!D49=Творческие!$C$3,Информационный!$S$19,0)))","v":0},0,{"$f":"IF(G49=$I$1,Информационный!$G$11,IF(G49=$I$2,Информационный!$G$12,0))","v":0}]
[39,null,null,null,null,null,null,null,0,"12."," ",{"$f":"IF(D50=$C$1,Информационный!$Q$19,IF(D50=$C$2,Информационный!$R$19,IF(Творческие!D50=Творческие!$C$3,Информационный!$S$19,0)))","v":0},0,{"$f":"IF(G50=$I$1,Информационный!$G$11,IF(G50=$I$2,Информационный!$G$12,0))","v":0}]
[40,null,null,null,null,null,null,null,0,"12."," ",{"$f":"IF(D51=$C$1,Информационный!$Q$19,IF(D51=$C$2,Информационный!$R$19,IF(Творческие!D51=Творческие!$C$3,Информационный!$S$19,0)))","v":0},0,{"$f":"IF(G51=$I$1,Информационный!$G$11,IF(G51=$I$2,Информационный!$G$12,0))","v":0}]
[41,null,null,null,null,null,null,null,0,"12."," ",{"$f":"IF(D52=$C$1,Информационный!$Q$19,IF(D52=$C$2,Информационный!$R$19,IF(Творческие!D52=Творческие!$C$3,Информационный!$S$19,0)))","v":0},0,{"$f":"IF(G52=$I$1,Информационный!$G$11,IF(G52=$I$2,Информационный!$G$12,0))","v":0}]
[42,null,null,null,null,null,null,null,0,"12."," ",{"$f":"IF(D53=$C$1,Информационный!$Q$19,IF(D53=$C$2,Информационный!$R$19,IF(Творческие!D53=Творческие!$C$3,Информационный!$S$19,0)))","v":0},0,{"$f":"IF(G53=$I$1,Информационный!$G$11,IF(G53=$I$2,Информационный!$G$12,0))","v":0}]
[43,null,null,null,null,null,null,null,0,"12."," ",{"$f":"IF(D54=$C$1,Информационный!$Q$19,IF(D54=$C$2,Информационный!$R$19,IF(Творческие!D54=Творческие!$C$3,Информационный!$S$19,0)))","v":0},0,{"$f":"IF(G54=$I$1,Информационный!$G$11,IF(G54=$I$2,Информационный!$G$12,0))","v":0}]
[44,null,null,null,null,null,null,null,0,"12."," ",{"$f":"IF(D55=$C$1,Информационный!$Q$19,IF(D55=$C$2,Информационный!$R$19,IF(Творческие!D55=Творческие!$C$3,Информационный!$S$19,0)))","v":0},0,{"$f":"IF(G55=$I$1,Информационный!$G$11,IF(G55=$I$2,Информационный!$G$12,0))","v":0}]
[45,null,null,null,null,null,null,null,0,"12."," ",{"$f":"IF(D56=$C$1,Информационный!$Q$19,IF(D56=$C$2,Информационный!$R$19,IF(Творческие!D56=Творческие!$C$3,Информационный!$S$19,0)))","v":0},0,{"$f":"IF(G56=$I$1,Информационный!$G$11,IF(G56=$I$2,Информационный!$G$12,0))","v":0}]
[46,null,null,null,null,null,null,null,0,"12."," ",{"$f":"IF(D57=$C$1,Информационный!$Q$19,IF(D57=$C$2,Информационный!$R$19,IF(Творческие!D57=Творческие!$C$3,Информационный!$S$19,0)))","v":0},0,{"$f":"IF(G57=$I$1,Информационный!$G$11,IF(G57=$I$2,Информационный!$G$12,0))","v":0}]
[47,null,null,null,null,null,null,null,0,"12."," ",{"$f":"IF(D58=$C$1,Информационный!$Q$19,IF(D58=$C$2,Информационный!$R$19,IF(Творческие!D58=Творческие!$C$3,Информационный!$S$19,0)))","v":0},0,{"$f":"IF(G58=$I$1,Информационный!$G$11,IF(G58=$I$2,Информационный!$G$12,0))","v":0}]
[48,null,null,null,null,null,null,null,0,"12."," ",{"$f":"IF(D59=$C$1,Информационный!$Q$19,IF(D59=$C$2,Информационный!$R$19,IF(Творческие!D59=Творческие!$C$3,Информационный!$S$19,0)))","v":0},0,{"$f":"IF(G59=$I$1,Информационный!$G$11,IF(G59=$I$2,Информационный!$G$12,0))","v":0}]
[49,null,null,null,null,null,null,null,0,"12."," ",{"$f":"IF(D60=$C$1,Информационный!$Q$19,IF(D60=$C$2,Информационный!$R$19,IF(Творческие!D60=Творческие!$C$3,Информационный!$S$19,0)))","v":0},0,{"$f":"IF(G60=$I$1,Информационный!$G$11,IF(G60=$I$2,Информационный!$G$12,0))","v":0}]
[50,null,null,null,null,null,null,null,0,"12."," ",{"$f":"IF(D61=$C$1,Информационный!$Q$19,IF(D61=$C$2,Информационный!$R$19,IF(Творческие!D61=Творческие!$C$3,Информационный!$S$19,0)))","v":0},0,{"$f":"IF(G61=$I$1,Информационный!$G$11,IF(G61=$I$2,Информационный!$G$12,0))","v":0}]
[51,null,null,null,null,null,null,null,0,"12."," ",{"$f":"IF(D62=$C$1,Информационный!$Q$19,IF(D62=$C$2,Информационный!$R$19,IF(Творческие!D62=Творческие!$C$3,Информационный!$S$19,0)))","v":0},0,{"$f":"IF(G62=$I$1,Информационный!$G$11,IF(G62=$I$2,Информационный!$G$12,0))","v":0}]
[52,null,null,null,null,null,null,null,0,"12."," ",{"$f":"IF(D63=$C$1,Информационный!$Q$19,IF(D63=$C$2,Информационный!$R$19,IF(Творческие!D63=Творческие!$C$3,Информационный!$S$19,0)))","v":0},0,{"$f":"IF(G63=$I$1,Информационный!$G$11,IF(G63=$I$2,Информационный!$G$12,0))","v":0}]
[53,null,null,null,null,null,null,null,0,"12."," ",{"$f":"IF(D64=$C$1,Информационный!$Q$19,IF(D64=$C$2,Информационный!$R$19,IF(Творческие!D64=Творческие!$C$3,Информационный!$S$19,0)))","v":0},0,{"$f":"IF(G64=$I$1,Информационный!$G$11,IF(G64=$I$2,Информационный!$G$12,0))","v":0}]
[54,null,null,null,null,null,null,null,0,"12."," ",{"$f":"IF(D65=$C$1,Информационный!$Q$19,IF(D65=$C$2,Информационный!$R$19,IF(Творческие!D65=Творческие!$C$3,Информационный!$S$19,0)))","v":0},0,{"$f":"IF(G65=$I$1,Информационный!$G$11,IF(G65=$I$2,Информационный!$G$12,0))","v":0}]
[55,null,null,null,null,null,null,null,0,"12."," ",{"$f":"IF(D66=$C$1,Информационный!$Q$19,IF(D66=$C$2,Информационный!$R$19,IF(Творческие!D66=Творческие!$C$3,Информационный!$S$19,0)))","v":0},0,{"$f":"IF(G66=$I$1,Информационный!$G$11,IF(G66=$I$2,Информационный!$G$12,0))","v":0}]
[56,null,null,null,null,null,null,null,0,"12."," ",{"$f":"IF(D67=$C$1,Информационный!$Q$19,IF(D67=$C$2,Информационный!$R$19,IF(Творческие!D67=Творческие!$C$3,Информационный!$S$19,0)))","v":0},0,{"$f":"IF(G67=$I$1,Информационный!$G$11,IF(G67=$I$2,Информационный!$G$12,0))","v":0}]
[57,null,null,null,null,null,null,null,0,"12."," ",{"$f":"IF(D68=$C$1,Информационный!$Q$19,IF(D68=$C$2,Информационный!$R$19,IF(Творческие!D68=Творческие!$C$3,Информационный!$S$19,0)))","v":0},0,{"$f":"IF(G68=$I$1,Информационный!$G$11,IF(G68=$I$2,Информационный!$G$12,0))","v":0}]
[58,null,null,null,null,null,null,null,0,"12."," ",{"$f":"IF(D69=$C$1,Информационный!$Q$19,IF(D69=$C$2,Информационный!$R$19,IF(Творческие!D69=Творческие!$C$3,Информационный!$S$19,0)))","v":0},0,{"$f":"IF(G69=$I$1,Информационный!$G$11,IF(G69=$I$2,Информационный!$G$12,0))","v":0}]
[59,null,null,null,null,null,null,null,0,"12."," ",{"$f":"IF(D70=$C$1,Информационный!$Q$19,IF(D70=$C$2,Информационный!$R$19,IF(Творческие!D70=Творческие!$C$3,Информационный!$S$19,0)))","v":0},0,{"$f":"IF(G70=$I$1,Информационный!$G$11,IF(G70=$I$2,Информационный!$G$12,0))","v":0}]
[60,null,null,null,null,null,null,null,0,"12."," ",{"$f":"IF(D71=$C$1,Информационный!$Q$19,IF(D71=$C$2,Информационный!$R$19,IF(Творческие!D71=Творческие!$C$3,Информационный!$S$19,0)))","v":0},0,{"$f":"IF(G71=$I$1,Информационный!$G$11,IF(G71=$I$2,Информационный!$G$12,0))","v":0}]
[61,null,null,null,null,null,null,null,0,"12."," ",{"$f":"IF(D72=$C$1,Информационный!$Q$19,IF(D72=$C$2,Информационный!$R$19,IF(Творческие!D72=Творческие!$C$3,Информационный!$S$19,0)))","v":0},0,{"$f":"IF(G72=$I$1,Информационный!$G$11,IF(G72=$I$2,Информационный!$G$12,0))","v":0}]
[62,null,null,null,null,null,null,null,0,"12."," ",{"$f":"IF(D73=$C$1,Информационный!$Q$19,IF(D73=$C$2,Информационный!$R$19,IF(Творческие!D73=Творческие!$C$3,Информационный!$S$19,0)))","v":0},0,{"$f":"IF(G73=$I$1,Информационный!$G$11,IF(G73=$I$2,Информационный!$G$12,0))","v":0}]
[63,null,null,null,null,null,null,null,0,"12."," ",{"$f":"IF(D74=$C$1,Информационный!$Q$19,IF(D74=$C$2,Информационный!$R$19,IF(Творческие!D74=Творческие!$C$3,Информационный!$S$19,0)))","v":0},0,{"$f":"IF(G74=$I$1,Информационный!$G$11,IF(G74=$I$2,Информационный!$G$12,0))","v":0}]
[64,null,null,null,null,null,null,null,0,"12."," ",{"$f":"IF(D75=$C$1,Информационный!$Q$19,IF(D75=$C$2,Информационный!$R$19,IF(Творческие!D75=Творческие!$C$3,Информационный!$S$19,0)))","v":0},0,{"$f":"IF(G75=$I$1,Информационный!$G$11,IF(G75=$I$2,Информационный!$G$12,0))","v":0}]
[65,null,null,null,null,null,null,null,0,"12."," ",{"$f":"IF(D76=$C$1,Информационный!$Q$19,IF(D76=$C$2,Информационный!$R$19,IF(Творческие!D76=Творческие!$C$3,Информационный!$S$19,0)))","v":0},0,{"$f":"IF(G76=$I$1,Информационный!$G$11,IF(G76=$I$2,Информационный!$G$12,0))","v":0}]
[66,null,null,null,null,null,null,null,{"$f":"L77*M77*N77","v":0},"12.",{"$f":"IF(B77<>0,A77,\" \")","v":" "},{"$f":"IF(D77=$C$1,Информационный!$Q$19,IF(D77=$C$2,Информационный!$R$19,IF(Творческие!D77=Творческие!$C$3,Информационный!$S$19,0)))","v":0},{"$f":"IF(E77=$F$5,1,IF(E77=$F$4,0.8,IF(E77=$F$3,0.6,IF(E77=$F$2,0.4,IF(E77=$F$1,0.2,0)))))","v":0},{"$f":"IF(G77=$I$1,Информационный!$G$11,IF(G77=$I$2,Информационный!$G$12,0))","v":0}]
[67,null,null,null,null,null,null,null,0,"12."," ",{"$f":"IF(D78=$C$1,Информационный!$Q$19,IF(D78=$C$2,Информационный!$R$19,IF(Творческие!D78=Творческие!$C$3,Информационный!$S$19,0)))","v":0},0,{"$f":"IF(G78=$I$1,Информационный!$G$11,IF(G78=$I$2,Информационный!$G$12,0))","v":0}]
[68,null,null,null,null,null,null,null,0,"12."," ",{"$f":"IF(D79=$C$1,Информационный!$Q$19,IF(D79=$C$2,Информационный!$R$19,IF(Творческие!D79=Творческие!$C$3,Информационный!$S$19,0)))","v":0},0,{"$f":"IF(G79=$I$1,Информационный!$G$11,IF(G79=$I$2,Информационный!$G$12,0))","v":0}]
[69,null,null,null,null,null,null,null,0,"12."," ",{"$f":"IF(D80=$C$1,Информационный!$Q$19,IF(D80=$C$2,Информационный!$R$19,IF(Творческие!D80=Творческие!$C$3,Информационный!$S$19,0)))","v":0},0,{"$f":"IF(G80=$I$1,Информационный!$G$11,IF(G80=$I$2,Информационный!$G$12,0))","v":0}]
[70,null,null,null,null,null,null,null,0,"12."," ",{"$f":"IF(D81=$C$1,Информационный!$Q$19,IF(D81=$C$2,Информационный!$R$19,IF(Творческие!D81=Творческие!$C$3,Информационный!$S$19,0)))","v":0},0,{"$f":"IF(G81=$I$1,Информационный!$G$11,IF(G81=$I$2,Информационный!$G$12,0))","v":0}]
[71,null,null,null,null,null,null,null,0,"12."," ",{"$f":"IF(D82=$C$1,Информационный!$Q$19,IF(D82=$C$2,Информационный!$R$19,IF(Творческие!D82=Творческие!$C$3,Информационный!$S$19,0)))","v":0},0,{"$f":"IF(G82=$I$1,Информационный!$G$11,IF(G82=$I$2,Информационный!$G$12,0))","v":0}]
[72,null,null,null,null,null,null,null,0,"12."," ",{"$f":"IF(D83=$C$1,Информационный!$Q$19,IF(D83=$C$2,Информационный!$R$19,IF(Творческие!D83=Творческие!$C$3,Информационный!$S$19,0)))","v":0},0,{"$f":"IF(G83=$I$1,Информационный!$G$11,IF(G83=$I$2,Информационный!$G$12,0))","v":0}]
[73,null,null,null,null,null,null,null,0,"12."," ",{"$f":"IF(D84=$C$1,Информационный!$Q$19,IF(D84=$C$2,Информационный!$R$19,IF(Творческие!D84=Творческие!$C$3,Информационный!$S$19,0)))","v":0},0,{"$f":"IF(G84=$I$1,Информационный!$G$11,IF(G84=$I$2,Информационный!$G$12,0))","v":0}]
[74,null,null,null,null,null,null,null,0,"12."," ",{"$f":"IF(D85=$C$1,Информационный!$Q$19,IF(D85=$C$2,Информационный!$R$19,IF(Творческие!D85=Творческие!$C$3,Информационный!$S$19,0)))","v":0},0,{"$f":"IF(G85=$I$1,Информационный!$G$11,IF(G85=$I$2,Информационный!$G$12,0))","v":0}]
[75,null,null,null,null,null,null,null,0,"12."," ",{"$f":"IF(D86=$C$1,Информационный!$Q$19,IF(D86=$C$2,Информационный!$R$19,IF(Творческие!D86=Творческие!$C$3,Информационный!$S$19,0)))","v":0},0,{"$f":"IF(G86=$I$1,Информационный!$G$11,IF(G86=$I$2,Информационный!$G$12,0))","v":0}]
[76,null,null,null,null,null,null,null,0,"12."," ",{"$f":"IF(D87=$C$1,Информационный!$Q$19,IF(D87=$C$2,Информационный!$R$19,IF(Творческие!D87=Творческие!$C$3,Информационный!$S$19,0)))","v":0},0,{"$f":"IF(G87=$I$1,Информационный!$G$11,IF(G87=$I$2,Информационный!$G$12,0))","v":0}]
[77,null,null,null,null,null,null,null,0,"12."," ",{"$f":"IF(D88=$C$1,Информационный!$Q$19,IF(D88=$C$2,Информационный!$R$19,IF(Творческие!D88=Творческие!$C$3,Информационный!$S$19,0)))","v":0},0,{"$f":"IF(G88=$I$1,Информационный!$G$11,IF(G88=$I$2,Информационный!$G$12,0))","v":0}]
[78,null,null,null,null,null,null,null,0,"12."," ",{"$f":"IF(D89=$C$1,Информационный!$Q$19,IF(D89=$C$2,Информационный!$R$19,IF(Творческие!D89=Творческие!$C$3,Информационный!$S$19,0)))","v":0},0,{"$f":"IF(G89=$I$1,Информационный!$G$11,IF(G89=$I$2,Информационный!$G$12,0))","v":0}]
[79,null,null,null,null,null,null,null,0,"12."," ",{"$f":"IF(D90=$C$1,Информационный!$Q$19,IF(D90=$C$2,Информационный!$R$19,IF(Творческие!D90=Творческие!$C$3,Информационный!$S$19,0)))","v":0},0,{"$f":"IF(G90=$I$1,Информационный!$G$11,IF(G90=$I$2,Информационный!$G$12,0))","v":0}]
[80,null,null,null,null,null,null,null,0,"12."," ",{"$f":"IF(D91=$C$1,Информационный!$Q$19,IF(D91=$C$2,Информационный!$R$19,IF(Творческие!D91=Творческие!$C$3,Информационный!$S$19,0)))","v":0},0,{"$f":"IF(G91=$I$1,Информационный!$G$11,IF(G91=$I$2,Информационный!$G$12,0))","v":0}]
[81,null,null,null,null,null,null,null,0,"12."," ",{"$f":"IF(D92=$C$1,Информационный!$Q$19,IF(D92=$C$2,Информационный!$R$19,IF(Творческие!D92=Творческие!$C$3,Информационный!$S$19,0)))","v":0},0,{"$f":"IF(G92=$I$1,Информационный!$G$11,IF(G92=$I$2,Информационный!$G$12,0))","v":0}]
[82,null,null,null,null,null,null,null,0,"12."," ",{"$f":"IF(D93=$C$1,Информационный!$Q$19,IF(D93=$C$2,Информационный!$R$19,IF(Творческие!D93=Творческие!$C$3,Информационный!$S$19,0)))","v":0},0,{"$f":"IF(G93=$I$1,Информационный!$G$11,IF(G93=$I$2,Информационный!$G$12,0))","v":0}]
[83,null,null,null,null,null,null,null,0,"12."," ",{"$f":"IF(D94=$C$1,Информационный!$Q$19,IF(D94=$C$2,Информационный!$R$19,IF(Творческие!D94=Творческие!$C$3,Информационный!$S$19,0)))","v":0},0,{"$f":"IF(G94=$I$1,Информационный!$G$11,IF(G94=$I$2,Информационный!$G$12,0))","v":0}]
[84,null,null,null,null,null,null,null,0,"12."," ",{"$f":"IF(D95=$C$1,Информационный!$Q$19,IF(D95=$C$2,Информационный!$R$19,IF(Творческие!D95=Творческие!$C$3,Информационный!$S$19,0)))","v":0},0,{"$f":"IF(G95=$I$1,Информационный!$G$11,IF(G95=$I$2,Информационный!$G$12,0))","v":0}]
[85,null,null,null,null,null,null,null,0,"12."," ",{"$f":"IF(D96=$C$1,Информационный!$Q$19,IF(D96=$C$2,Информационный!$R$19,IF(Творческие!D96=Творческие!$C$3,Информационный!$S$19,0)))","v":0},0,{"$f":"IF(G96=$I$1,Информационный!$G$11,IF(G96=$I$2,Информационный!$G$12,0))","v":0}]
[86,null,null,null,null,null,null,null,0,"12."," ",{"$f":"IF(D97=$C$1,Информационный!$Q$19,IF(D97=$C$2,Информационный!$R$19,IF(Творческие!D97=Творческие!$C$3,Информационный!$S$19,0)))","v":0},0,{"$f":"IF(G97=$I$1,Информационный!$G$11,IF(G97=$I$2,Информационный!$G$12,0))","v":0}]
[87,null,null,null,null,null,null,null,0,"12."," ",{"$f":"IF(D98=$C$1,Информационный!$Q$19,IF(D98=$C$2,Информационный!$R$19,IF(Творческие!D98=Творческие!$C$3,Информационный!$S$19,0)))","v":0},0,{"$f":"IF(G98=$I$1,Информационный!$G$11,IF(G98=$I$2,Информационный!$G$12,0))","v":0}]
[88,null,null,null,null,null,null,null,0,"12."," ",{"$f":"IF(D99=$C$1,Информационный!$Q$19,IF(D99=$C$2,Информационный!$R$19,IF(Творческие!D99=Творческие!$C$3,Информационный!$S$19,0)))","v":0},0,{"$f":"IF(G99=$I$1,Информационный!$G$11,IF(G99=$I$2,Информационный!$G$12,0))","v":0}]
[89,null,null,null,null,null,null,null,0,"12."," ",{"$f":"IF(D100=$C$1,Информационный!$Q$19,IF(D100=$C$2,Информационный!$R$19,IF(Творческие!D100=Творческие!$C$3,Информационный!$S$19,0)))","v":0},0,{"$f":"IF(G100=$I$1,Информационный!$G$11,IF(G100=$I$2,Информационный!$G$12,0))","v":0}]
[90,null,null,null,null,null,null,null,0,"12."," ",{"$f":"IF(D101=$C$1,Информационный!$Q$19,IF(D101=$C$2,Информационный!$R$19,IF(Творческие!D101=Творческие!$C$3,Информационный!$S$19,0)))","v":0},0,{"$f":"IF(G101=$I$1,Информационный!$G$11,IF(G101=$I$2,Информационный!$G$12,0))","v":0}]
[91,null,null,null,null,null,null,null,0,"12."," ",{"$f":"IF(D102=$C$1,Информационный!$Q$19,IF(D102=$C$2,Информационный!$R$19,IF(Творческие!D102=Творческие!$C$3,Информационный!$S$19,0)))","v":0},0,{"$f":"IF(G102=$I$1,Информационный!$G$11,IF(G102=$I$2,Информационный!$G$12,0))","v":0}]
[92,null,null,null,null,null,null,null,0,"12."," ",{"$f":"IF(D103=$C$1,Информационный!$Q$19,IF(D103=$C$2,Информационный!$R$19,IF(Творческие!D103=Творческие!$C$3,Информационный!$S$19,0)))","v":0},0,{"$f":"IF(G103=$I$1,Информационный!$G$11,IF(G103=$I$2,Информационный!$G$12,0))","v":0}]
[93,null,null,null,null,null,null,null,0,"12."," ",{"$f":"IF(D104=$C$1,Информационный!$Q$19,IF(D104=$C$2,Информационный!$R$19,IF(Творческие!D104=Творческие!$C$3,Информационный!$S$19,0)))","v":0},0,{"$f":"IF(G104=$I$1,Информационный!$G$11,IF(G104=$I$2,Информационный!$G$12,0))","v":0}]
[94,null,null,null,null,null,null,null,0,"12."," ",{"$f":"IF(D105=$C$1,Информационный!$Q$19,IF(D105=$C$2,Информационный!$R$19,IF(Творческие!D105=Творческие!$C$3,Информационный!$S$19,0)))","v":0},0,{"$f":"IF(G105=$I$1,Информационный!$G$11,IF(G105=$I$2,Информационный!$G$12,0))","v":0}]
[95,null,null,null,null,null,null,null,0,"12."," ",{"$f":"IF(D106=$C$1,Информационный!$Q$19,IF(D106=$C$2,Информационный!$R$19,IF(Творческие!D106=Творческие!$C$3,Информационный!$S$19,0)))","v":0},0,{"$f":"IF(G106=$I$1,Информационный!$G$11,IF(G106=$I$2,Информационный!$G$12,0))","v":0}]
[96,null,null,null,null,null,null,null,0,"12."," ",{"$f":"IF(D107=$C$1,Информационный!$Q$19,IF(D107=$C$2,Информационный!$R$19,IF(Творческие!D107=Творческие!$C$3,Информационный!$S$19,0)))","v":0},0,{"$f":"IF(G107=$I$1,Информационный!$G$11,IF(G107=$I$2,Информационный!$G$12,0))","v":0}]
[97,null,null,null,null,null,null,null,0,"12."," ",{"$f":"IF(D108=$C$1,Информационный!$Q$19,IF(D108=$C$2,Информационный!$R$19,IF(Творческие!D108=Творческие!$C$3,Информационный!$S$19,0)))","v":0},0,{"$f":"IF(G108=$I$1,Информационный!$G$11,IF(G108=$I$2,Информационный!$G$12,0))","v":0}]
[98,null,null,null,null,null,null,null,0,"12."," ",{"$f":"IF(D109=$C$1,Информационный!$Q$19,IF(D109=$C$2,Информационный!$R$19,IF(Творческие!D109=Творческие!$C$3,Информационный!$S$19,0)))","v":0},0,{"$f":"IF(G109=$I$1,Информационный!$G$11,IF(G109=$I$2,Информационный!$G$12,0))","v":0}]
[99,null,null,null,null,null,null,null,0,"12."," ",{"$f":"IF(D110=$C$1,Информационный!$Q$19,IF(D110=$C$2,Информационный!$R$19,IF(Творческие!D110=Творческие!$C$3,Информационный!$S$19,0)))","v":0},0,{"$f":"IF(G110=$I$1,Информационный!$G$11,IF(G110=$I$2,Информационный!$G$12,0))","v":0}]
[100,null,null,null,null,null,null,null,0,"12."," ",{"$f":"IF(D111=$C$1,Информационный!$Q$19,IF(D111=$C$2,Информационный!$R$19,IF(Творческие!D111=Творческие!$C$3,Информационный!$S$19,0)))","v":0},0,{"$f":"IF(G111=$I$1,Информационный!$G$11,IF(G111=$I$2,Информационный!$G$12,0))","v":0}]
[null,null,null,"Уровень участия",{"$f":"COUNTIF($E$12:$E$111,\"школьный\")","v":3},{"$f":"F1","v":"школьный"}]
[null,null,null,null,{"$f":"COUNTIF($E$12:$E$111,\"муниципальный\")","v":3},{"$f":"F2","v":"муниципальный"}]
[null,null,null,null,{"$f":"COUNTIF($E$12:$E$111,\"региональный\")","v":2},{"$f":"F3","v":"региональный"}]
[null,null,null,null,{"$f":"COUNTIF($E$12:$E$111,\"всероссийский\")","v":0},{"$f":"F4","v":"федеральный"}]
[null,null,null,null,{"$f":"COUNTIF($E$12:$E$111,\"международный\")","v":1},{"$f":"F5","v":"международный"}]
[]
[null,null,null,null,{"$f":"NOW()","v":"2019-08-24T15:19:23.810"}]
[]
[null,null,null,null,{"$f":"'Информация о школе'!$A$22","v":"Классный руководитель"}]
[null,null,null,null,"/_________________/"]
[null,null,null,null,{"$f":"'Информация о школе'!$D$22","v":"Главаля Ирина Геннадьевна"}]
[]
[]
[]
[]
[]
[]
[]
[]
[]
[]
[]
[]
[]
[]
[]
[null,null,null,null,null,null,null,"1 класс",{"$f":"SUMIF($H$12:$H$111,\"1\",$I$12:$I$111)","v":2.6}]
[null,null,null,null,null,null,null,"2 класс",{"$f":"SUMIF($H$12:$H$111,\"2\",$I$12:$I$111)","v":0}]
[null,null,null,null,null,null,null,"3 класс",{"$f":"SUMIF($H$12:$H$111,\"3\",$I$12:$I$111)","v":7}]
[null,null,null,null,null,null,null,"4 класс",{"$f":"SUMIF($H$12:$H$111,\"4\",$I$12:$I$111)","v":8.4}]
[null,null,null,null,null,null,null,"5 класс",{"$f":"SUMIF($H$12:$H$111,\"5\",$I$12:$I$111)","v":8.6000000000000014}]
[null,null,null,null,null,null,null,"6 класс",{"$f":"SUMIF($H$12:$H$111,\"6\",$I$12:$I$111)","v":5.6000000000000005}]
[null,null,null,null,null,null,null,"7 класс",{"$f":"SUMIF($H$12:$H$111,\"7\",$I$12:$I$111)","v":3}]
[null,null,null,null,null,null,null,"8 класс",{"$f":"SUMIF($H$12:$H$111,\"81\",$I$12:$I$111)","v":0}]
[null,null,null,null,null,null,null,"9 класс",{"$f":"SUMIF($H$12:$H$111,\"9\",$I$12:$I$111)","v":5.6000000000000005}]
[null,null,null,null,null,null,null,"10 класс",{"$f":"SUMIF($H$12:$H$111,\"10\",$I$12:$I$111)","v":0}]
[null,null,null,null,null,null,null,"11 класс",{"$f":"SUMIF($H$12:$H$111,\"11\",$I$12:$I$111)","v":0}]
[]
[]
["Электронное портфолио учащегося"]

{"sheet":"Курсы по выбору","index":15,"n_rows":137,"n_cols":15,"rows_kept":137,"cut":false,"hidden":false,"merged":[[58,9,58,10],[59,9,59,10],[60,9,60,10],[9,14,10,14],[9,13,10,13],[9,12,10,12],[9,11,10,11],[52,9,52,10],[53,9,53,10],[54,9,54,10],[57,9,57,10],[46,9,46,10],[47,9,47,10],[48,9,48,10],[49,9,49,10],[50,9,50,10],[51,9,51,10],[42,9,42,10],[43,9,43,10],[44,9,44,10],[45,9,45,10],[55,9,55,10],[56,9,56,10],[36,9,36,10],[37,9,37,10],[38,9,38,10],[39,9,39,10],[40,9,40,10],[41,9,41,10],[30,9,30,10],[31,9,31,10],[32,9,32,10],[33,9,33,10],[34,9,34,10],[35,9,35,10],[61,7,61,8],[62,4,62,8],[63,4,63,8],[64,4,64,8],[7,4,9,4],[7,5,9,5],[7,8,9,8],[5,0,5,10],[77,0,77,10],[26,9,26,10],[17,9,17,10],[15,1,15,2],[27,9,27,10],[7,9,9,10],[10,0,10,8],[10,9,10,10],[11,1,11,2],[7,1,9,2],[7,3,9,3],[24,9,24,10],[12,1,12,2],[6,0,6,1],[6,2,6,3],[6,4,6,6],[136,0,136,10],[60,1,60,2],[56,1,56,2],[58,1,58,2],[59,1,59,2],[11,9,11,10],[12,9,12,10],[13,9,13,10],[14,9,14,10],[15,9,15,10],[16,9,16,10],[54,1,54,2],[55,1,55,2],[18,9,18,10],[19,9,19,10],[20,9,20,10],[21,9,21,10],[22,9,22,10],[23,9,23,10],[28,9,28,10],[29,9,29,10],[13,1,13,2],[14,1,14,2],[25,9,25,10],[6,7,6,10],[7,0,9,0],[7,6,9,6],[7,7,9,7],[16,1,16,2],[17,1,17,2],[18,1,18,2],[19,1,19,2],[20,1,20,2],[21,1,21,2],[22,1,22,2],[23,1,23,2],[24,1,24,2],[25,1,25,2],[26,1,26,2],[27,1,27,2],[28,1,28,2],[29,1,29,2],[30,1,30,2],[31,1,31,2],[32,1,32,2],[33,1,33,2],[34,1,34,2],[35,1,35,2],[36,1,36,2],[37,1,37,2],[38,1,38,2],[57,1,57,2],[47,1,47,2],[48,1,48,2],[49,1,49,2],[50,1,50,2],[51,1,51,2],[52,1,52,2],[39,1,39,2],[40,1,40,2],[41,1,41,2],[42,1,42,2],[43,1,43,2],[44,1,44,2],[45,1,45,2],[46,1,46,2],[53,1,53,2]]}
[null,null,null,null,null,null,null,null,null,"Да"]
[null,null,null,null,null,null,null,null,null,"Нет"]
[]
[]
[]
["КУРСЫ ПО ВЫБОРУ"]
[{"$f":"'Личные данные'!$A$9","v":"ЭЛЕКТРОННОЕ                "},null,{"$f":"'Личные данные'!$C$9","v":"ПОРТФОЛИО"},null,{"$f":"титульный!$D$57","v":"Антонова Светлана Степановна"},null,null,{"$f":"титульный!$D$58","v":"МБОУ \"СОШ№11\""}]
["№п\\п","Название курса",null,"Учитель","число часов по плану","посещено фактически","Роспись учителя","класс","Балл","Соответствует  выбранному профилю"]
[]
[null,null,null,null,null,null,null,null,null,null,null,"% посещаемости","Профиль",null,"Выбрано часов"]
[]
[1,"Математические курсы",null,"Голованов А.С.",18,18,null,"6",{"$f":"O12*L12+M12","v":1.0294117647058822},"Да",null,{"$f":"IF(E12>0,F12/E12,0)","v":1},{"$f":"IF(J12=$J$1,0.5,0)","v":0.5},null,{"$f":"E12/Информационный!$Y$6","v":0.52941176470588236}]
[2,"Математические курсы",null,"БФМШ",42,42,null,"6",{"$f":"O13*L13+M13","v":1.7352941176470589},"Да",null,{"$f":"IF(E13>0,F13/E13,0)","v":1},{"$f":"IF(J13=$J$1,0.5,0)","v":0.5},null,{"$f":"E13/Информационный!$Y$6","v":1.2352941176470589}]
[3,"Математические курсы",null,"БФМШ",42,42,null,"7",1.7352941176470589,"Да",null,1,0.5,null,{"$f":"E14/Информационный!$Y$6","v":1.2352941176470589}]
[4,"Программирование",null,"Зубков М.В.",136,136,null,"9",4.5,"Да",null,1,0.5,null,{"$f":"E15/Информационный!$Y$6","v":4}]
[5,"Комбинаторика",null,"Шварёва Л.В.",34,34,null,"9",1.5,"Да",null,1,0.5,null,{"$f":"E16/Информационный!$Y$6","v":1}]
[6," Теория чисел",null,"Шварёва Л.В.",34,34,null,"9",1.5,"Да",null,1,0.5,null,{"$f":"E17/Информационный!$Y$6","v":1}]
[7,"Информатика и ИКТ",null,"Трифонова О.Ю.",34,34,null,"9",1.5,"Да",null,1,0.5,null,{"$f":"E18/Информационный!$Y$6","v":1}]
[8,"Уроки словесности",null,"Сафарова Т.А.",34,34,null,"9",1,"Нет",null,1,0,null,{"$f":"E19/Информационный!$Y$6","v":1}]
[9,"Неорганическая химия",null,"Сиягина Т.В.",34,34,null,"8",1,"Нет",null,1,0,null,{"$f":"E20/Информационный!$Y$6","v":1}]
[10,null,null,null,null,null,null,null,0,null,null,0,0,null,{"$f":"E21/Информационный!$Y$6","v":0}]
[11,null,null,null,null,null,null,null,0,null,null,0,0,null,{"$f":"E22/Информационный!$Y$6","v":0}]
[12,null,null,null,null,null,null,null,0,null,null,0,0,null,{"$f":"E23/Информационный!$Y$6","v":0}]
[13,null,null,null,null,null,null,null,0,null,null,0,0,null,{"$f":"E24/Информационный!$Y$6","v":0}]
[14,null,null,null,null,null,null,null,0,null,null,0,0,null,{"$f":"E25/Информационный!$Y$6","v":0}]
[15,null,null,null,null,null,null,null,0,null,null,0,0,null,{"$f":"E26/Информационный!$Y$6","v":0}]
[16,null,null,null,null,null,null,null,0,null,null,0,0,null,{"$f":"E27/Информационный!$Y$6","v":0}]
[17,null,null,null,null,null,null,null,0,null,null,0,0,null,{"$f":"E28/Информационный!$Y$6","v":0}]
[18,null,null,null,null,null,null,null,0,null,null,0,0,null,{"$f":"E29/Информационный!$Y$6","v":0}]
[19,null,null,null,null,null,null,null,0,null,null,0,0,null,{"$f":"E30/Информационный!$Y$6","v":0}]
[20,null,null,null,null,null,null,null,0,null,null,0,0,null,{"$f":"E31/Информационный!$Y$6","v":0}]
[21,null,null,null,null,null,null,null,0,null,null,0,0,null,{"$f":"E32/Информационный!$Y$6","v":0}]
[22,null,null,null,null,null,null,null,0,null,null,0,0,null,{"$f":"E33/Информационный!$Y$6","v":0}]
[23,null,null,null,null,null,null,null,0,null,null,0,0,null,{"$f":"E34/Информационный!$Y$6","v":0}]
[24,null,null,null,null,null,null,null,0,null,null,0,0,null,{"$f":"E35/Информационный!$Y$6","v":0}]
[25,null,null,null,null,null,null,null,0,null,null,0,0,null,{"$f":"E36/Информационный!$Y$6","v":0}]
[26,null,null,null,null,null,null,null,0,null,null,0,0,null,{"$f":"E37/Информационный!$Y$6","v":0}]
[27,null,null,null,null,null,null,null,0,null,null,0,0,null,{"$f":"E38/Информационный!$Y$6","v":0}]
[28,null,null,null,null,null,null,null,0,null,null,0,0,null,{"$f":"E39/Информационный!$Y$6","v":0}]
[29,null,null,null,null,null,null,null,0,null,null,0,0,null,{"$f":"E40/Информационный!$Y$6","v":0}]
[30,null,null,null,null,null,null,null,0,null,null,0,0,null,{"$f":"E41/Информационный!$Y$6","v":0}]
[31,null,null,null,null,null,null,null,0,null,null,0,0,null,{"$f":"E42/Информационный!$Y$6","v":0}]
[32,null,null,null,null,null,null,null,0,null,null,0,0,null,{"$f":"E43/Информационный!$Y$6","v":0}]
[33,null,null,null,null,null,null,null,0,null,null,0,0,null,{"$f":"E44/Информационный!$Y$6","v":0}]
[34,null,null,null,null,null,null,null,0,null,null,0,0,null,{"$f":"E45/Информационный!$Y$6","v":0}]
[35,null,null,null,null,null,null,null,0,null,null,0,0,null,{"$f":"E46/Информационный!$Y$6","v":0}]
[36,null,null,null,null,null,null,null,0,null,null,0,0,null,{"$f":"E47/Информационный!$Y$6","v":0}]
[37,null,null,null,null,null,null,null,0,null,null,0,0,null,{"$f":"E48/Информационный!$Y$6","v":0}]
[38,null,null,null,null,null,null,null,0,null,null,0,0,null,{"$f":"E49/Информационный!$Y$6","v":0}]
[39,null,null,null,null,null,null,null,0,null,null,0,0,null,{"$f":"E50/Информационный!$Y$6","v":0}]
[40,null,null,null,null,null,null,null,0,null,null,0,0,null,{"$f":"E51/Информационный!$Y$6","v":0}]
[41,null,null,null,null,null,null,null,0,null,null,0,0,null,{"$f":"E52/Информационный!$Y$6","v":0}]
[42,null,null,null,null,null,null,null,0,null,null,0,0,null,{"$f":"E53/Информационный!$Y$6","v":0}]
[43,null,null,null,null,null,null,null,0,null,null,0,0,null,{"$f":"E54/Информационный!$Y$6","v":0}]
[44,null,null,null,null,null,null,null,0,null,null,0,0,null,{"$f":"E55/Информационный!$Y$6","v":0}]
[45,null,null,null,null,null,null,null,0,null,null,0,0,null,{"$f":"E56/Информационный!$Y$6","v":0}]
[46,null,null,null,null,null,null,null,0,null,null,0,0,null,{"$f":"E57/Информационный!$Y$6","v":0}]
[47,null,null,null,null,null,null,null,0,null,null,0,0,null,{"$f":"E58/Информационный!$Y$6","v":0}]
[48,null,null,null,null,null,null,null,0,null,null,0,0,null,{"$f":"E59/Информационный!$Y$6","v":0}]
[49,null,null,null,null,null,null,null,0,null,null,0,0,null,{"$f":"E60/Информационный!$Y$6","v":0}]
[50,null,null,null,null,null,null,null,0,null,null,0,0,null,{"$f":"E61/Информационный!$Y$6","v":0}]
[null,null,null,null,null,null,null,{"$f":"NOW()","v":"2019-08-24T15:19:23.810"}]
[null,null,null,null,{"$f":"'Информация о школе'!$A$22","v":"Классный руководитель"}]
[null,null,null,null,"/_________________/"]
[null,null,null,null,{"$f":"'Информация о школе'!$D$22","v":"Главаля Ирина Геннадьевна"}]
[]
[]
[]
[]
[]
[]
[]
[]
[]
[]
[]
[]
["Электронное портфолио учащегося"]
[]
[]
[]
[]
[]
[]
[]
[]
[]
[]
[]
[]
[]
[]
[]
[]
[]
[null,null,null,"1 класс",{"$f":"COUNTIF($H$12:$H$61,\"1\")","v":0},{"$f":"IF( E96=Информационный!$W$19,I96+1,  IF( E96=Информационный!$W$18,I96+0.8,IF( E96=Информационный!$W$17,I96+0.6, IF( E96=Информационный!$W$16,I96+0.4,   IF( E96=Информационный!$W$15,I96+0.2,0)))))","v":0},null,"1 класс",{"$f":"SUMIF($H$12:$H$61,\"1\",$I$12:$I$61)","v":0}]
[null,null,null,"2 класс",{"$f":"COUNTIF($H$12:$H$61,\"2\")","v":0},{"$f":"IF( E97=Информационный!$W$19,I97+1,  IF( E97=Информационный!$W$18,I97+0.8,IF( E97=Информационный!$W$17,I97+0.6, IF( E97=Информационный!$W$16,I97+0.4,   IF( E97=Информационный!$W$15,I97+0.2,0)))))","v":0},null,"2 класс",{"$f":"SUMIF($H$12:$H$61,\"2\",$I$12:$I$61)","v":0}]
[null,null,null,"3 класс",{"$f":"COUNTIF($H$12:$H$61,\"3\")","v":0},{"$f":"IF( E98=Информационный!$W$19,I98+1,  IF( E98=Информационный!$W$18,I98+0.8,IF( E98=Информационный!$W$17,I98+0.6, IF( E98=Информационный!$W$16,I98+0.4,   IF( E98=Информационный!$W$15,I98+0.2,0)))))","v":0},null,"3 класс",{"$f":"SUMIF($H$12:$H$61,\"3\",$I$12:$I$61)","v":0}]
[null,null,null,"4 класс",{"$f":"COUNTIF($H$12:$H$61,\"4\")","v":0},{"$f":"IF( E99=Информационный!$W$19,I99+1,  IF( E99=Информационный!$W$18,I99+0.8,IF( E99=Информационный!$W$17,I99+0.6, IF( E99=Информационный!$W$16,I99+0.4,   IF( E99=Информационный!$W$15,I99+0.2,0)))))","v":0},null,"4 класс",{"$f":"SUMIF($H$12:$H$61,\"4\",$I$12:$I$61)","v":0}]
[null,null,null,"5 класс",{"$f":"COUNTIF($H$12:$H$61,\"5\")","v":0},{"$f":"IF( E100=Информационный!$W$19,I100+1,  IF( E100=Информационный!$W$18,I100+0.8,IF( E100=Информационный!$W$17,I100+0.6, IF( E100=Информационный!$W$16,I100+0.4,   IF( E100=Информационный!$W$15,I100+0.2,0)))))","v":0},null,"5 класс",{"$f":"SUMIF($H$12:$H$61,\"5\",$I$12:$I$61)","v":0}]
[null,null,null,"6 класс",{"$f":"COUNTIF($H$12:$H$61,\"6\")","v":2},{"$f":"IF( E101=Информационный!$W$19,I101+1,  IF( E101=Информационный!$W$18,I101+0.8,IF( E101=Информационный!$W$17,I101+0.6, IF( E101=Информационный!$W$16,I101+0.4,   IF( E101=Информационный!$W$15,I101+0.2,0)))))","v":3.164705882352941},null,"6 класс",{"$f":"SUMIF($H$12:$H$61,\"6\",$I$12:$I$61)","v":2.7647058823529411}]
[null,null,null,"7 класс",{"$f":"COUNTIF($H$12:$H$61,\"7\")","v":1},{"$f":"IF( E102=Информационный!$W$19,I102+1,  IF( E102=Информационный!$W$18,I102+0.8,IF( E102=Информационный!$W$17,I102+0.6, IF( E102=Информационный!$W$16,I102+0.4,   IF( E102=Информационный!$W$15,I102+0.2,0)))))","v":1.9352941176470588},null,"7 класс",{"$f":"SUMIF($H$12:$H$61,\"7\",$I$12:$I$61)","v":1.7352941176470589}]
[null,null,null,"8 класс",{"$f":"COUNTIF($H$12:$H$61,\"8\")","v":1},{"$f":"IF( E103=Информационный!$W$19,I103+1,  IF( E103=Информационный!$W$18,I103+0.8,IF( E103=Информационный!$W$17,I103+0.6, IF( E103=Информационный!$W$16,I103+0.4,   IF( E103=Информационный!$W$15,I103+0.2,0)))))","v":0.2},null,"8 класс",{"$f":"SUMIF($H$12:$H$61,\"81\",$I$12:$I$61)","v":0}]
[null,null,null,"9 класс",{"$f":"COUNTIF($H$12:$H$61,\"9\")","v":5},{"$f":"IF( E104=Информационный!$W$19,I104+1,  IF( E104=Информационный!$W$18,I104+0.8,IF( E104=Информационный!$W$17,I104+0.6, IF( E104=Информационный!$W$16,I104+0.4,   IF( E104=Информационный!$W$15,I104+0.2,0)))))","v":11},null,"9 класс",{"$f":"SUMIF($H$12:$H$61,\"9\",$I$12:$I$61)","v":10}]
[null,null,null,"10 класс",{"$f":"COUNTIF($H$12:$H$61,\"10\")","v":0},{"$f":"IF( E105=Информационный!$W$19,I105+1,  IF( E105=Информационный!$W$18,I105+0.8,IF( E105=Информационный!$W$17,I105+0.6, IF( E105=Информационный!$W$16,I105+0.4,   IF( E105=Информационный!$W$15,I105+0.2,0)))))","v":0},null,"10 класс",{"$f":"SUMIF($H$12:$H$61,\"10\",$I$12:$I$61)","v":0}]
[null,null,null,"11 класс",{"$f":"COUNTIF($H$12:$H$61,\"11\")","v":0},{"$f":"IF( E106=Информационный!$W$19,I106+1,  IF( E106=Информационный!$W$18,I106+0.8,IF( E106=Информационный!$W$17,I106+0.6, IF( E106=Информационный!$W$16,I106+0.4,   IF( E106=Информационный!$W$15,I106+0.2,0)))))","v":0},null,"11 класс",{"$f":"SUMIF($H$12:$H$61,\"11\",$I$12:$I$61)","v":0}]
[]
[]
[]
[]
[]
[]
[]
[]
[]
[]
[]
[]
[]
[]
[]
[]
[]
[]
[]
[]
[]
[]
[]
[]
[]
[]
[]
[]
[]
[]
["Электронное портфолио учащегося"]

{"sheet":"Допобразование","index":16,"n_rows":137,"n_cols":15,"rows_kept":137,"cut":false,"hidden":false,"merged":[[5,0,5,10],[6,0,6,1],[6,2,6,3],[6,4,6,6],[6,7,6,10],[7,0,9,0],[9,13,10,13],[9,14,10,14],[10,0,10,8],[10,9,10,10],[7,4,9,4],[7,5,9,5],[9,11,10,11],[9,12,10,12],[11,1,11,2],[11,9,11,10],[7,6,9,6],[7,7,9,7],[7,8,9,8],[7,9,9,10],[7,1,9,2],[7,3,9,3],[12,1,12,2],[12,9,12,10],[13,1,13,2],[13,9,13,10],[14,1,14,2],[14,9,14,10],[15,1,15,2],[15,9,15,10],[16,9,16,10],[17,9,17,10],[18,9,18,10],[19,9,19,10],[20,9,20,10],[21,9,21,10],[22,9,22,10],[23,9,23,10],[24,9,24,10],[25,9,25,10],[26,9,26,10],[27,9,27,10],[28,9,28,10],[29,9,29,10],[30,9,30,10],[31,9,31,10],[32,9,32,10],[33,9,33,10],[34,9,34,10],[35,9,35,10],[36,9,36,10],[37,9,37,10],[38,9,38,10],[39,9,39,10],[40,9,40,10],[41,9,41,10],[42,9,42,10],[43,9,43,10],[44,9,44,10],[45,9,45,10],[49,9,49,10],[57,1,57,2],[50,9,50,10],[51,9,51,10],[52,9,52,10],[53,9,53,10],[54,1,54,2],[54,9,54,10],[52,1,52,2],[53,1,53,2],[77,0,77,10],[136,0,136,10],[16,1,16,2],[17,1,17,2],[18,1,18,2],[19,1,19,2],[20,1,20,2],[21,1,21,2],[59,1,59,2],[59,9,59,10],[22,1,22,2],[23,1,23,2],[24,1,24,2],[25,1,25,2],[26,1,26,2],[27,1,27,2],[28,1,28,2],[29,1,29,2],[30,1,30,2],[31,1,31,2],[32,1,32,2],[33,1,33,2],[34,1,34,2],[35,1,35,2],[36,1,36,2],[37,1,37,2],[38,1,38,2],[39,1,39,2],[40,1,40,2],[41,1,41,2],[42,1,42,2],[43,1,43,2],[44,1,44,2],[45,1,45,2],[65,0,65,10],[46,1,46,2],[47,1,47,2],[48,1,48,2],[49,1,49,2],[50,1,50,2],[51,1,51,2],[63,4,63,8],[64,4,64,8],[60,1,60,2],[60,9,60,10],[61,7,61,8],[62,4,62,8],[55,1,55,2],[55,9,55,10],[56,1,56,2],[56,9,56,10],[57,9,57,10],[58,1,58,2],[58,9,58,10],[46,9,46,10],[47,9,47,10],[48,9,48,10],[69,1,69,2],[66,6,68,6],[66,7,68,7],[66,0,68,0],[66,1,68,2],[66,3,68,3],[69,4,69,5],[66,8,68,8],[66,9,68,10],[66,4,68,5],[69,9,69,10],[70,9,70,10],[71,9,71,10],[72,9,72,10],[73,9,73,10],[70,1,70,2],[71,1,71,2],[72,1,72,2],[73,1,73,2],[70,4,70,5],[71,4,71,5],[72,4,72,5],[73,4,73,5]]}
[null,null,null,null,null,null,null,null,null,"Да"]
[null,null,null,null,null,null,null,null,null,"Нет"]
[]
[]
[]
["ДОПОЛНИТЕЛЬНОЕ ОБРАЗОВАНИЕ"]
[{"$f":"'Личные данные'!$A$9","v":"ЭЛЕКТРОННОЕ                "},null,{"$f":"'Личные данные'!$C$9","v":"ПОРТФОЛИО"},null,{"$f":"титульный!$D$57","v":"Антонова Светлана Степановна"},null,null,{"$f":"титульный!$D$58","v":"МБОУ \"СОШ№11\""}]
["№п\\п","Название секции кружка, клуба",null,"Название учреждения доп.образования","число часов по плану","посещено фактически","Роспись учителя","класс","Балл","Соответствует  выбранному профилю"]
[]
[null,null,null,null,null,null,null,null,null,null,null,"% посещаемости","Профиль",null,"Выбрано часов"]
[]
[1,"Художественное отделение",null,"ДХШИ №4",170,170,null,"2",{"$f":"O12*L12+M12","v":5},"Нет",null,{"$f":"IF(E12>0,F12/E12,0)","v":1},{"$f":"IF(J12=$J$1,0.5,0)","v":0},null,{"$f":"E12/Информационный!$Y$6","v":5}]
[2,"Художественное отделение",null,"ДХШИ №4",170,170,null,"3",{"$f":"O13*L13+M13","v":5},"Нет",null,{"$f":"IF(E13>0,F13/E13,0)","v":1},{"$f":"IF(J13=$J$1,0.5,0)","v":0},null,{"$f":"E13/Информационный!$Y$6","v":5}]
[3,"Художественное отделение",null,"ДХШИ №4",170,170,null,"4",5,"Нет",null,1,0,null,{"$f":"E14/Информационный!$Y$6","v":5}]
[4,"Художественное отделение",null,"ДХШИ №4",170,170,null,"5",5,"Нет",null,1,0,null,{"$f":"E15/Информационный!$Y$6","v":5}]
[5,"Художественное отделение",null,"ДХШИ №4",170,170,null,"6",5,"Нет",null,1,0,null,{"$f":"E16/Информационный!$Y$6","v":5}]
[6,"Художественное отделение",null,"ДХШИ №4",170,170,null,"7",5,"Нет",null,1,0,null,{"$f":"E17/Информационный!$Y$6","v":5}]
[7,"Компьютерна графика",null,"ДХШИ №4",102,102,null,"8",3.5,"Да",null,1,0.5,null,{"$f":"E18/Информационный!$Y$6","v":3}]
[8,"Компьютерна графика",null,"ДХШИ №4",102,102,null,"9",3.5,"Да",null,1,0.5,null,{"$f":"E19/Информационный!$Y$6","v":3}]
[9,null,null,null,null,null,null,null,0,null,null,0,0,null,{"$f":"E20/Информационный!$Y$6","v":0}]
[10,null,null,null,null,null,null,null,0,null,null,0,0,null,{"$f":"E21/Информационный!$Y$6","v":0}]
[11,null,null,null,null,null,null,null,0,null,null,0,0,null,{"$f":"E22/Информационный!$Y$6","v":0}]
[12,null,null,null,null,null,null,null,0,null,null,0,0,null,{"$f":"E23/Информационный!$Y$6","v":0}]
[13,null,null,null,null,null,null,null,0,null,null,0,0,null,{"$f":"E24/Информационный!$Y$6","v":0}]
[14,null,null,null,null,null,null,null,0,null,null,0,0,null,{"$f":"E25/Информационный!$Y$6","v":0}]
[15,null,null,null,null,null,null,null,0,null,null,0,0,null,{"$f":"E26/Информационный!$Y$6","v":0}]
[16,null,null,null,null,null,null,null,0,null,null,0,0,null,{"$f":"E27/Информационный!$Y$6","v":0}]
[17,null,null,null,null,null,null,null,0,null,null,0,0,null,{"$f":"E28/Информационный!$Y$6","v":0}]
[18,null,null,null,null,null,null,null,0,null,null,0,0,null,{"$f":"E29/Информационный!$Y$6","v":0}]
[19,null,null,null,null,null,null,null,0,null,null,0,0,null,{"$f":"E30/Информационный!$Y$6","v":0}]
[20,null,null,null,null,null,null,null,0,null,null,0,0,null,{"$f":"E31/Информационный!$Y$6","v":0}]
[21,null,null,null,null,null,null,null,0,null,null,0,0,null,{"$f":"E32/Информационный!$Y$6","v":0}]
[22,null,null,null,null,null,null,null,0,null,null,0,0,null,{"$f":"E33/Информационный!$Y$6","v":0}]
[23,null,null,null,null,null,null,null,0,null,null,0,0,null,{"$f":"E34/Информационный!$Y$6","v":0}]
[24,null,null,null,null,null,null,null,0,null,null,0,0,null,{"$f":"E35/Информационный!$Y$6","v":0}]
[25,null,null,null,null,null,null,null,0,null,null,0,0,null,{"$f":"E36/Информационный!$Y$6","v":0}]
[26,null,null,null,null,null,null,null,0,null,null,0,0,null,{"$f":"E37/Информационный!$Y$6","v":0}]
[27,null,null,null,null,null,null,null,0,null,null,0,0,null,{"$f":"E38/Информационный!$Y$6","v":0}]
[28,null,null,null,null,null,null,null,0,null,null,0,0,null,{"$f":"E39/Информационный!$Y$6","v":0}]
[29,null,null,null,null,null,null,null,0,null,null,0,0,null,{"$f":"E40/Информационный!$Y$6","v":0}]
[30,null,null,null,null,null,null,null,0,null,null,0,0,null,{"$f":"E41/Информационный!$Y$6","v":0}]
[31,null,null,null,null,null,null,null,0,null,null,0,0,null,{"$f":"E42/Информационный!$Y$6","v":0}]
[32,null,null,null,null,null,null,null,0,null,null,0,0,null,{"$f":"E43/Информационный!$Y$6","v":0}]
[33,null,null,null,null,null,null,null,0,null,null,0,0,null,{"$f":"E44/Информационный!$Y$6","v":0}]
[34,null,null,null,null,null,null,null,0,null,null,0,0,null,{"$f":"E45/Информационный!$Y$6","v":0}]
[35,null,null,null,null,null,null,null,0,null,null,0,0,null,{"$f":"E46/Информационный!$Y$6","v":0}]
[36,null,null,null,null,null,null,null,0,null,null,0,0,null,{"$f":"E47/Информационный!$Y$6","v":0}]
[37,null,null,null,null,null,null,null,0,null,null,0,0,null,{"$f":"E48/Информационный!$Y$6","v":0}]
[38,null,null,null,null,null,null,null,0,null,null,0,0,null,{"$f":"E49/Информационный!$Y$6","v":0}]
[39,null,null,null,null,null,null,null,0,null,null,0,0,null,{"$f":"E50/Информационный!$Y$6","v":0}]
[40,null,null,null,null,null,null,null,0,null,null,0,0,null,{"$f":"E51/Информационный!$Y$6","v":0}]
[41,null,null,null,null,null,null,null,0,null,null,0,0,null,{"$f":"E52/Информационный!$Y$6","v":0}]
[42,null,null,null,null,null,null,null,0,null,null,0,0,null,{"$f":"E53/Информационный!$Y$6","v":0}]
[43,null,null,null,null,null,null,null,0,null,null,0,0,null,{"$f":"E54/Информационный!$Y$6","v":0}]
[44,null,null,null,null,null,null,null,0,null,null,0,0,{"$f":"IF(G55=$I$5,1,IF(G55=$I$4,0.8,IF(G55=$I$3,0.6,IF(G55=$I$2,0.4,IF(G55=$I$1,0.2,0)))))","v":1},{"$f":"E55/Информационный!$Y$6","v":0}]
[45,null,null,null,null,null,null,null,0,null,null,0,0,{"$f":"IF(G56=$I$5,1,IF(G56=$I$4,0.8,IF(G56=$I$3,0.6,IF(G56=$I$2,0.4,IF(G56=$I$1,0.2,0)))))","v":1},{"$f":"E56/Информационный!$Y$6","v":0}]
[46,null,null,null,null,null,null,null,0,null,null,0,0,{"$f":"IF(G57=$I$5,1,IF(G57=$I$4,0.8,IF(G57=$I$3,0.6,IF(G57=$I$2,0.4,IF(G57=$I$1,0.2,0)))))","v":1},{"$f":"E57/Информационный!$Y$6","v":0}]
[47,null,null,null,null,null,null,null,0,null,null,0,0,null,{"$f":"E58/Информационный!$Y$6","v":0}]
[48,null,null,null,null,null,null,null,0,null,null,0,0,{"$f":"IF(G59=$I$5,1,IF(G59=$I$4,0.8,IF(G59=$I$3,0.6,IF(G59=$I$2,0.4,IF(G59=$I$1,0.2,0)))))","v":1},{"$f":"E59/Информационный!$Y$6","v":0}]
[49,null,null,null,null,null,null,null,0,null,null,0,0,{"$f":"IF(G60=$I$5,1,IF(G60=$I$4,0.8,IF(G60=$I$3,0.6,IF(G60=$I$2,0.4,IF(G60=$I$1,0.2,0)))))","v":1},{"$f":"E60/Информационный!$Y$6","v":0}]
[50,null,null,null,null,null,null,null,0,null,null,0,0,{"$f":"IF(G61=$I$5,1,IF(G61=$I$4,0.8,IF(G61=$I$3,0.6,IF(G61=$I$2,0.4,IF(G61=$I$1,0.2,0)))))","v":1},{"$f":"E61/Информационный!$Y$6","v":0}]
[null,null,null,null,null,null,null,{"$f":"NOW()","v":"2019-08-24T15:19:23.810"}]
[null,null,null,null,{"$f":"'Информация о школе'!$A$22","v":"Классный руководитель"}]
[null,null,null,null,"/_________________/"]
[null,null,null,null,{"$f":"'Информация о школе'!$D$22","v":"Главаля Ирина Геннадьевна"}]
["ИНФОРМАЦИЯ ОБ ОКОНЧАНИИ УЧРЕЖДЕНИЯ ДОПОЛНИТЕЛЬНОГО ОБРАЗОВАНИЯ"]
["№п\\п","Специальность по дилому (квалификация)",null,"Название учреждения доп.образования","№ диплома (свидетельства)",null,"Год окончания","Номер в приложении","класс","Балл"]
[]
[]
[1,"Архитектор",null,"ДХШИ№4","№ БА01234",null,2014,{"$f":"IF(D70<>0,\"14.1\",0)","v":"14.1"},7,{"$f":"COUNTIF(E70,\"*\")*5","v":5}]
[2,"Компьютерна графика",null,"ДХШИ№4","№ АВ 1214",null,2016,{"$f":"IF(D71<>0,\"14.2\",0)","v":"14.2"},9,{"$f":"COUNTIF(E71,\"*\")*5","v":5}]
[3,null,null,null,null,null,null,{"$f":"IF(D72<>0,\"14.3\",0)","v":0},null,{"$f":"COUNTIF(E72,\"*\")*5","v":0}]
[4,null,null,null,null,null,null,{"$f":"IF(D73<>0,\"14.4\",0)","v":0},null,{"$f":"COUNTIF(E73,\"*\")*5","v":0}]
[5,null,null,null,null,null,null,{"$f":"IF(D74<>0,\"14.5\",0)","v":0},null,{"$f":"COUNTIF(E74,\"*\")*5","v":0}]
[]
[]
[]
["Электронное портфолио учащегося"]
[]
[]
[]
[]
[]
[]
[]
[]
[]
[]
[]
[]
[]
[]
[]
[]
[]
[null,null,null,"1 класс",{"$f":"SUMIF($H$12:$H$61,\"1\",$O$12:$O$61)","v":0},{"$f":"IF( E96>=Информационный!$W$19,I96+1,  IF( E96=Информационный!$W$18,I96+0.8,IF( E96=Информационный!$W$17,I96+0.6, IF( E96=Информационный!$W$16,I96+0.4,   IF( E96=Информационный!$W$15,I96+0.2,0)))))","v":0},null,"1 класс",{"$f":"SUMIF($H$12:$H$61,\"1\",$I$12:$I$61)","v":0}]
[null,null,null,"2 класс",{"$f":"SUMIF($H$12:$H$61,\"2\",$O$12:$O$61)","v":5},{"$f":"IF( E97>=Информационный!$W$19,I97+1,  IF( E97=Информационный!$W$18,I97+0.8,IF( E97=Информационный!$W$17,I97+0.6, IF( E97=Информационный!$W$16,I97+0.4,   IF( E97=Информационный!$W$15,I97+0.2,0)))))","v":6},null,"2 класс",{"$f":"SUMIF($H$12:$H$61,\"2\",$I$12:$I$61)","v":5}]
[null,null,null,"3 класс",{"$f":"SUMIF($H$12:$H$61,\"3\",$O$12:$O$61)","v":5},{"$f":"IF( E98>=Информационный!$W$19,I98+1,  IF( E98=Информационный!$W$18,I98+0.8,IF( E98=Информационный!$W$17,I98+0.6, IF( E98=Информационный!$W$16,I98+0.4,   IF( E98=Информационный!$W$15,I98+0.2,0)))))","v":6},null,"3 класс",{"$f":"SUMIF($H$12:$H$61,\"3\",$I$12:$I$61)","v":5}]
[null,null,null,"4 класс",{"$f":"SUMIF($H$12:$H$61,\"4\",$O$12:$O$61)","v":5},{"$f":"IF( E99>=Информационный!$W$19,I99+1,  IF( E99=Информационный!$W$18,I99+0.8,IF( E99=Информационный!$W$17,I99+0.6, IF( E99=Информационный!$W$16,I99+0.4,   IF( E99=Информационный!$W$15,I99+0.2,0)))))","v":6},null,"4 класс",{"$f":"SUMIF($H$12:$H$61,\"4\",$I$12:$I$61)","v":5}]
[null,null,null,"5 класс",{"$f":"SUMIF($H$12:$H$61,\"5\",$O$12:$O$61)","v":5},{"$f":"IF( E100>=Информационный!$W$19,I100+1,  IF( E100=Информационный!$W$18,I100+0.8,IF( E100=Информационный!$W$17,I100+0.6, IF( E100=Информационный!$W$16,I100+0.4,   IF( E100=Информационный!$W$15,I100+0.2,0)))))","v":6},null,"5 класс",{"$f":"SUMIF($H$12:$H$61,\"5\",$I$12:$I$61)","v":5}]
[null,null,null,"6 класс",{"$f":"SUMIF($H$12:$H$61,\"6\",$O$12:$O$61)","v":5},{"$f":"IF( E101>=Информационный!$W$19,I101+1,  IF( E101=Информационный!$W$18,I101+0.8,IF( E101=Информационный!$W$17,I101+0.6, IF( E101=Информационный!$W$16,I101+0.4,   IF( E101=Информационный!$W$15,I101+0.2,0)))))","v":6},null,"6 класс",{"$f":"SUMIF($H$12:$H$61,\"6\",$I$12:$I$61)","v":5}]
[null,null,null,"7 класс",{"$f":"SUMIF($H$12:$H$61,\"7\",$O$12:$O$61)","v":5},{"$f":"IF( E102>=Информационный!$W$19,I102+1,  IF( E102=Информационный!$W$18,I102+0.8,IF( E102=Информационный!$W$17,I102+0.6, IF( E102=Информационный!$W$16,I102+0.4,   IF( E102=Информационный!$W$15,I102+0.2,0)))))","v":6},null,"7 класс",{"$f":"SUMIF($H$12:$H$61,\"7\",$I$12:$I$61)","v":5}]
[null,null,null,"8 класс",{"$f":"SUMIF($H$12:$H$61,\"8\",$O$12:$O$61)","v":3},{"$f":"IF( E103>=Информационный!$W$19,I103+1,  IF( E103=Информационный!$W$18,I103+0.8,IF( E103=Информационный!$W$17,I103+0.6, IF( E103=Информационный!$W$16,I103+0.4,   IF( E103=Информационный!$W$15,I103+0.2,0)))))","v":4.0999999999999996},null,"8 класс",{"$f":"SUMIF($H$12:$H$61,\"8\",$I$12:$I$61)","v":3.5}]
[null,null,null,"9 класс",{"$f":"SUMIF($H$12:$H$61,\"9\",$O$12:$O$61)","v":3},{"$f":"IF( E104>=Информационный!$W$19,I104+1,  IF( E104=Информационный!$W$18,I104+0.8,IF( E104=Информационный!$W$17,I104+0.6, IF( E104=Информационный!$W$16,I104+0.4,   IF( E104=Информационный!$W$15,I104+0.2,0)))))","v":4.0999999999999996},null,"9 класс",{"$f":"SUMIF($H$12:$H$61,\"9\",$I$12:$I$61)","v":3.5}]
[null,null,null,"10 класс",{"$f":"SUMIF($H$12:$H$61,\"10\",$O$12:$O$61)","v":0},{"$f":"IF( E105>=Информационный!$W$19,I105+1,  IF( E105=Информационный!$W$18,I105+0.8,IF( E105=Информационный!$W$17,I105+0.6, IF( E105=Информационный!$W$16,I105+0.4,   IF( E105=Информационный!$W$15,I105+0.2,0)))))","v":0},null,"10 класс",{"$f":"SUMIF($H$12:$H$61,\"10\",$I$12:$I$61)","v":0}]
[null,null,null,"11 класс",{"$f":"SUMIF($H$12:$H$61,\"11\",$O$12:$O$61)","v":0},{"$f":"IF( E106>=Информационный!$W$19,I106+1,  IF( E106=Информационный!$W$18,I106+0.8,IF( E106=Информационный!$W$17,I106+0.6, IF( E106=Информационный!$W$16,I106+0.4,   IF( E106=Информационный!$W$15,I106+0.2,0)))))","v":0},null,"11 класс",{"$f":"SUMIF($H$12:$H$61,\"11\",$I$12:$I$61)","v":0}]
[]
[null,null,null,null,null,null,null,"1 класс",{"$f":"SUMIF($I$70:$I$74,\"1\",$J$70:$K$74)","v":0}]
[null,null,null,null,null,null,null,"2 класс",{"$f":"SUMIF($I$70:$I$74,\"2\",$J$70:$K$74)","v":0}]
[null,null,null,null,null,null,null,"3 класс",{"$f":"SUMIF($I$70:$I$74,\"3\",$J$70:$K$74)","v":0}]
[null,null,null,null,null,null,null,"4 класс",{"$f":"SUMIF($I$70:$I$74,\"4\",$J$70:$K$74)","v":0}]
[null,null,null,null,null,null,null,"5 класс",{"$f":"SUMIF($I$70:$I$74,\"5\",$J$70:$K$74)","v":0}]
[null,null,null,null,null,null,null,"6 класс",{"$f":"SUMIF($I$70:$I$74,\"6\",$J$70:$K$74)","v":0}]
[null,null,null,null,null,null,null,"7 класс",{"$f":"SUMIF($I$70:$I$74,\"7\",$J$70:$K$74)","v":5}]
[null,null,null,null,null,null,null,"8 класс",{"$f":"SUMIF($I$70:$I$74,\"8\",$J$70:$K$74)","v":0}]
[null,null,null,null,null,null,null,"9 класс",{"$f":"SUMIF($I$70:$I$74,\"9\",$J$70:$K$74)","v":5}]
[null,null,null,null,null,null,null,"10 класс",{"$f":"SUMIF($I$70:$I$74,\"10\",$J$70:$K$74)","v":0}]
[null,null,null,null,null,null,null,"11 класс",{"$f":"SUMIF($I$70:$I$74,\"11\",$J$70:$K$74)","v":0}]
[]
[]
[]
[]
[]
[]
[]
[]
[]
[]
[]
[]
[]
[]
[]
[]
[]
[]
["Электронное портфолио учащегося"]

{"sheet":"Резюме","index":17,"n_rows":32,"n_cols":10,"rows_kept":32,"cut":false,"hidden":false,"merged":[[30,8,30,9],[31,1,31,3],[9,4,11,9],[13,1,14,3],[13,4,14,9],[22,4,22,9],[21,4,21,9],[17,4,17,8],[27,1,27,3],[28,1,28,3],[29,1,29,3],[27,4,27,9],[28,4,28,9],[29,4,29,9],[24,1,26,3],[24,4,26,9],[16,1,16,3],[17,1,17,3],[16,4,16,9],[24,0,26,0],[12,0,12,9],[21,1,21,3],[22,1,22,3],[13,0,14,0],[15,0,15,9],[23,0,23,9],[18,1,18,3],[19,1,19,3],[20,1,20,3],[20,4,20,255],[19,4,19,9],[18,4,18,9],[9,0,11,0],[9,1,11,3],[7,0,7,9],[8,0,8,1],[8,2,8,3],[8,4,8,7],[8,8,8,9]]}
["кк",null,"I","школьный",null,"благодарность"]
[null,null,"II","муниципальный",null,"грамота"]
[null,null,"III","региональный",null,"медаль"]
[null,null,"IV","федеральный",null,"значок"]
[null,null,"участие","международный",null,"благодарственное письмо"]
[null,null,"лауреат",null,null,"почётная грамота"]
[]
["РЕЗЮМЕ"]
[{"$f":"'Личные данные'!A9","v":"ЭЛЕКТРОННОЕ                "},null,{"$f":"'Личные данные'!C9","v":"ПОРТФОЛИО"},null,{"$f":"титульный!D57","v":"Антонова Светлана Степановна"},null,null,null,{"$f":"титульный!$D$58","v":"МБОУ \"СОШ№11\""}]
["№п\\п","Раздел резюме",null,null,"Описание"]
[]
[]
[]
[1,"Цель",null,null,"Опишите здесь цель  наисания вашего резюме"]
[]
["Личные данные"]
[2,"Дата рождения",null,null,"2000-07-31"]
[3,"Возраст",null,null,{"$f":"ROUNDDOWN(C31,0)","v":19},null,null,null,null,"лет"]
[4,"Место рождения",null,null,"г. Ангарск"]
[5,"Адрес",null,null,"Ангарск, 271-4-36"]
[6,"Телефон",null,null,"61-70-40"]
[7,"Электронный адрес",null,null,"valeria00@mail.ru"]
[8,"Образование",null,null,"указать название учебного заведения и годы обучения"]
["Опыт работы"]
[9,"Опыт работы",null,null,"Опишите ваши текущие  обязанности и достижения, испульзуя глаголы действия. Включите определенные достижени, которые достигнуты благодяря вашему вкладу"]
[]
[]
[10,"Владение иностранным языком",null,null,"Опишите уровень владения языком (понимаю, читаю, говорю)"]
[11,"Укажите дополнительное образование которым вы обладаете",null,null,"Учусь в художественной школе"]
[12,"Увлечения и интересы",null,null,"Укажите  только те интересы  и увлечения, которыми вы занимаетесь постоянно"]
[null,{"$f":"DAYS360(E17,I31)","v":6864},{"$f":"B31/360","v":19.066666666666666},null,null,null,null,null,{"$f":"NOW()","v":"2019-08-24T15:19:23.810"}]
[null,null,null,null,{"$f":"'Личные данные'!D10","v":"Антонова Светлана Степановна"}]

{"sheet":"Отзывы","index":18,"n_rows":18,"n_cols":7,"rows_kept":18,"cut":false,"hidden":false,"merged":[[14,0,14,7],[15,0,15,7],[16,0,17,2],[16,3,16,5],[16,6,16,7],[17,3,17,5],[17,6,17,7],[11,0,11,7],[12,3,12,5],[13,3,13,5],[10,0,10,7],[12,6,12,7],[13,6,13,7],[12,0,13,2],[9,0,9,7],[7,0,7,7],[8,0,8,1],[8,2,8,3],[8,4,8,5],[8,6,8,7]]}
["кк",null,"I","школьный",null,"благодарность"]
[null,null,"II","муниципальный",null,"грамота"]
[null,null,"III","региональный",null,"медаль"]
[null,null,"IV","федеральный",null,"значок"]
[null,null,"участие","международный",null,"благодарственное письмо"]
[null,null,"лауреат",null,null,"почётная грамота"]
[]
["ОТЗЫВЫ"]
[{"$f":"'Личные данные'!A9:B9","v":"ЭЛЕКТРОННОЕ                "},null,{"$f":"'Личные данные'!C9","v":"ПОРТФОЛИО"},null,{"$f":"титульный!D57","v":"Антонова Светлана Степановна"},null,{"$f":"титульный!D58","v":"МБОУ \"СОШ№11\""}]
[]
["ОТЗЫВ №1"]
[]
["Отзыв составил(а)"]
[null,null,null,"Подпись",null,null,"Расшифровка подпсиси"]
["ОТЗЫВ №2"]
[]
["Отзыв составил(а)"]
[null,null,null,"Подпись",null,null,"Расшифровка подпсиси"]

{"sheet":"Характеристика","index":19,"n_rows":19,"n_cols":8,"rows_kept":19,"cut":false,"hidden":false,"merged":[[7,0,7,7],[8,0,8,1],[8,2,8,3],[8,4,8,5],[8,6,8,7],[9,0,9,7],[10,0,10,7],[11,0,15,7],[16,0,17,2],[16,3,16,5],[16,6,16,7],[17,3,17,5],[17,6,17,7]]}
[3,null,"I","школьный",null,"благодарность"]
[null,null,"II","муниципальный",null,"грамота"]
[null,null,"III","региональный",null,"медаль"]
[null,null,"IV","федеральный",null,"значок"]
[null,null,"участие","международный",null,"благодарственное письмо"]
[null,null,"лауреат",null,null,"почётная грамота"]
[]
["ХАРАКТЕРИСТИКА классного руководителя"]
[{"$f":"'Личные данные'!A9:B9","v":"ЭЛЕКТРОННОЕ                "},null,{"$f":"'Личные данные'!C9","v":"ПОРТФОЛИО"},null,{"$f":"титульный!D57","v":"Антонова Светлана Степановна"},null,{"$f":"титульный!D58","v":"МБОУ \"СОШ№11\""}]
[]
["ХАРАКТЕРИСТИКА"]
["Дата рождения                                                                                                    1. Учебная деятельность                                                                                  1.1. Успеваемость                                                                                          1.2. Общее умственное разитие (кругозор, начитанность)                           1.3. Развитие речи (запса слов)                                                                      1.4. Способность к учению                                                                            1.5. Старается ли в учебной работе                                                                  2. Труд                                                                                                             2.1. Увлекается ли трудом                                                                                    2.2. Заинтересован ли в общественной значимости своего труда                    2.3. Развитость трудовых навыков                                                                     2.4. Организованность и дисциплинированность в труде                                 3. Специальные навыки и интересы                                                                3.1. Интересы                                                                                                    3.2. Что читает"]
[]
[]
[]
[]
["Характеристику составил(а)",null,null,null,null,null,{"$f":"'Информация о школе'!D22","v":"Главаля Ирина Геннадьевна"}]
[null,null,null,"Подпись",null,null,"Расшифровка подпсиси"]
[null,null,null,null,null,null,null,{"$f":"NOW()","v":"2019-08-24T15:19:23.810"}]

{"sheet":"Свод","index":20,"n_rows":115,"n_cols":18,"rows_kept":115,"cut":false,"hidden":false,"merged":[[24,5,35,5],[24,4,35,4],[41,0,41,1],[42,0,42,1],[43,0,43,1],[44,0,44,1],[36,0,36,1],[37,0,37,1],[38,0,38,1],[39,0,39,1],[40,0,40,1],[24,13,35,14],[39,13,39,14],[40,13,40,14],[24,6,35,6],[24,11,35,11],[55,0,55,2],[56,0,56,2],[50,9,51,11],[50,12,51,14],[52,9,52,11],[52,12,52,14],[50,3,51,5],[50,6,51,8],[52,3,52,5],[53,3,53,5],[45,0,45,1],[46,0,46,1],[35,0,35,1],[55,3,62,5],[50,0,51,2],[24,10,35,10],[47,0,47,1],[24,2,35,2],[24,3,35,3],[114,0,114,18],[110,0,110,16383],[111,0,111,16383],[112,0,112,18],[113,0,113,18],[37,13,37,14],[38,13,38,14],[19,0,19,5],[19,6,19,16],[20,0,20,5],[20,6,20,8],[21,0,21,5],[36,13,36,14],[24,12,35,12],[24,9,35,9],[24,7,35,7],[24,8,35,8],[60,6,60,8],[60,9,60,11],[52,6,52,8],[53,6,53,8],[53,9,53,11],[53,12,53,14],[54,12,54,14],[15,0,15,18],[17,0,17,2],[17,3,17,5],[91,16,91,18],[109,0,109,16383],[17,13,17,18],[17,6,17,12],[21,6,21,16],[24,0,34,1],[42,13,42,14],[41,13,41,14],[43,13,43,14],[44,13,44,14],[45,13,45,14],[46,13,46,14],[47,13,47,14],[91,1,91,2],[91,3,91,4],[91,5,91,15],[57,0,57,2],[58,0,58,2],[59,0,59,2],[60,0,60,2],[59,12,59,14],[56,9,56,11],[56,12,56,14],[89,11,89,18],[61,9,61,11],[62,9,62,11],[59,6,59,8],[59,9,59,11],[60,12,60,14],[57,6,57,8],[57,9,57,11],[57,12,57,14],[87,14,87,17],[85,9,85,18],[86,9,86,18],[73,15,74,17],[96,7,96,9],[96,11,96,18],[90,7,90,11],[90,16,90,18],[90,13,90,14],[85,7,85,8],[87,9,87,10],[87,11,87,12],[73,12,74,14],[75,6,75,8],[75,9,75,11],[75,12,75,14],[73,0,75,2],[82,6,82,9],[75,15,75,17],[80,7,80,9],[78,11,78,18],[80,11,80,18],[78,4,78,9],[73,3,74,5],[73,6,74,8],[73,9,74,11],[75,3,75,5],[66,0,68,2],[66,3,67,5],[66,6,67,8],[66,9,67,11],[58,6,58,8],[58,9,58,11],[58,12,58,14],[24,17,35,17],[54,0,54,11],[36,15,39,16],[40,15,44,16],[45,15,46,16],[24,15,35,16],[61,0,61,2],[62,0,62,2],[61,6,61,8],[68,3,68,5],[68,6,68,8],[68,9,68,11],[62,6,62,8],[55,6,55,8],[55,9,55,11],[55,12,55,14],[56,6,56,8]]}
[{"$f":"Информационный!B26","v":"Универсальный"},null,null,null,null,null,null,null,null,"биология",null,null,null,null,"зачислении"]
[{"$f":"Информационный!B27","v":"Физико-математический "},null,null,null,null,null,null,null,null,"география",null,null,null,null,"отказе в зачислении"]
[{"$f":"Информационный!B28","v":"Физико-математический "},null,null,null,null,null,null,null,null,"иностранный язык"]
[{"$f":"Информационный!B29","v":"Физико-химический "},null,null,null,null,null,null,null,null,"информатика"]
[{"$f":"Информационный!B30","v":"Химико-биологический "},null,null,null,null,null,null,null,null,"история"]
[{"$f":"Информационный!B31","v":"Биолого-географический "},null,null,null,null,null,null,null,null,"литература"]
[{"$f":"Информационный!B32","v":"Социально-экономический "},null,null,null,null,null,null,null,null,"обществознание"]
[{"$f":"Информационный!B33","v":"Социально-гуманитарный "},null,null,null,null,null,null,null,null,"физика"]
[{"$f":"Информационный!B34","v":"Филологический"},null,null,null,null,null,null,null,null,"химия"]
[{"$f":"Информационный!B35","v":"Информационно-технологический "}]
[{"$f":"Информационный!B36","v":"Агротехнологический"}]
[{"$f":"Информационный!B37","v":"Индустриально-технологический "}]
[{"$f":"Информационный!B38","v":"Художественно-эстетический "}]
[{"$f":"Информационный!B39","v":"Педагогический (психолого-педагогический) "}]
[{"$f":"Информационный!B40","v":"Математический"}]
["СВОДНАЯ ВЕДОМОСТЬ ОБРАЗОВАТЕЛЬНОГО РЕЙТИНГА"]
[]
[{"$f":"'Личные данные'!$A$9","v":"ЭЛЕКТРОННОЕ                "},null,null,{"$f":"'Личные данные'!$C$9","v":"ПОРТФОЛИО"},null,null,{"$f":"титульный!$D$57","v":"Антонова Светлана Степановна"},null,null,null,null,null,null,{"$f":"титульный!$D$58","v":"МБОУ \"СОШ№11\""}]
[]
["Фамилия Имя Отчество",null,null,null,null,null,{"$f":"'Личные данные'!D10","v":"Антонова Светлана Степановна"}]
["Класс",null,null,null,null,null,{"$f":"'Личные данные'!D17","v":"9\"А\""}]
["Профиль",null,null,null,null,null,"Математический"]
[]
["1. Образовательный рейтинг по годам обучения"]
["КРИТЕРИЙ",null,"средний балл учебного года","Предметные конкурсы","Публикации","Благодарности и награды","Социальные практики","Роль в  самоуправлении","Творческие конкурсы","Исследовательская деятельность","Предметное доп образование","Дополнительное образование","За получение диплома о допобразовании","ИТОГО",null,"Уровень образования",null,"Отсутствие пропусков без уважительной причины"]
[]
[]
[]
[]
[]
[]
[]
[]
[]
[]
["класс"]
[1,null,null,{"$f":"Предметные!$I138","v":5.6000000000000005},{"$f":"Публикации!$I55","v":1.5},{"$f":"Награды!I85","v":1},{"$f":"СОЦпрактики!I58","v":4},{"$f":"Самоуправление!I42","v":0},{"$f":"Творческие!I138","v":2.6},{"$f":"НИД!I40","v":5.6000000000000005},{"$f":"'Курсы по выбору'!F96","v":0},{"$f":"Допобразование!F96","v":0},{"$f":"Допобразование!I108","v":0},{"$f":"SUMIF(C37:M37,\">0\")","v":20.3},null,"Уровень НОО",null,{"$f":"IF('Учебная деятельность'!$C$39='Учебная деятельность'!$C$40,Информационный!$F$20,0)","v":0}]
[2,null,{"$f":"'Учебная деятельность'!D41","v":5},{"$f":"Предметные!$I139","v":19.2},{"$f":"Публикации!$I56","v":0},{"$f":"Награды!I86","v":0},{"$f":"СОЦпрактики!I59","v":0},{"$f":"Самоуправление!I43","v":5.2},{"$f":"Творческие!I139","v":0},{"$f":"НИД!I41","v":0},{"$f":"'Курсы по выбору'!F97","v":0},{"$f":"Допобразование!F97","v":6},{"$f":"Допобразование!I109","v":0},35.4,null,null,null,{"$f":"IF('Учебная деятельность'!$D$39='Учебная деятельность'!$D$40,Информационный!$F$20,0)","v":0}]
[3,null,{"$f":"'Учебная деятельность'!E41","v":5},{"$f":"Предметные!$I140","v":15},{"$f":"Публикации!$I57","v":0},{"$f":"Награды!I87","v":1},{"$f":"СОЦпрактики!I60","v":0},{"$f":"Самоуправление!I44","v":5.2},{"$f":"Творческие!I140","v":7},{"$f":"НИД!I42","v":0},{"$f":"'Курсы по выбору'!F98","v":0},{"$f":"Допобразование!F98","v":6},{"$f":"Допобразование!I110","v":0},39.200000000000003,null,null,null,{"$f":"IF('Учебная деятельность'!$E$39='Учебная деятельность'!$E$40,Информационный!$F$20,0)","v":10}]
[4,null,{"$f":"'Учебная деятельность'!F41","v":5},{"$f":"Предметные!$I141","v":38.4},{"$f":"Публикации!$I58","v":0},{"$f":"Награды!I88","v":1},{"$f":"СОЦпрактики!I61","v":0},{"$f":"Самоуправление!I45","v":5.4},{"$f":"Творческие!I141","v":8.4},{"$f":"НИД!I43","v":3.9},{"$f":"'Курсы по выбору'!F99","v":0},{"$f":"Допобразование!F99","v":6},{"$f":"Допобразование!I111","v":0},68.099999999999994,null,null,null,{"$f":"IF('Учебная деятельность'!$F$39='Учебная деятельность'!$F$40,Информационный!$F$20,0)","v":10}]
[5,null,{"$f":"'Учебная деятельность'!G41","v":5},{"$f":"Предметные!$I142","v":33.200000000000003},{"$f":"Публикации!$I59","v":0},{"$f":"Награды!I89","v":1},{"$f":"СОЦпрактики!I62","v":0},{"$f":"Самоуправление!I46","v":5.4},{"$f":"Творческие!I142","v":8.6000000000000014},{"$f":"НИД!I44","v":0},{"$f":"'Курсы по выбору'!F100","v":0},{"$f":"Допобразование!F100","v":6},{"$f":"Допобразование!I112","v":0},59.2,null,"Уровень ООО",null,{"$f":"IF('Учебная деятельность'!$G$39='Учебная деятельность'!$G$40,Информационный!$F$20,0)","v":10}]
[6,null,{"$f":"'Учебная деятельность'!H41","v":5},{"$f":"Предметные!$I143","v":46.400000000000006},{"$f":"Публикации!$I60","v":0},{"$f":"Награды!I90","v":5},{"$f":"СОЦпрактики!I63","v":0},{"$f":"Самоуправление!I47","v":3.2},{"$f":"Творческие!I143","v":5.6000000000000005},{"$f":"НИД!I45","v":0},{"$f":"'Курсы по выбору'!F101","v":3.164705882352941},{"$f":"Допобразование!F101","v":6},{"$f":"Допобразование!I113","v":0},74.364705882352951,null,null,null,{"$f":"IF('Учебная деятельность'!$H$39='Учебная деятельность'!$H$40,Информационный!$F$20,0)","v":10}]
[7,null,{"$f":"'Учебная деятельность'!I41","v":5},{"$f":"Предметные!$I144","v":80.500000000000028},{"$f":"Публикации!$I61","v":0},{"$f":"Награды!I91","v":1},{"$f":"СОЦпрактики!I64","v":0},{"$f":"Самоуправление!I48","v":3.2},{"$f":"Творческие!I144","v":3},{"$f":"НИД!I46","v":0},{"$f":"'Курсы по выбору'!F102","v":1.9352941176470588},{"$f":"Допобразование!F102","v":6},{"$f":"Допобразование!I114","v":5},105.63529411764709,null,null,null,{"$f":"IF('Учебная деятельность'!$I$39='Учебная деятельность'!$I$40,Информационный!$F$20,0)","v":0}]
[8,null,{"$f":"'Учебная деятельность'!J41","v":5},{"$f":"Предметные!$I145","v":0},{"$f":"Публикации!$I62","v":0},{"$f":"Награды!I92","v":0},{"$f":"СОЦпрактики!I65","v":0},{"$f":"Самоуправление!I49","v":0},{"$f":"Творческие!I145","v":0},{"$f":"НИД!I47","v":0},{"$f":"'Курсы по выбору'!F103","v":0.2},{"$f":"Допобразование!F103","v":4.0999999999999996},{"$f":"Допобразование!I115","v":0},9.3000000000000007,null,null,null,{"$f":"IF('Учебная деятельность'!$J$39='Учебная деятельность'!$J$40,Информационный!$F$20,0)","v":10}]
[9,null,{"$f":"'Учебная деятельность'!K41","v":5},{"$f":"Предметные!$I146","v":48.6},{"$f":"Публикации!$I63","v":0},{"$f":"Награды!I93","v":0},{"$f":"СОЦпрактики!I66","v":0},{"$f":"Самоуправление!I50","v":3.4},{"$f":"Творческие!I146","v":5.6000000000000005},{"$f":"НИД!I48","v":0},{"$f":"'Курсы по выбору'!F104","v":11},{"$f":"Допобразование!F104","v":4.0999999999999996},{"$f":"Допобразование!I116","v":5},82.699999999999989,null,null,null,{"$f":"IF('Учебная деятельность'!$K$39='Учебная деятельность'!$K$40,Информационный!$F$20,0)","v":10}]
[10,null,{"$f":"'Учебная деятельность'!L41","v":""},{"$f":"Предметные!$I147","v":0},{"$f":"Публикации!$I64","v":0},{"$f":"Награды!I94","v":0},{"$f":"СОЦпрактики!I67","v":0},{"$f":"Самоуправление!I51","v":0},{"$f":"Творческие!I147","v":0},{"$f":"НИД!I49","v":0},{"$f":"'Курсы по выбору'!F105","v":0},{"$f":"Допобразование!F105","v":0},{"$f":"Допобразование!I117","v":0},0,null,"Уровень СОО",null,{"$f":"IF('Учебная деятельность'!$L$39='Учебная деятельность'!$L$40,Информационный!$F$20,0)","v":10}]
[11,null,{"$f":"'Учебная деятельность'!M41","v":""},{"$f":"Предметные!$I148","v":0},{"$f":"Публикации!$I65","v":0},{"$f":"Награды!I95","v":0},{"$f":"СОЦпрактики!I68","v":0},{"$f":"Самоуправление!I52","v":0},{"$f":"Творческие!I148","v":0},{"$f":"НИД!I50","v":0},{"$f":"'Курсы по выбору'!F106","v":0},{"$f":"Допобразование!F106","v":0},{"$f":"Допобразование!I118","v":0},0,null,null,null,{"$f":"IF('Учебная деятельность'!$M$39='Учебная деятельность'!$M$40,Информационный!$F$20,0)","v":10}]
["ИТОГО",null,{"$f":"SUMIF(C37:C47,\">0\")","v":40},{"$f":"SUM(D37:D47)","v":286.90000000000003},{"$f":"SUM(E37:E47)","v":1.5},10,4,31,40.800000000000004,9.5,16.3,44.2,10,494.20000000000005]
[]
["2. Образовательный рейтинг по результатм ГИА"]
["Предмет",null,null,"Уровень НОО",null,null,"Уровень ООО",null,null,"Уровень СОО",null,null,"баллов"]
[]
["Математика",null,null,null,null,null,32,null,null,null,null,null,{"$f":"IF(A53<>0,\"баллов\",0)","v":"баллов"}]
["Русский язык",null,null,null,null,null,28,null,null,null,null,null,{"$f":"IF(A54<>0,\"баллов\",0)","v":"баллов"}]
["По выбору"]
["информатика",null,null,null,null,null,28,null,null,null,null,null,"баллов"]
["физика",null,null,null,null,null,40,null,null,null,null,null,"баллов"]
[null,null,null,null,null,null,null,null,null,null,null,null,0]
[null,null,null,null,null,null,null,null,null,null,null,null,0]
[null,null,null,null,null,null,null,null,null,null,null,null,0]
[null,null,null,null,null,null,null,null,null,null,null,null,0]
[]
[]
[]
[]
["3. Средний балл аттестата"]
["Средний балл аттестата",null,null,"Уровень ООО",null,null,"Уровень СОО",null,null,"баллов"]
[]
[null,null,null,5,null,null,null,null,null,{"$f":"IF(A67<>0,\"баллов\",0)","v":"баллов"}]
[]
[]
["4. Общий бал за портфолио"]
[]
["ОБЩИЙ БАЛЛ  ЗА ПОРТФОЛИО",null,null,"Уровень НОО",null,null,"Уровень ООО",null,null,"Уровень СОО",null,null,"баллов",null,null,"ИТОГО БАЛЛОВ"]
[]
[null,null,null,{"$f":"N37+N38+N39+N40+D53+D54+R37+R38+R39+R40","v":183},null,null,{"$f":"N41+N42+N43+N44+N45+G53+G54+G56+G57+G58+G59+G60+G61+G62+G63+G69+R41+R42++R43+R44+R45","v":499.20000000000005},null,null,{"$f":"N46+N47+J53+J54+J56+J57+J58+J59+J60+J61+J62+J63+G69+R46+R47","v":20},null,null,{"$f":"IF(A74<>0,\"баллов\",0)","v":"баллов"},null,null,{"$f":"D76+G76+J76","v":702.2}]
[]
[]
["Подпись ученика",null,null,null,null,null,null,null,null,null,null,{"$f":"$G$20","v":"Антонова Светлана Степановна"}]
[]
["Подпись классного руководителя",null,null,null,null,null,null,null,null,null,null,{"$f":"'Информация о школе'!$D$22","v":"Главаля Ирина Геннадьевна"}]
[]
["Дата составления документа",null,null,null,null,null,{"$f":"NOW()","v":"2019-08-24T15:19:23.810"}]
[]
[]
["Итоговый рейтинг по классу",null,null,null,null,null,null,1,null,"данные занесены в итоговый протокол  рассмотре"]
[null,null,null,null,null,null,null,null,null,"ния образовательных портфолио протокол"]
[null,null,null,null,null,null,null,null,null,"№",null,null,null,"от"]
[]
["На основании итогового рейтинга принято решение о  ",null,null,null,null,null,null,null,null,null,null,"зачислении"]
["оформленного приказом директора ",null,null,null,null,null,null,{"$f":"'Информация о школе'!D9","v":"МБОУ \"СОШ№11\""},null,null,null,null," №",null,null,"от"]
["в ",9,null,"класс",null,{"$f":"G22","v":"Математический"},null,null,null,null,null,null,null,null,null,null,"профиль"]
[]
[]
[]
[]
["Заместитель директора по УВР ",null,null,null,null,null,null,null,null,null,null,{"$f":"'Информация о школе'!$D$21","v":"Лобанов Алексей Александрович"}]
[]
[]
[]
[]
[]
[]
[]
[]
[]
[]
[]
[]
[{"$f":"титульный!A67","v":"Автор: заместитель директора по УВР Лобанов Алексей Александрович"}]
[{"$f":"титульный!A68","v":"МБОУ \"СОШ№11\""}]
[{"$f":"титульный!A69","v":"г. Ангарск"}]
[{"$f":"титульный!C70","v":"aalobanov@mail.ru"}]
[{"$f":"титульный!C71","v":"www.aalobanov.ucoz.ru"}]
["Электронное портфолио учащегося"]

{"sheet":"Приложения","index":21,"n_rows":156,"n_cols":17,"rows_kept":156,"cut":false,"hidden":false,"merged":[[2,0,3,23],[4,0,4,23],[5,0,10,1],[5,2,10,3],[5,4,10,5],[5,10,10,11],[0,0,0,23],[1,0,1,4],[1,5,1,9],[1,10,1,15],[1,16,1,23],[155,0,155,23],[45,14,48,23],[13,14,13,15],[14,14,14,15],[15,14,15,15],[16,14,16,15],[11,14,11,15],[12,14,12,15],[5,12,10,13],[5,6,10,7],[5,8,10,9],[5,14,10,15]]}
["ПРИЛОЖЕНИЕ"]
[{"$f":"'Личные данные'!$A$9","v":"ЭЛЕКТРОННОЕ                "},null,null,null,null,{"$f":"'Личные данные'!$C$9","v":"ПОРТФОЛИО"},null,null,null,null,{"$f":"титульный!$D$57","v":"Антонова Светлана Степановна"},null,null,null,null,null,{"$f":"титульный!$D$58","v":"МБОУ \"СОШ№11\""}]
["Раздел приложения"]
[]
[]
[{"$f":"НИД!A6","v":"ИССЛЕДОВАТЕЛЬСКАЯ (ПРОЕКТНАЯ) ДЕЯТЕЛЬНОСТЬ"},null,{"$f":"Предметные!A6","v":"УЧАСТИЕ в ПРЕДМЕТНЫХ  конкурсах, играх, олимпиадах"},null,{"$f":"Публикации!A6","v":"ПУБЛИКАЦИИ"},null,{"$f":"Награды!A6","v":"БЛАГОДАРНОСТИ, ГРАМОТЫ, НАГРАДЫ"},null,{"$f":"СОЦпрактики!A6","v":"СОЦИАЛЬНЫЕ ПРАКТИКИ"},null,{"$f":"Самоуправление!A6","v":"УЧЕНИЧЕСКОЕ САМОУПРАВЛЕНИЕ"},null,{"$f":"Творческие!A6","v":"УЧАСТИЕ в ТВОРЧЕСКИХ  конкурсах"},null,{"$f":"Допобразование!A66","v":"ИНФОРМАЦИЯ ОБ ОКОНЧАНИИ УЧРЕЖДЕНИЯ ДОПОЛНИТЕЛЬНОГО ОБРАЗОВАНИЯ"}]
[]
[]
[]
[]
[]
[{"$f":"НИД!J12","v":"6."},{"$f":"НИД!K12","v":1},{"$f":"Предметные!J12","v":"7."},{"$f":"Предметные!K12","v":1},{"$f":"Публикации!J12","v":"8."},{"$f":"Публикации!K12","v":1},{"$f":"Награды!J12","v":"9."},{"$f":"Награды!K12","v":1},{"$f":"СОЦпрактики!J12","v":"10."},{"$f":"СОЦпрактики!K12","v":1},{"$f":"Самоуправление!J12","v":"11."},{"$f":"Самоуправление!K12","v":1},{"$f":"Творческие!J12","v":"12."},{"$f":"Творческие!K12","v":1},{"$f":"Допобразование!H70","v":"14.1"}]
[{"$f":"НИД!J13","v":"6."},{"$f":"НИД!K13","v":2},{"$f":"Предметные!J13","v":"7."},{"$f":"Предметные!K13","v":2},{"$f":"Публикации!J13","v":"8."},{"$f":"Публикации!K13","v":" "},{"$f":"Награды!J13","v":"9."},{"$f":"Награды!K13","v":2},{"$f":"СОЦпрактики!J13","v":"10."},{"$f":"СОЦпрактики!K13","v":" "},{"$f":"Самоуправление!J13","v":"11."},{"$f":"Самоуправление!K13","v":2},{"$f":"Творческие!J13","v":"12."},{"$f":"Творческие!K13","v":2},{"$f":"Допобразование!H71","v":"14.2"}]
[{"$f":"НИД!J14","v":"6."},{"$f":"НИД!K14","v":" "},{"$f":"Предметные!J14","v":"7."},{"$f":"Предметные!K14","v":3},{"$f":"Публикации!J14","v":"8."},{"$f":"Публикации!K14","v":" "},{"$f":"Награды!J14","v":"9."},{"$f":"Награды!K14","v":3},{"$f":"СОЦпрактики!J14","v":"10."},{"$f":"СОЦпрактики!K14","v":" "},{"$f":"Самоуправление!J14","v":"11."},{"$f":"Самоуправление!K14","v":3},{"$f":"Творческие!J14","v":"12."},{"$f":"Творческие!K14","v":3},{"$f":"Допобразование!H72","v":0}]
[{"$f":"НИД!J15","v":"6."},{"$f":"НИД!K15","v":" "},{"$f":"Предметные!J15","v":"7."},{"$f":"Предметные!K15","v":4},{"$f":"Публикации!J15","v":"8."},{"$f":"Публикации!K15","v":" "},{"$f":"Награды!J15","v":"9."},{"$f":"Награды!K15","v":4},{"$f":"СОЦпрактики!J15","v":"10."},{"$f":"СОЦпрактики!K15","v":" "},{"$f":"Самоуправление!J15","v":"11."},{"$f":"Самоуправление!K15","v":4},{"$f":"Творческие!J15","v":"12."},{"$f":"Творческие!K15","v":4},{"$f":"Допобразование!H73","v":0}]
[{"$f":"НИД!J16","v":"6."},{"$f":"НИД!K16","v":" "},{"$f":"Предметные!J16","v":"7."},{"$f":"Предметные!K16","v":5},{"$f":"Публикации!J16","v":"8."},{"$f":"Публикации!K16","v":" "},{"$f":"Награды!J16","v":"9."},{"$f":"Награды!K16","v":5},{"$f":"СОЦпрактики!J16","v":"10."},{"$f":"СОЦпрактики!K16","v":" "},{"$f":"Самоуправление!J16","v":"11."},{"$f":"Самоуправление!K16","v":5},{"$f":"Творческие!J16","v":"12."},{"$f":"Творческие!K16","v":5},{"$f":"Допобразование!H74","v":0}]
[{"$f":"НИД!J17","v":"6."},{"$f":"НИД!K17","v":" "},{"$f":"Предметные!J17","v":"7."},{"$f":"Предметные!K17","v":6},{"$f":"Публикации!J17","v":"8."},{"$f":"Публикации!K17","v":" "},{"$f":"Награды!J17","v":"9."},{"$f":"Награды!K17","v":6},{"$f":"СОЦпрактики!J17","v":"10."},{"$f":"СОЦпрактики!K17","v":" "},{"$f":"Самоуправление!J17","v":"11."},{"$f":"Самоуправление!K17","v":6},{"$f":"Творческие!J17","v":"12."},{"$f":"Творческие!K17","v":6}]
[{"$f":"НИД!J18","v":"6."},{"$f":"НИД!K18","v":" "},{"$f":"Предметные!J18","v":"7."},{"$f":"Предметные!K18","v":7},{"$f":"Публикации!J18","v":"8."},{"$f":"Публикации!K18","v":" "},{"$f":"Награды!J18","v":"9."},{"$f":"Награды!K18","v":0},{"$f":"СОЦпрактики!J18","v":"10."},{"$f":"СОЦпрактики!K18","v":" "},{"$f":"Самоуправление!J18","v":"11."},{"$f":"Самоуправление!K18","v":7},{"$f":"Творческие!J18","v":"12."},{"$f":"Творческие!K18","v":7}]
[{"$f":"НИД!J19","v":"6."},{"$f":"НИД!K19","v":" "},{"$f":"Предметные!J19","v":"7."},{"$f":"Предметные!K19","v":8},{"$f":"Публикации!J19","v":"8."},{"$f":"Публикации!K19","v":" "},{"$f":"Награды!J19","v":"9."},{"$f":"Награды!K19","v":0},{"$f":"СОЦпрактики!J19","v":"10."},{"$f":"СОЦпрактики!K19","v":" "},{"$f":"Самоуправление!J19","v":"11."},{"$f":"Самоуправление!K19","v":8},{"$f":"Творческие!J19","v":"12."},{"$f":"Творческие!K19","v":8}]
[{"$f":"НИД!J20","v":"6."},{"$f":"НИД!K20","v":" "},{"$f":"Предметные!J20","v":"7."},{"$f":"Предметные!K20","v":9},{"$f":"Публикации!J20","v":"8."},{"$f":"Публикации!K20","v":" "},{"$f":"Награды!J20","v":"9."},{"$f":"Награды!K20","v":0},{"$f":"СОЦпрактики!J20","v":"10."},{"$f":"СОЦпрактики!K20","v":" "},{"$f":"Самоуправление!J20","v":"11."},{"$f":"Самоуправление!K20","v":" "},{"$f":"Творческие!J20","v":"12."},{"$f":"Творческие!K20","v":9}]
[{"$f":"НИД!J21","v":"6."},{"$f":"НИД!K21","v":" "},{"$f":"Предметные!J21","v":"7."},{"$f":"Предметные!K21","v":10},{"$f":"Публикации!J21","v":"8."},{"$f":"Публикации!K21","v":" "},{"$f":"Награды!J21","v":"9."},{"$f":"Награды!K21","v":0},{"$f":"СОЦпрактики!J21","v":"10."},{"$f":"СОЦпрактики!K21","v":" "},{"$f":"Самоуправление!J21","v":"11."},{"$f":"Самоуправление!K21","v":" "},{"$f":"Творческие!J21","v":"12."},{"$f":"Творческие!K21","v":" "}]
[{"$f":"НИД!J22","v":"6."},{"$f":"НИД!K22","v":" "},{"$f":"Предметные!J22","v":"7."},{"$f":"Предметные!K22","v":11},{"$f":"Публикации!J22","v":"8."},{"$f":"Публикации!K22","v":" "},{"$f":"Награды!J22","v":"9."},{"$f":"Награды!K22","v":0},{"$f":"СОЦпрактики!J22","v":"10."},{"$f":"СОЦпрактики!K22","v":" "},{"$f":"Самоуправление!J22","v":"11."},{"$f":"Самоуправление!K22","v":" "},{"$f":"Творческие!J22","v":"12."},{"$f":"Творческие!K22","v":" "}]
[{"$f":"НИД!J23","v":"6."},{"$f":"НИД!K23","v":" "},{"$f":"Предметные!J23","v":"7."},{"$f":"Предметные!K23","v":12},{"$f":"Публикации!J23","v":"8."},{"$f":"Публикации!K23","v":" "},{"$f":"Награды!J23","v":"9."},{"$f":"Награды!K23","v":0},{"$f":"СОЦпрактики!J23","v":"10."},{"$f":"СОЦпрактики!K23","v":" "},null,null,{"$f":"Творческие!J23","v":"12."},{"$f":"Творческие!K23","v":" "}]
[{"$f":"НИД!J24","v":"6."},{"$f":"НИД!K24","v":" "},{"$f":"Предметные!J24","v":"7."},{"$f":"Предметные!K24","v":13},{"$f":"Публикации!J24","v":"8."},{"$f":"Публикации!K24","v":" "},{"$f":"Награды!J24","v":"9."},{"$f":"Награды!K24","v":0},{"$f":"СОЦпрактики!J24","v":"10."},{"$f":"СОЦпрактики!K24","v":" "},null,null,{"$f":"Творческие!J24","v":"12."},{"$f":"Творческие!K24","v":" "}]
[{"$f":"НИД!J25","v":"6."},{"$f":"НИД!K25","v":" "},{"$f":"Предметные!J25","v":"7."},{"$f":"Предметные!K25","v":14},{"$f":"Публикации!J25","v":"8."},{"$f":"Публикации!K25","v":" "},{"$f":"Награды!J25","v":"9."},{"$f":"Награды!K25","v":0},{"$f":"СОЦпрактики!J25","v":"10."},{"$f":"СОЦпрактики!K25","v":" "},null,null,{"$f":"Творческие!J25","v":"12."},{"$f":"Творческие!K25","v":" "}]
[{"$f":"НИД!J26","v":"6."},{"$f":"НИД!K26","v":" "},{"$f":"Предметные!J26","v":"7."},{"$f":"Предметные!K26","v":15},{"$f":"Публикации!J26","v":"8."},{"$f":"Публикации!K26","v":" "},{"$f":"Награды!J26","v":"9."},{"$f":"Награды!K26","v":0},{"$f":"СОЦпрактики!J26","v":"10."},{"$f":"СОЦпрактики!K26","v":" "},null,null,{"$f":"Творческие!J26","v":"12."},{"$f":"Творческие!K26","v":" "}]
[{"$f":"НИД!J27","v":"6."},{"$f":"НИД!K27","v":" "},{"$f":"Предметные!J27","v":"7."},{"$f":"Предметные!K27","v":16},{"$f":"Публикации!J27","v":"8."},{"$f":"Публикации!K27","v":" "},{"$f":"Награды!J27","v":"9."},{"$f":"Награды!K27","v":0},{"$f":"СОЦпрактики!J27","v":"10."},{"$f":"СОЦпрактики!K27","v":" "},null,null,{"$f":"Творческие!J27","v":"12."},{"$f":"Творческие!K27","v":" "}]
[null,null,{"$f":"Предметные!J28","v":"7."},{"$f":"Предметные!K28","v":17},{"$f":"Публикации!J28","v":"8."},{"$f":"Публикации!K28","v":" "},{"$f":"Награды!J28","v":"9."},{"$f":"Награды!K28","v":0},{"$f":"СОЦпрактики!J28","v":"10."},{"$f":"СОЦпрактики!K28","v":" "},null,null,{"$f":"Творческие!J28","v":"12."},{"$f":"Творческие!K28","v":" "}]
[null,null,{"$f":"Предметные!J29","v":"7."},{"$f":"Предметные!K29","v":18},{"$f":"Публикации!J29","v":"8."},{"$f":"Публикации!K29","v":" "},{"$f":"Награды!J29","v":"9."},{"$f":"Награды!K29","v":0},{"$f":"СОЦпрактики!J29","v":"10."},{"$f":"СОЦпрактики!K29","v":" "},null,null,{"$f":"Творческие!J29","v":"12."},{"$f":"Творческие!K29","v":" "}]
[null,null,{"$f":"Предметные!J30","v":"7."},{"$f":"Предметные!K30","v":19},{"$f":"Публикации!J30","v":"8."},{"$f":"Публикации!K30","v":" "},{"$f":"Награды!J30","v":"9."},{"$f":"Награды!K30","v":0},{"$f":"СОЦпрактики!J30","v":"10."},{"$f":"СОЦпрактики!K30","v":" "},null,null,{"$f":"Творческие!J30","v":"12."},{"$f":"Творческие!K30","v":" "}]
[null,null,{"$f":"Предметные!J31","v":"7."},{"$f":"Предметные!K31","v":20},{"$f":"Публикации!J31","v":"8."},{"$f":"Публикации!K31","v":" "},{"$f":"Награды!J31","v":"9."},{"$f":"Награды!K31","v":0},{"$f":"СОЦпрактики!J31","v":"10."},{"$f":"СОЦпрактики!K31","v":" "},null,null,{"$f":"Творческие!J31","v":"12."},{"$f":"Творческие!K31","v":" "}]
[null,null,{"$f":"Предметные!J32","v":"7."},{"$f":"Предметные!K32","v":21},null,null,{"$f":"Награды!J32","v":"9."},{"$f":"Награды!K32","v":0},null,null,null,null,{"$f":"Творческие!J32","v":"12."},{"$f":"Творческие!K32","v":" "}]
[null,null,{"$f":"Предметные!J33","v":"7."},{"$f":"Предметные!K33","v":22},null,null,{"$f":"Награды!J33","v":"9."},{"$f":"Награды!K33","v":0},null,null,null,null,{"$f":"Творческие!J33","v":"12."},{"$f":"Творческие!K33","v":" "}]
[null,null,{"$f":"Предметные!J34","v":"7."},{"$f":"Предметные!K34","v":23},null,null,{"$f":"Награды!J34","v":"9."},{"$f":"Награды!K34","v":0},null,null,null,null,{"$f":"Творческие!J34","v":"12."},{"$f":"Творческие!K34","v":" "}]
[null,null,{"$f":"Предметные!J35","v":"7."},{"$f":"Предметные!K35","v":24},null,null,{"$f":"Награды!J35","v":"9."},{"$f":"Награды!K35","v":0},null,null,null,null,{"$f":"Творческие!J35","v":"12."},{"$f":"Творческие!K35","v":" "}]
[null,null,{"$f":"Предметные!J36","v":"7."},{"$f":"Предметные!K36","v":25},null,null,{"$f":"Награды!J36","v":"9."},{"$f":"Награды!K36","v":" "},null,null,null,null,{"$f":"Творческие!J36","v":"12."},{"$f":"Творческие!K36","v":" "}]
[null,null,{"$f":"Предметные!J37","v":"7."},{"$f":"Предметные!K37","v":26},null,null,{"$f":"Награды!J37","v":"9."},{"$f":"Награды!K37","v":" "},null,null,null,null,{"$f":"Творческие!J37","v":"12."},{"$f":"Творческие!K37","v":" "}]
[null,null,{"$f":"Предметные!J38","v":"7."},{"$f":"Предметные!K38","v":27},null,null,{"$f":"Награды!J38","v":"9."},{"$f":"Награды!K38","v":" "},null,null,null,null,{"$f":"Творческие!J38","v":"12."},{"$f":"Творческие!K38","v":" "}]
[null,null,{"$f":"Предметные!J39","v":"7."},{"$f":"Предметные!K39","v":28},null,null,{"$f":"Награды!J39","v":"9."},{"$f":"Награды!K39","v":" "},null,null,null,null,{"$f":"Творческие!J39","v":"12."},{"$f":"Творческие!K39","v":" "}]
[null,null,{"$f":"Предметные!J40","v":"7."},{"$f":"Предметные!K40","v":29},null,null,{"$f":"Награды!J40","v":"9."},{"$f":"Награды!K40","v":" "},null,null,null,null,{"$f":"Творческие!J40","v":"12."},{"$f":"Творческие!K40","v":" "}]
[null,null,{"$f":"Предметные!J41","v":"7."},{"$f":"Предметные!K41","v":30},null,null,{"$f":"Награды!J41","v":"9."},{"$f":"Награды!K41","v":0},null,null,null,null,{"$f":"Творческие!J41","v":"12."},{"$f":"Творческие!K41","v":" "}]
[null,null,{"$f":"Предметные!J42","v":"7."},{"$f":"Предметные!K42","v":31},null,null,{"$f":"Награды!J42","v":"9."},{"$f":"Награды!K42","v":0},null,null,null,null,{"$f":"Творческие!J42","v":"12."},{"$f":"Творческие!K42","v":" "}]
[null,null,{"$f":"Предметные!J43","v":"7."},{"$f":"Предметные!K43","v":32},null,null,{"$f":"Награды!J43","v":"9."},{"$f":"Награды!K43","v":0},null,null,null,null,{"$f":"Творческие!J43","v":"12."},{"$f":"Творческие!K43","v":" "}]
[null,null,{"$f":"Предметные!J44","v":"7."},{"$f":"Предметные!K44","v":33},null,null,{"$f":"Награды!J44","v":"9."},{"$f":"Награды!K44","v":0},null,null,null,null,{"$f":"Творческие!J44","v":"12."},{"$f":"Творческие!K44","v":" "}]
[null,null,{"$f":"Предметные!J45","v":"7."},{"$f":"Предметные!K45","v":34},null,null,{"$f":"Награды!J45","v":"9."},{"$f":"Награды!K45","v":0},null,null,null,null,{"$f":"Творческие!J45","v":"12."},{"$f":"Творческие!K45","v":" "}]
[null,null,{"$f":"Предметные!J46","v":"7."},{"$f":"Предметные!K46","v":35},null,null,{"$f":"Награды!J46","v":"9."},{"$f":"Награды!K46","v":0},null,null,null,null,{"$f":"Творческие!J46","v":"12."},{"$f":"Творческие!K46","v":" "},"РАСПЕЧАТАЙТЕ И НАКЛЕЙТЕ НА КОПИЮ ДОКУМЕНТА"]
[null,null,{"$f":"Предметные!J47","v":"7."},{"$f":"Предметные!K47","v":36},null,null,{"$f":"Награды!J47","v":"9."},{"$f":"Награды!K47","v":0},null,null,null,null,{"$f":"Творческие!J47","v":"12."},{"$f":"Творческие!K47","v":" "}]
[null,null,{"$f":"Предметные!J48","v":"7."},{"$f":"Предметные!K48","v":37},null,null,{"$f":"Награды!J48","v":"9."},{"$f":"Награды!K48","v":0},null,null,null,null,{"$f":"Творческие!J48","v":"12."},{"$f":"Творческие!K48","v":" "}]
[null,null,{"$f":"Предметные!J49","v":"7."},{"$f":"Предметные!K49","v":38},null,null,{"$f":"Награды!J49","v":"9."},{"$f":"Награды!K49","v":0},null,null,null,null,{"$f":"Творческие!J49","v":"12."},{"$f":"Творческие!K49","v":" "}]
[null,null,{"$f":"Предметные!J50","v":"7."},{"$f":"Предметные!K50","v":39},null,null,{"$f":"Награды!J50","v":"9."},{"$f":"Награды!K50","v":0},null,null,null,null,{"$f":"Творческие!J50","v":"12."},{"$f":"Творческие!K50","v":" "}]
[null,null,{"$f":"Предметные!J51","v":"7."},{"$f":"Предметные!K51","v":40},null,null,{"$f":"Награды!J51","v":"9."},{"$f":"Награды!K51","v":0},null,null,null,null,{"$f":"Творческие!J51","v":"12."},{"$f":"Творческие!K51","v":" "}]
[null,null,{"$f":"Предметные!J52","v":"7."},{"$f":"Предметные!K52","v":41},null,null,{"$f":"Награды!J52","v":"9."},{"$f":"Награды!K52","v":0},null,null,null,null,{"$f":"Творческие!J52","v":"12."},{"$f":"Творческие!K52","v":" "}]
[null,null,{"$f":"Предметные!J53","v":"7."},{"$f":"Предметные!K53","v":42},null,null,{"$f":"Награды!J53","v":"9."},{"$f":"Награды!K53","v":" "},null,null,null,null,{"$f":"Творческие!J53","v":"12."},{"$f":"Творческие!K53","v":" "}]
[null,null,{"$f":"Предметные!J54","v":"7."},{"$f":"Предметные!K54","v":43},null,null,{"$f":"Награды!J54","v":"9."},{"$f":"Награды!K54","v":" "},null,null,null,null,{"$f":"Творческие!J54","v":"12."},{"$f":"Творческие!K54","v":" "}]
[null,null,{"$f":"Предметные!J55","v":"7."},{"$f":"Предметные!K55","v":44},null,null,{"$f":"Награды!J55","v":"9."},{"$f":"Награды!K55","v":" "},null,null,null,null,{"$f":"Творческие!J55","v":"12."},{"$f":"Творческие!K55","v":" "}]
[null,null,{"$f":"Предметные!J56","v":"7."},{"$f":"Предметные!K56","v":45},null,null,{"$f":"Награды!J56","v":"9."},{"$f":"Награды!K56","v":" "},null,null,null,null,{"$f":"Творческие!J56","v":"12."},{"$f":"Творческие!K56","v":" "}]
[null,null,{"$f":"Предметные!J57","v":"7."},{"$f":"Предметные!K57","v":46},null,null,{"$f":"Награды!J57","v":"9."},{"$f":"Награды!K57","v":" "},null,null,null,null,{"$f":"Творческие!J57","v":"12."},{"$f":"Творческие!K57","v":" "}]
[null,null,{"$f":"Предметные!J58","v":"7."},{"$f":"Предметные!K58","v":47},null,null,{"$f":"Награды!J58","v":"9."},{"$f":"Награды!K58","v":" "},null,null,null,null,{"$f":"Творческие!J58","v":"12."},{"$f":"Творческие!K58","v":" "}]
[null,null,{"$f":"Предметные!J59","v":"7."},{"$f":"Предметные!K59","v":48},null,null,{"$f":"Награды!J59","v":"9."},{"$f":"Награды!K59","v":" "},null,null,null,null,{"$f":"Творческие!J59","v":"12."},{"$f":"Творческие!K59","v":" "}]
[null,null,{"$f":"Предметные!J60","v":"7."},{"$f":"Предметные!K60","v":49},null,null,{"$f":"Награды!J60","v":"9."},{"$f":"Награды!K60","v":" "},null,null,null,null,{"$f":"Творческие!J60","v":"12."},{"$f":"Творческие!K60","v":" "}]
[null,null,{"$f":"Предметные!J61","v":"7."},{"$f":"Предметные!K61","v":50},null,null,{"$f":"Награды!J61","v":"9."},{"$f":"Награды!K61","v":" "},null,null,null,null,{"$f":"Творческие!J61","v":"12."},{"$f":"Творческие!K61","v":" "}]
[null,null,{"$f":"Предметные!J62","v":"7."},{"$f":"Предметные!K62","v":51},null,null,null,null,null,null,null,null,{"$f":"Творческие!J62","v":"12."},{"$f":"Творческие!K62","v":" "}]
[null,null,{"$f":"Предметные!J63","v":"7."},{"$f":"Предметные!K63","v":52},null,null,null,null,null,null,null,null,{"$f":"Творческие!J63","v":"12."},{"$f":"Творческие!K63","v":" "}]
[null,null,{"$f":"Предметные!J64","v":"7."},{"$f":"Предметные!K64","v":53},null,null,null,null,null,null,null,null,{"$f":"Творческие!J64","v":"12."},{"$f":"Творческие!K64","v":" "}]
[null,null,{"$f":"Предметные!J65","v":"7."},{"$f":"Предметные!K65","v":54},null,null,null,null,null,null,null,null,{"$f":"Творческие!J65","v":"12."},{"$f":"Творческие!K65","v":" "}]
[null,null,{"$f":"Предметные!J66","v":"7."},{"$f":"Предметные!K66","v":55},null,null,null,null,null,null,null,null,{"$f":"Творческие!J66","v":"12."},{"$f":"Творческие!K66","v":" "}]
[null,null,{"$f":"Предметные!J67","v":"7."},{"$f":"Предметные!K67","v":56},null,null,null,null,null,null,null,null,{"$f":"Творческие!J67","v":"12."},{"$f":"Творческие!K67","v":" "}]
[null,null,{"$f":"Предметные!J68","v":"7."},{"$f":"Предметные!K68","v":57},null,null,null,null,null,null,null,null,{"$f":"Творческие!J68","v":"12."},{"$f":"Творческие!K68","v":" "}]
[null,null,{"$f":"Предметные!J69","v":"7."},{"$f":"Предметные!K69","v":58},null,null,null,null,null,null,null,null,{"$f":"Творческие!J69","v":"12."},{"$f":"Творческие!K69","v":" "}]
[null,null,{"$f":"Предметные!J70","v":"7."},{"$f":"Предметные!K70","v":59},null,null,null,null,null,null,null,null,{"$f":"Творческие!J70","v":"12."},{"$f":"Творческие!K70","v":" "}]
[null,null,{"$f":"Предметные!J71","v":"7."},{"$f":"Предметные!K71","v":60},null,null,null,null,null,null,null,null,{"$f":"Творческие!J71","v":"12."},{"$f":"Творческие!K71","v":" "}]
[null,null,{"$f":"Предметные!J72","v":"7."},{"$f":"Предметные!K72","v":61},null,null,null,null,null,null,null,null,{"$f":"Творческие!J72","v":"12."},{"$f":"Творческие!K72","v":" "}]
[null,null,{"$f":"Предметные!J73","v":"7."},{"$f":"Предметные!K73","v":62},null,null,null,null,null,null,null,null,{"$f":"Творческие!J73","v":"12."},{"$f":"Творческие!K73","v":" "}]
[null,null,{"$f":"Предметные!J74","v":"7."},{"$f":"Предметные!K74","v":63},null,null,null,null,null,null,null,null,{"$f":"Творческие!J74","v":"12."},{"$f":"Творческие!K74","v":" "}]
[null,null,{"$f":"Предметные!J75","v":"7."},{"$f":"Предметные!K75","v":64},null,null,null,null,null,null,null,null,{"$f":"Творческие!J75","v":"12."},{"$f":"Творческие!K75","v":" "}]
[null,null,{"$f":"Предметные!J76","v":"7."},{"$f":"Предметные!K76","v":65},null,null,null,null,null,null,null,null,{"$f":"Творческие!J76","v":"12."},{"$f":"Творческие!K76","v":" "}]
[null,null,{"$f":"Предметные!J77","v":"7."},{"$f":"Предметные!K77","v":66},null,null,null,null,null,null,null,null,{"$f":"Творческие!J77","v":"12."},{"$f":"Творческие!K77","v":" "}]
[null,null,{"$f":"Предметные!J78","v":"7."},{"$f":"Предметные!K78","v":" "},null,null,null,null,null,null,null,null,{"$f":"Творческие!J78","v":"12."},{"$f":"Творческие!K78","v":" "}]
[null,null,{"$f":"Предметные!J79","v":"7."},{"$f":"Предметные!K79","v":" "},null,null,null,null,null,null,null,null,{"$f":"Творческие!J79","v":"12."},{"$f":"Творческие!K79","v":" "}]
[null,null,{"$f":"Предметные!J80","v":"7."},{"$f":"Предметные!K80","v":" "},null,null,null,null,null,null,null,null,{"$f":"Творческие!J80","v":"12."},{"$f":"Творческие!K80","v":" "}]
[null,null,{"$f":"Предметные!J81","v":"7."},{"$f":"Предметные!K81","v":" "},null,null,null,null,null,null,null,null,{"$f":"Творческие!J81","v":"12."},{"$f":"Творческие!K81","v":" "}]
[null,null,{"$f":"Предметные!J82","v":"7."},{"$f":"Предметные!K82","v":" "},null,null,null,null,null,null,null,null,{"$f":"Творческие!J82","v":"12."},{"$f":"Творческие!K82","v":" "}]
[null,null,{"$f":"Предметные!J83","v":"7."},{"$f":"Предметные!K83","v":" "},null,null,null,null,null,null,null,null,{"$f":"Творческие!J83","v":"12."},{"$f":"Творческие!K83","v":" "}]
[null,null,{"$f":"Предметные!J84","v":"7."},{"$f":"Предметные!K84","v":" "},null,null,null,null,null,null,null,null,{"$f":"Творческие!J84","v":"12."},{"$f":"Творческие!K84","v":" "}]
[null,null,{"$f":"Предметные!J85","v":"7."},{"$f":"Предметные!K85","v":" "},null,null,null,null,null,null,null,null,{"$f":"Творческие!J85","v":"12."},{"$f":"Творческие!K85","v":" "}]
[null,null,{"$f":"Предметные!J86","v":"7."},{"$f":"Предметные!K86","v":" "},null,null,null,null,null,null,null,null,{"$f":"Творческие!J86","v":"12."},{"$f":"Творческие!K86","v":" "}]
[null,null,{"$f":"Предметные!J87","v":"7."},{"$f":"Предметные!K87","v":" "},null,null,null,null,null,null,null,null,{"$f":"Творческие!J87","v":"12."},{"$f":"Творческие!K87","v":" "}]
[null,null,{"$f":"Предметные!J88","v":"7."},{"$f":"Предметные!K88","v":" "},null,null,null,null,null,null,null,null,{"$f":"Творческие!J88","v":"12."},{"$f":"Творческие!K88","v":" "}]
[null,null,{"$f":"Предметные!J89","v":"7."},{"$f":"Предметные!K89","v":" "},null,null,null,null,null,null,null,null,{"$f":"Творческие!J89","v":"12."},{"$f":"Творческие!K89","v":" "}]
[null,null,{"$f":"Предметные!J90","v":"7."},{"$f":"Предметные!K90","v":" "},null,null,null,null,null,null,null,null,{"$f":"Творческие!J90","v":"12."},{"$f":"Творческие!K90","v":" "}]
[null,null,{"$f":"Предметные!J91","v":"7."},{"$f":"Предметные!K91","v":" "},null,null,null,null,null,null,null,null,{"$f":"Творческие!J91","v":"12."},{"$f":"Творческие!K91","v":" "}]
[null,null,{"$f":"Предметные!J92","v":"7."},{"$f":"Предметные!K92","v":" "},null,null,null,null,null,null,null,null,{"$f":"Творческие!J92","v":"12."},{"$f":"Творческие!K92","v":" "}]
[null,null,{"$f":"Предметные!J93","v":"7."},{"$f":"Предметные!K93","v":" "},null,null,null,null,null,null,null,null,{"$f":"Творческие!J93","v":"12."},{"$f":"Творческие!K93","v":" "}]
[null,null,{"$f":"Предметные!J94","v":"7."},{"$f":"Предметные!K94","v":" "},null,null,null,null,null,null,null,null,{"$f":"Творческие!J94","v":"12."},{"$f":"Творческие!K94","v":" "}]
[null,null,{"$f":"Предметные!J95","v":"7."},{"$f":"Предметные!K95","v":" "},null,null,null,null,null,null,null,null,{"$f":"Творческие!J95","v":"12."},{"$f":"Творческие!K95","v":" "}]
[null,null,{"$f":"Предметные!J96","v":"7."},{"$f":"Предметные!K96","v":" "},null,null,null,null,null,null,null,null,{"$f":"Творческие!J96","v":"12."},{"$f":"Творческие!K96","v":" "}]
[null,null,{"$f":"Предметные!J97","v":"7."},{"$f":"Предметные!K97","v":" "},null,null,null,null,null,null,null,null,{"$f":"Творческие!J97","v":"12."},{"$f":"Творческие!K97","v":" "}]
[null,null,{"$f":"Предметные!J98","v":"7."},{"$f":"Предметные!K98","v":" "},null,null,null,null,null,null,null,null,{"$f":"Творческие!J98","v":"12."},{"$f":"Творческие!K98","v":" "}]
[null,null,{"$f":"Предметные!J99","v":"7."},{"$f":"Предметные!K99","v":" "},null,null,null,null,null,null,null,null,{"$f":"Творческие!J99","v":"12."},{"$f":"Творческие!K99","v":" "}]
[null,null,{"$f":"Предметные!J100","v":"7."},{"$f":"Предметные!K100","v":" "},null,null,null,null,null,null,null,null,{"$f":"Творческие!J100","v":"12."},{"$f":"Творческие!K100","v":" "}]
[null,null,{"$f":"Предметные!J101","v":"7."},{"$f":"Предметные!K101","v":" "},null,null,null,null,null,null,null,null,{"$f":"Творческие!J101","v":"12."},{"$f":"Творческие!K101","v":" "}]
[null,null,{"$f":"Предметные!J102","v":"7."},{"$f":"Предметные!K102","v":" "},null,null,null,null,null,null,null,null,{"$f":"Творческие!J102","v":"12."},{"$f":"Творческие!K102","v":" "}]
[null,null,{"$f":"Предметные!J103","v":"7."},{"$f":"Предметные!K103","v":" "},null,null,null,null,null,null,null,null,{"$f":"Творческие!J103","v":"12."},{"$f":"Творческие!K103","v":" "}]
[null,null,{"$f":"Предметные!J104","v":"7."},{"$f":"Предметные!K104","v":" "},null,null,null,null,null,null,null,null,{"$f":"Творческие!J104","v":"12."},{"$f":"Творческие!K104","v":" "}]
[null,null,{"$f":"Предметные!J105","v":"7."},{"$f":"Предметные!K105","v":" "},null,null,null,null,null,null,null,null,{"$f":"Творческие!J105","v":"12."},{"$f":"Творческие!K105","v":" "}]
[null,null,{"$f":"Предметные!J106","v":"7."},{"$f":"Предметные!K106","v":" "},null,null,null,null,null,null,null,null,{"$f":"Творческие!J106","v":"12."},{"$f":"Творческие!K106","v":" "}]
[null,null,{"$f":"Предметные!J107","v":"7."},{"$f":"Предметные!K107","v":" "},null,null,null,null,null,null,null,null,{"$f":"Творческие!J107","v":"12."},{"$f":"Творческие!K107","v":" "}]
[null,null,{"$f":"Предметные!J108","v":"7."},{"$f":"Предметные!K108","v":" "},null,null,null,null,null,null,null,null,{"$f":"Творческие!J108","v":"12."},{"$f":"Творческие!K108","v":" "}]
[null,null,{"$f":"Предметные!J109","v":"7."},{"$f":"Предметные!K109","v":" "},null,null,null,null,null,null,null,null,{"$f":"Творческие!J109","v":"12."},{"$f":"Творческие!K109","v":" "}]
[null,null,{"$f":"Предметные!J110","v":"7."},{"$f":"Предметные!K110","v":" "},null,null,null,null,null,null,null,null,{"$f":"Творческие!J110","v":"12."},{"$f":"Творческие!K110","v":" "}]
[null,null,{"$f":"Предметные!J111","v":"7."},{"$f":"Предметные!K111","v":" "},null,null,null,null,null,null,null,null,{"$f":"Творческие!J111","v":"12."},{"$f":"Творческие!K111","v":" "}]
[]
[]
[]
[]
[]
[]
[]
[]
[]
[]
[]
[]
[]
[]
[]
[]
[]
[]
[]
[]
[]
[]
[]
[]
[]
[]
[]
[]
[]
[]
[]
[]
[]
[]
[]
[]
[]
[]
[]
[]
[]
[]
[]
[]
["Электронное портфолио учащегося"]

{"sheet":"Копии_д-тов","index":22,"n_rows":67,"n_cols":47,"rows_kept":67,"cut":false,"hidden":false,"merged":[[1,0,1,1],[1,2,1,3],[1,4,1,5],[1,6,1,7],[1,8,1,9],[1,10,1,11],[1,12,1,13],[1,14,1,15],[1,16,1,17],[3,0,3,1],[3,2,3,3],[3,4,3,5],[3,12,3,13],[3,14,3,15],[3,16,3,17],[5,0,5,1],[5,2,5,3],[5,4,5,5],[3,6,3,7],[3,8,3,9],[3,10,3,11],[5,6,5,7],[5,8,5,9],[5,10,5,11],[7,0,7,1],[7,2,7,3],[7,4,7,5],[9,0,9,1],[9,2,9,3],[9,4,9,5],[11,0,11,1],[11,2,11,3],[11,4,11,5],[13,0,13,1],[13,2,13,3],[13,4,13,5],[15,0,15,1],[15,2,15,3],[15,4,15,5],[17,0,17,1],[17,2,17,3],[17,4,17,5],[7,6,7,7],[7,8,7,9],[7,10,7,11],[9,6,9,7],[9,8,9,9],[9,10,9,11],[11,6,11,7],[11,8,11,9],[11,10,11,11],[13,6,13,7],[13,8,13,9],[13,10,13,11],[15,6,15,7],[15,8,15,9],[15,10,15,11],[17,6,17,7],[17,8,17,9],[17,10,17,11],[19,6,19,7],[19,8,19,9],[19,10,19,11],[21,6,21,7],[21,8,21,9],[21,10,21,11],[23,6,23,7],[23,8,23,9],[23,10,23,11],[25,6,25,7],[25,8,25,9],[25,10,25,11],[27,6,27,7],[27,8,27,9],[27,10,27,11],[29,6,29,7],[29,8,29,9],[29,10,29,11],[31,6,31,7],[31,8,31,9],[31,10,31,11],[33,6,33,7],[33,8,33,9],[33,10,33,11],[35,6,35,7],[35,8,35,9],[35,10,35,11],[37,6,37,7],[37,8,37,9],[37,10,37,11],[39,6,39,7],[39,8,39,9],[39,10,39,11],[41,6,41,7],[41,8,41,9],[41,10,41,11],[43,6,43,7],[43,8,43,9],[43,10,43,11],[45,6,45,7],[45,8,45,9],[45,10,45,11],[47,6,47,7],[47,8,47,9],[47,10,47,11],[49,6,49,7],[49,8,49,9],[49,10,49,11],[51,6,51,7],[51,8,51,9],[51,10,51,11],[53,6,53,7],[53,8,53,9],[53,10,53,11],[55,6,55,7],[55,8,55,9],[55,10,55,11],[57,6,57,7],[57,8,57,9],[57,10,57,11],[59,6,59,7],[59,8,59,9],[59,10,59,11],[61,6,61,7],[61,8,61,9],[61,10,61,11],[63,6,63,7],[63,8,63,9],[63,10,63,11],[65,6,65,7],[65,8,65,9],[65,10,65,11],[67,6,67,7],[67,8,67,9],[67,10,67,11],[5,12,5,13],[5,14,5,15],[5,16,5,17],[7,12,7,13],[7,14,7,15],[7,16,7,17],[9,12,9,13],[9,14,9,15],[9,16,9,17],[11,12,11,13],[11,14,11,15],[11,16,11,17],[13,12,13,13],[13,14,13,15],[13,16,13,17],[15,12,15,13],[15,14,15,15],[15,16,15,17],[17,12,17,13],[17,14,17,15],[17,16,17,17],[1,20,1,21],[1,22,1,23],[3,18,3,19],[3,20,3,21],[3,22,3,23],[5,18,5,19],[5,20,5,21],[5,22,5,23],[7,18,7,19],[7,20,7,21],[7,22,7,23],[1,18,1,19],[9,18,9,19],[9,20,9,21],[9,22,9,23],[11,18,11,19],[11,20,11,21],[11,22,11,23],[13,18,13,19],[13,20,13,21],[13,22,13,23],[15,18,15,19],[15,20,15,21],[15,22,15,23],[17,18,17,19],[17,20,17,21],[17,22,17,23],[19,18,19,19],[19,20,19,21],[19,22,19,23],[21,18,21,19],[21,20,21,21],[21,22,21,23],[23,18,23,19],[23,20,23,21],[23,22,23,23],[25,18,25,19],[25,20,25,21],[25,22,25,23],[27,18,27,19],[27,20,27,21],[27,22,27,23],[29,18,29,19],[29,20,29,21],[29,22,29,23],[31,18,31,19],[31,20,31,21],[31,22,31,23],[33,18,33,19],[33,20,33,21],[33,22,33,23],[35,18,35,19],[35,20,35,21],[35,22,35,23],[37,18,37,19],[37,20,37,21],[37,22,37,23],[39,18,39,19],[39,20,39,21],[39,22,39,23],[41,18,41,19],[41,20,41,21],[41,22,41,23],[43,18,43,19],[43,20,43,21],[43,22,43,23],[45,18,45,19],[45,20,45,21],[45,22,45,23],[47,18,47,19],[47,20,47,21],[47,22,47,23],[49,18,49,19],[49,20,49,21],[49,22,49,23],[51,18,51,19],[51,20,51,21],[51,22,51,23],[53,18,53,19],[53,20,53,21],[53,22,53,23],[55,18,55,19],[55,20,55,21],[55,22,55,23],[57,18,57,19],[57,20,57,21],[57,22,57,23],[59,18,59,19],[59,20,59,21],[59,22,59,23],[61,18,61,19],[61,20,61,21],[61,22,61,23],[63,18,63,19],[63,20,63,21],[63,22,63,23],[65,18,65,19],[65,20,65,21],[65,22,65,23],[67,18,67,19],[67,20,67,21],[67,22,67,23],[1,24,1,25],[1,26,1,27],[1,28,1,29],[3,24,3,25],[3,26,3,27],[3,28,3,29],[5,24,5,25],[5,26,5,27],[5,28,5,29],[13,24,13,25],[13,26,13,27],[13,28,13,29],[1,30,1,31],[1,32,1,33],[1,34,1,35],[3,30,3,31],[3,32,3,33],[3,34,3,35],[5,30,5,31],[5,32,5,33],[5,34,5,35],[7,30,7,31],[7,32,7,33],[7,34,7,35],[7,24,7,25],[7,26,7,27],[7,28,7,29],[9,24,9,25],[9,26,9,27],[9,28,9,29],[11,24,11,25],[11,26,11,27],[11,28,11,29],[1,36,1,37],[1,38,1,39],[1,40,1,41],[3,36,3,37],[3,38,3,39],[3,40,3,41],[5,36,5,37],[5,38,5,39],[5,40,5,41],[7,36,7,37],[7,38,7,39],[7,40,7,41],[9,36,9,37],[9,38,9,39],[9,40,9,41],[11,36,11,37],[11,38,11,39],[11,40,11,41],[13,36,13,37],[13,38,13,39],[13,40,13,41],[15,36,15,37],[15,38,15,39],[15,40,15,41],[17,36,17,37],[17,38,17,39],[17,40,17,41],[19,36,19,37],[19,38,19,39],[19,40,19,41],[21,36,21,37],[21,38,21,39],[21,40,21,41],[23,36,23,37],[23,38,23,39],[23,40,23,41],[25,36,25,37],[25,38,25,39],[25,40,25,41],[27,36,27,37],[27,38,27,39],[27,40,27,41],[29,36,29,37],[29,38,29,39],[29,40,29,41],[31,36,31,37],[31,38,31,39],[31,40,31,41],[33,36,33,37],[33,38,33,39],[33,40,33,41],[35,36,35,37],[35,38,35,39],[35,40,35,41],[37,36,37,37],[37,38,37,39],[37,40,37,41],[39,36,39,37],[39,38,39,39],[39,40,39,41],[41,36,41,37],[41,38,41,39],[41,40,41,41],[43,36,43,37],[43,38,43,39],[43,40,43,41],[45,36,45,37],[45,38,45,39],[45,40,45,41],[47,36,47,37],[47,38,47,39],[47,40,47,41],[67,36,67,37],[67,38,67,39],[67,40,67,41],[61,36,61,37],[61,38,61,39],[61,40,61,41],[63,36,63,37],[63,38,63,39],[63,40,63,41],[3,42,3,43],[3,44,3,45],[3,46,3,47],[65,36,65,37],[65,38,65,39],[65,40,65,41],[57,36,57,37],[57,38,57,39],[57,40,57,41],[59,36,59,37],[49,36,49,37],[49,38,49,39],[49,40,49,41],[51,36,51,37],[51,38,51,39],[51,40,51,41],[59,38,59,39],[59,40,59,41],[53,36,53,37],[53,38,53,39],[53,40,53,41],[55,36,55,37],[55,38,55,39],[55,40,55,41],[0,42,0,43],[0,44,0,45],[0,46,0,47],[2,42,2,43],[2,44,2,45],[2,46,2,47],[1,42,1,43],[1,44,1,45],[1,46,1,47]]}
["6.",{"$f":"Приложения!B12","v":1},"6.",{"$f":"B1+1","v":2},"6.",{"$f":"D1+1","v":3},"7.",{"$f":"Приложения!D12","v":1},{"$f":"G1","v":"7."},{"$f":"H1+1","v":2},{"$f":"G1","v":"7."},{"$f":"J1+1","v":3},"8.",{"$f":"Приложения!F12","v":1},{"$f":"M1","v":"8."},{"$f":"N1+1","v":2},{"$f":"M1","v":"8."},{"$f":"P1+1","v":3},"9.",{"$f":"Приложения!H12","v":1},{"$f":"S1","v":"9."},{"$f":"T1+1","v":2},{"$f":"U1","v":"9."},{"$f":"V1+1","v":3},"10.",{"$f":"Приложения!J12","v":1},{"$f":"Y1","v":"10."},{"$f":"Z1+1","v":2},{"$f":"Y1","v":"10."},{"$f":"AB1+1","v":3},"11.",{"$f":"Приложения!L12","v":1},{"$f":"AE1","v":"11."},{"$f":"AF1+1","v":2},{"$f":"AE1","v":"11."},{"$f":"AH1+1","v":3},"12.",{"$f":"Приложения!N12","v":1},{"$f":"AK1","v":"12."},{"$f":"AL1+1","v":2},{"$f":"AK1","v":"12."},{"$f":"AN1+1","v":3},{"$f":"Приложения!O12","v":"14.1"},null,{"$f":"Приложения!O13","v":"14.2"},null,{"$f":"Приложения!O14","v":0}]
[]
["6.",{"$f":"F1+1","v":4},"6.",{"$f":"B3+1","v":5},"6.",{"$f":"D3+1","v":6},{"$f":"G1","v":"7."},{"$f":"L1+1","v":4},{"$f":"I1","v":"7."},{"$f":"H3+1","v":5},{"$f":"K1","v":"7."},{"$f":"J3+1","v":6},{"$f":"M1","v":"8."},{"$f":"R1+1","v":4},{"$f":"O1","v":"8."},{"$f":"N3+1","v":5},{"$f":"Q1","v":"8."},{"$f":"P3+1","v":6},{"$f":"S1","v":"9."},{"$f":"X1+1","v":4},{"$f":"U1","v":"9."},{"$f":"T3+1","v":5},{"$f":"W1","v":"9."},{"$f":"V3+1","v":6},{"$f":"Y1","v":"10."},{"$f":"AD1+1","v":4},{"$f":"AA1","v":"10."},{"$f":"Z3+1","v":5},{"$f":"AC1","v":"10."},{"$f":"AB3+1","v":6},{"$f":"AE1","v":"11."},{"$f":"AJ1+1","v":4},{"$f":"AG1","v":"11."},{"$f":"AF3+1","v":5},{"$f":"AI1","v":"11."},{"$f":"AH3+1","v":6},{"$f":"AK1","v":"12."},{"$f":"AP1+1","v":4},{"$f":"AM1","v":"12."},{"$f":"AL3+1","v":5},{"$f":"AO1","v":"12."},{"$f":"AN3+1","v":6},{"$f":"Приложения!O15","v":0},null,{"$f":"Приложения!O16","v":0}]
[]
["6.",{"$f":"F3+1","v":7},"6.",{"$f":"B5+1","v":8},"6.",{"$f":"D5+1","v":9},{"$f":"G3","v":"7."},{"$f":"L3+1","v":7},{"$f":"I3","v":"7."},{"$f":"H5+1","v":8},{"$f":"K3","v":"7."},{"$f":"J5+1","v":9},{"$f":"M3","v":"8."},{"$f":"R3+1","v":7},{"$f":"O3","v":"8."},{"$f":"N5+1","v":8},{"$f":"Q3","v":"8."},{"$f":"P5+1","v":9},{"$f":"S3","v":"9."},{"$f":"X3+1","v":7},{"$f":"U3","v":"9."},{"$f":"T5+1","v":8},{"$f":"W3","v":"9."},{"$f":"V5+1","v":9},{"$f":"Y3","v":"10."},{"$f":"AD3+1","v":7},{"$f":"AA3","v":"10."},{"$f":"Z5+1","v":8},{"$f":"AC3","v":"10."},{"$f":"AB5+1","v":9},{"$f":"AE3","v":"11."},{"$f":"AJ3+1","v":7},{"$f":"AG3","v":"11."},{"$f":"AF5+1","v":8},{"$f":"AI3","v":"11."},{"$f":"AH5+1","v":9},{"$f":"AK3","v":"12."},{"$f":"AP3+1","v":7},{"$f":"AM3","v":"12."},{"$f":"AL5+1","v":8},{"$f":"AO3","v":"12."},{"$f":"AN5+1","v":9}]
[]
["6.",{"$f":"F5+1","v":10},"6.",{"$f":"B7+1","v":11},"6.",{"$f":"D7+1","v":12},{"$f":"G5","v":"7."},{"$f":"L5+1","v":10},{"$f":"I5","v":"7."},{"$f":"H7+1","v":11},{"$f":"K5","v":"7."},{"$f":"J7+1","v":12},{"$f":"M5","v":"8."},{"$f":"R5+1","v":10},{"$f":"O5","v":"8."},{"$f":"N7+1","v":11},{"$f":"Q5","v":"8."},{"$f":"P7+1","v":12},{"$f":"S5","v":"9."},{"$f":"X5+1","v":10},{"$f":"U5","v":"9."},{"$f":"T7+1","v":11},{"$f":"W5","v":"9."},{"$f":"V7+1","v":12},{"$f":"Y5","v":"10."},{"$f":"AD5+1","v":10},{"$f":"AA5","v":"10."},{"$f":"Z7+1","v":11},{"$f":"AC5","v":"10."},{"$f":"AB7+1","v":12},{"$f":"AE5","v":"11."},{"$f":"AJ5+1","v":10},{"$f":"AG5","v":"11."},{"$f":"AF7+1","v":11},{"$f":"AI5","v":"11."},{"$f":"AH7+1","v":12},{"$f":"AK5","v":"12."},{"$f":"AP5+1","v":10},{"$f":"AM5","v":"12."},{"$f":"AL7+1","v":11},{"$f":"AO5","v":"12."},{"$f":"AN7+1","v":12}]
[]
["6.",{"$f":"F7+1","v":13},"6.",{"$f":"B9+1","v":14},"6.",{"$f":"D9+1","v":15},{"$f":"G7","v":"7."},{"$f":"L7+1","v":13},{"$f":"I7","v":"7."},{"$f":"H9+1","v":14},{"$f":"K7","v":"7."},{"$f":"J9+1","v":15},{"$f":"M7","v":"8."},{"$f":"R7+1","v":13},{"$f":"O7","v":"8."},{"$f":"N9+1","v":14},{"$f":"Q7","v":"8."},{"$f":"P9+1","v":15},{"$f":"S7","v":"9."},{"$f":"X7+1","v":13},{"$f":"U7","v":"9."},{"$f":"T9+1","v":14},{"$f":"W7","v":"9."},{"$f":"V9+1","v":15},{"$f":"Y7","v":"10."},{"$f":"AD7+1","v":13},{"$f":"AA7","v":"10."},{"$f":"Z9+1","v":14},{"$f":"AC7","v":"10."},{"$f":"AB9+1","v":15},null,null,null,null,null,null,{"$f":"AK7","v":"12."},{"$f":"AP7+1","v":13},{"$f":"AM7","v":"12."},{"$f":"AL9+1","v":14},{"$f":"AO7","v":"12."},{"$f":"AN9+1","v":15}]
[]
["6.",{"$f":"F9+1","v":16},"6.",{"$f":"B11+1","v":17},"6.",{"$f":"D11+1","v":18},{"$f":"G9","v":"7."},{"$f":"L9+1","v":16},{"$f":"I9","v":"7."},{"$f":"H11+1","v":17},{"$f":"K9","v":"7."},{"$f":"J11+1","v":18},{"$f":"M9","v":"8."},{"$f":"R9+1","v":16},{"$f":"O9","v":"8."},{"$f":"N11+1","v":17},{"$f":"Q9","v":"8."},{"$f":"P11+1","v":18},{"$f":"S9","v":"9."},{"$f":"X9+1","v":16},{"$f":"U9","v":"9."},{"$f":"T11+1","v":17},{"$f":"W9","v":"9."},{"$f":"V11+1","v":18},{"$f":"Y9","v":"10."},{"$f":"AD9+1","v":16},{"$f":"AA9","v":"10."},{"$f":"Z11+1","v":17},{"$f":"AC9","v":"10."},{"$f":"AB11+1","v":18},null,null,null,null,null,null,{"$f":"AK9","v":"12."},{"$f":"AP9+1","v":16},{"$f":"AM9","v":"12."},{"$f":"AL11+1","v":17},{"$f":"AO9","v":"12."},{"$f":"AN11+1","v":18}]
[]
[null,null,null,null,null,null,{"$f":"G11","v":"7."},{"$f":"L11+1","v":19},{"$f":"I11","v":"7."},{"$f":"H13+1","v":20},{"$f":"K11","v":"7."},{"$f":"J13+1","v":21},{"$f":"M11","v":"8."},{"$f":"R11+1","v":19},{"$f":"O11","v":"8."},{"$f":"N13+1","v":20},{"$f":"Q11","v":"8."},{"$f":"P13+1","v":21},{"$f":"S11","v":"9."},{"$f":"X11+1","v":19},{"$f":"U11","v":"9."},{"$f":"T13+1","v":20},{"$f":"W11","v":"9."},{"$f":"V13+1","v":21},{"$f":"Y11","v":"10."},{"$f":"AD11+1","v":19},{"$f":"AA11","v":"10."},{"$f":"Z13+1","v":20},{"$f":"AC11","v":"10."},{"$f":"AB13+1","v":21},null,null,null,null,null,null,{"$f":"AK11","v":"12."},{"$f":"AP11+1","v":19},{"$f":"AM11","v":"12."},{"$f":"AL13+1","v":20},{"$f":"AO11","v":"12."},{"$f":"AN13+1","v":21}]
[]
[null,null,null,null,null,null,{"$f":"G13","v":"7."},{"$f":"L13+1","v":22},{"$f":"I13","v":"7."},{"$f":"H15+1","v":23},{"$f":"K13","v":"7."},{"$f":"J15+1","v":24},null,null,null,null,null,null,{"$f":"S13","v":"9."},{"$f":"X13+1","v":22},{"$f":"U13","v":"9."},{"$f":"T15+1","v":23},{"$f":"W13","v":"9."},{"$f":"V15+1","v":24},null,null,null,null,null,null,null,null,null,null,null,null,{"$f":"AK13","v":"12."},{"$f":"AP13+1","v":22},{"$f":"AM13","v":"12."},{"$f":"AL15+1","v":23},{"$f":"AO13","v":"12."},{"$f":"AN15+1","v":24}]
[]
[null,null,null,null,null,null,7,{"$f":"L15+1","v":25},7,{"$f":"H17+1","v":26},7,{"$f":"J17+1","v":27},null,null,null,null,null,null,{"$f":"S15","v":"9."},{"$f":"X15+1","v":25},{"$f":"U15","v":"9."},{"$f":"T17+1","v":26},{"$f":"W15","v":"9."},{"$f":"V17+1","v":27},null,null,null,null,null,null,null,null,null,null,null,null,{"$f":"AK15","v":"12."},{"$f":"AP15+1","v":25},{"$f":"AM15","v":"12."},{"$f":"AL17+1","v":26},{"$f":"AO15","v":"12."},{"$f":"AN17+1","v":27}]
[]
[null,null,null,null,null,null,{"$f":"G17","v":7},{"$f":"L17+1","v":28},{"$f":"I17","v":7},{"$f":"H19+1","v":29},{"$f":"K17","v":7},{"$f":"J19+1","v":30},null,null,null,null,null,null,{"$f":"S17","v":"9."},{"$f":"X17+1","v":28},{"$f":"U17","v":"9."},{"$f":"T19+1","v":29},{"$f":"W17","v":"9."},{"$f":"V19+1","v":30},null,null,null,null,null,null,null,null,null,null,null,null,{"$f":"AK17","v":"12."},{"$f":"AP17+1","v":28},{"$f":"AM17","v":"12."},{"$f":"AL19+1","v":29},{"$f":"AO17","v":"12."},{"$f":"AN19+1","v":30}]
[]
[null,null,null,null,null,null,{"$f":"G19","v":7},{"$f":"L19+1","v":31},{"$f":"I19","v":7},{"$f":"H21+1","v":32},{"$f":"K19","v":7},{"$f":"J21+1","v":33},null,null,null,null,null,null,{"$f":"S19","v":"9."},{"$f":"X19+1","v":31},{"$f":"U19","v":"9."},{"$f":"T21+1","v":32},{"$f":"W19","v":"9."},{"$f":"V21+1","v":33},null,null,null,null,null,null,null,null,null,null,null,null,{"$f":"AK19","v":"12."},{"$f":"AP19+1","v":31},{"$f":"AM19","v":"12."},{"$f":"AL21+1","v":32},{"$f":"AO19","v":"12."},{"$f":"AN21+1","v":33}]
[]
[null,null,null,null,null,null,{"$f":"G21","v":7},{"$f":"L21+1","v":34},{"$f":"I21","v":7},{"$f":"H23+1","v":35},{"$f":"K21","v":7},{"$f":"J23+1","v":36},null,null,null,null,null,null,{"$f":"S21","v":"9."},{"$f":"X21+1","v":34},{"$f":"U21","v":"9."},{"$f":"T23+1","v":35},{"$f":"W21","v":"9."},{"$f":"V23+1","v":36},null,null,null,null,null,null,null,null,null,null,null,null,{"$f":"AK21","v":"12."},{"$f":"AP21+1","v":34},{"$f":"AM21","v":"12."},{"$f":"AL23+1","v":35},{"$f":"AO21","v":"12."},{"$f":"AN23+1","v":36}]
[]
[null,null,null,null,null,null,{"$f":"G23","v":7},{"$f":"L23+1","v":37},{"$f":"I23","v":7},{"$f":"H25+1","v":38},{"$f":"K23","v":7},{"$f":"J25+1","v":39},null,null,null,null,null,null,{"$f":"S23","v":"9."},{"$f":"X23+1","v":37},{"$f":"U23","v":"9."},{"$f":"T25+1","v":38},{"$f":"W23","v":"9."},{"$f":"V25+1","v":39},null,null,null,null,null,null,null,null,null,null,null,null,{"$f":"AK23","v":"12."},{"$f":"AP23+1","v":37},{"$f":"AM23","v":"12."},{"$f":"AL25+1","v":38},{"$f":"AO23","v":"12."},{"$f":"AN25+1","v":39}]
[]
[null,null,null,null,null,null,{"$f":"G25","v":7},{"$f":"L25+1","v":40},{"$f":"I25","v":7},{"$f":"H27+1","v":41},{"$f":"K25","v":7},{"$f":"J27+1","v":42},null,null,null,null,null,null,{"$f":"S25","v":"9."},{"$f":"X25+1","v":40},{"$f":"U25","v":"9."},{"$f":"T27+1","v":41},{"$f":"W25","v":"9."},{"$f":"V27+1","v":42},null,null,null,null,null,null,null,null,null,null,null,null,{"$f":"AK25","v":"12."},{"$f":"AP25+1","v":40},{"$f":"AM25","v":"12."},{"$f":"AL27+1","v":41},{"$f":"AO25","v":"12."},{"$f":"AN27+1","v":42}]
[]
[null,null,null,null,null,null,{"$f":"G27","v":7},{"$f":"L27+1","v":43},{"$f":"I27","v":7},{"$f":"H29+1","v":44},{"$f":"K27","v":7},{"$f":"J29+1","v":45},null,null,null,null,null,null,{"$f":"S27","v":"9."},{"$f":"X27+1","v":43},{"$f":"U27","v":"9."},{"$f":"T29+1","v":44},{"$f":"W27","v":"9."},{"$f":"V29+1","v":45},null,null,null,null,null,null,null,null,null,null,null,null,{"$f":"AK27","v":"12."},{"$f":"AP27+1","v":43},{"$f":"AM27","v":"12."},{"$f":"AL29+1","v":44},{"$f":"AO27","v":"12."},{"$f":"AN29+1","v":45}]
[]
[null,null,null,null,null,null,{"$f":"G29","v":7},{"$f":"L29+1","v":46},{"$f":"I29","v":7},{"$f":"H31+1","v":47},{"$f":"K29","v":7},{"$f":"J31+1","v":48},null,null,null,null,null,null,{"$f":"S29","v":"9."},{"$f":"X29+1","v":46},{"$f":"U29","v":"9."},{"$f":"T31+1","v":47},{"$f":"W29","v":"9."},{"$f":"V31+1","v":48},null,null,null,null,null,null,null,null,null,null,null,null,{"$f":"AK29","v":"12."},{"$f":"AP29+1","v":46},{"$f":"AM29","v":"12."},{"$f":"AL31+1","v":47},{"$f":"AO29","v":"12."},{"$f":"AN31+1","v":48}]
[]
[null,null,null,null,null,null,{"$f":"G31","v":7},{"$f":"L31+1","v":49},{"$f":"I31","v":7},{"$f":"H33+1","v":50},{"$f":"K31","v":7},{"$f":"J33+1","v":51},null,null,null,null,null,null,{"$f":"S31","v":"9."},{"$f":"X31+1","v":49},{"$f":"U31","v":"9."},{"$f":"T33+1","v":50},{"$f":"W31","v":"9."},{"$f":"V33+1","v":51},null,null,null,null,null,null,null,null,null,null,null,null,{"$f":"AK31","v":"12."},{"$f":"AP31+1","v":49},{"$f":"AM31","v":"12."},{"$f":"AL33+1","v":50},{"$f":"AO31","v":"12."},{"$f":"AN33+1","v":51}]
[]
[null,null,null,null,null,null,{"$f":"G33","v":7},{"$f":"L33+1","v":52},{"$f":"I33","v":7},{"$f":"H35+1","v":53},{"$f":"K33","v":7},{"$f":"J35+1","v":54},null,null,null,null,null,null,null,null,null,null,null,null,null,null,null,null,null,null,null,null,null,null,null,null,{"$f":"AK33","v":"12."},{"$f":"AP33+1","v":52},{"$f":"AM33","v":"12."},{"$f":"AL35+1","v":53},{"$f":"AO33","v":"12."},{"$f":"AN35+1","v":54}]
[]
[null,null,null,null,null,null,{"$f":"G35","v":7},{"$f":"L35+1","v":55},{"$f":"I35","v":7},{"$f":"H37+1","v":56},{"$f":"K35","v":7},{"$f":"J37+1","v":57},null,null,null,null,null,null,null,null,null,null,null,null,null,null,null,null,null,null,null,null,null,null,null,null,{"$f":"AK35","v":"12."},{"$f":"AP35+1","v":55},{"$f":"AM35","v":"12."},{"$f":"AL37+1","v":56},{"$f":"AO35","v":"12."},{"$f":"AN37+1","v":57}]
[]
[null,null,null,null,null,null,{"$f":"G37","v":7},{"$f":"L37+1","v":58},{"$f":"I37","v":7},{"$f":"H39+1","v":59},{"$f":"K37","v":7},{"$f":"J39+1","v":60},null,null,null,null,null,null,null,null,null,null,null,null,null,null,null,null,null,null,null,null,null,null,null,null,{"$f":"AK37","v":"12."},{"$f":"AP37+1","v":58},{"$f":"AM37","v":"12."},{"$f":"AL39+1","v":59},{"$f":"AO37","v":"12."},{"$f":"AN39+1","v":60}]
[]
[null,null,null,null,null,null,{"$f":"G39","v":7},{"$f":"L39+1","v":61},{"$f":"I39","v":7},{"$f":"H41+1","v":62},{"$f":"K39","v":7},{"$f":"J41+1","v":63},null,null,null,null,null,null,null,null,null,null,null,null,null,null,null,null,null,null,null,null,null,null,null,null,{"$f":"AK39","v":"12."},{"$f":"AP39+1","v":61},{"$f":"AM39","v":"12."},{"$f":"AL41+1","v":62},{"$f":"AO39","v":"12."},{"$f":"AN41+1","v":63}]
[]
[null,null,null,null,null,null,7,{"$f":"L41+1","v":64},7,{"$f":"H43+1","v":65},7,{"$f":"J43+1","v":66},null,null,null,null,null,null,null,null,null,null,null,null,null,null,null,null,null,null,null,null,null,null,null,null,{"$f":"AK41","v":"12."},{"$f":"AP41+1","v":64},{"$f":"AM41","v":"12."},{"$f":"AL43+1","v":65},{"$f":"AO41","v":"12."},{"$f":"AN43+1","v":66}]
[]
[null,null,null,null,null,null,7,{"$f":"L43+1","v":67},7,{"$f":"H45+1","v":68},7,{"$f":"J45+1","v":69},null,null,null,null,null,null,null,null,null,null,null,null,null,null,null,null,null,null,null,null,null,null,null,null,{"$f":"AK43","v":"12."},{"$f":"AP43+1","v":67},{"$f":"AM43","v":"12."},{"$f":"AL45+1","v":68},{"$f":"AO43","v":"12."},{"$f":"AN45+1","v":69}]
[]
[null,null,null,null,null,null,7,{"$f":"L45+1","v":70},7,{"$f":"H47+1","v":71},7,{"$f":"J47+1","v":72},null,null,null,null,null,null,null,null,null,null,null,null,null,null,null,null,null,null,null,null,null,null,null,null,{"$f":"AK45","v":"12."},{"$f":"AP45+1","v":70},{"$f":"AM45","v":"12."},{"$f":"AL47+1","v":71},{"$f":"AO45","v":"12."},{"$f":"AN47+1","v":72}]
[]
[null,null,null,null,null,null,7,{"$f":"L47+1","v":73},7,{"$f":"H49+1","v":74},7,{"$f":"J49+1","v":75},null,null,null,null,null,null,null,null,null,null,null,null,null,null,null,null,null,null,null,null,null,null,null,null,{"$f":"AK47","v":"12."},{"$f":"AP47+1","v":73},{"$f":"AM47","v":"12."},{"$f":"AL49+1","v":74},{"$f":"AO47","v":"12."},{"$f":"AN49+1","v":75}]
[]
[null,null,null,null,null,null,7,{"$f":"L49+1","v":76},7,{"$f":"H51+1","v":77},7,{"$f":"J51+1","v":78},null,null,null,null,null,null,null,null,null,null,null,null,null,null,null,null,null,null,null,null,null,null,null,null,{"$f":"AK49","v":"12."},{"$f":"AP49+1","v":76},{"$f":"AM49","v":"12."},{"$f":"AL51+1","v":77},{"$f":"AO49","v":"12."},{"$f":"AN51+1","v":78}]
[]
[null,null,null,null,null,null,{"$f":"G51","v":7},{"$f":"L51+1","v":79},{"$f":"I51","v":7},{"$f":"H53+1","v":80},{"$f":"K51","v":7},{"$f":"J53+1","v":81},null,null,null,null,null,null,null,null,null,null,null,null,null,null,null,null,null,null,null,null,null,null,null,null,{"$f":"AK51","v":"12."},{"$f":"AP51+1","v":79},{"$f":"AM51","v":"12."},{"$f":"AL53+1","v":80},{"$f":"AO51","v":"12."},{"$f":"AN53+1","v":81}]
[]
[null,null,null,null,null,null,{"$f":"G53","v":7},{"$f":"L53+1","v":82},{"$f":"I53","v":7},{"$f":"H55+1","v":83},{"$f":"K53","v":7},{"$f":"J55+1","v":84},null,null,null,null,null,null,null,null,null,null,null,null,null,null,null,null,null,null,null,null,null,null,null,null,{"$f":"AK53","v":"12."},{"$f":"AP53+1","v":82},{"$f":"AM53","v":"12."},{"$f":"AL55+1","v":83},{"$f":"AO53","v":"12."},{"$f":"AN55+1","v":84}]
[]
[null,null,null,null,null,null,{"$f":"G55","v":7},{"$f":"L55+1","v":85},{"$f":"I55","v":7},{"$f":"H57+1","v":86},{"$f":"K55","v":7},{"$f":"J57+1","v":87},null,null,null,null,null,null,null,null,null,null,null,null,null,null,null,null,null,null,null,null,null,null,null,null,{"$f":"AK55","v":"12."},{"$f":"AP55+1","v":85},{"$f":"AM55","v":"12."},{"$f":"AL57+1","v":86},{"$f":"AO55","v":"12."},{"$f":"AN57+1","v":87}]
[]
[null,null,null,null,null,null,{"$f":"G57","v":7},{"$f":"L57+1","v":88},{"$f":"I57","v":7},{"$f":"H59+1","v":89},{"$f":"K57","v":7},{"$f":"J59+1","v":90},null,null,null,null,null,null,null,null,null,null,null,null,null,null,null,null,null,null,null,null,null,null,null,null,{"$f":"AK57","v":"12."},{"$f":"AP57+1","v":88},{"$f":"AM57","v":"12."},{"$f":"AL59+1","v":89},{"$f":"AO57","v":"12."},{"$f":"AN59+1","v":90}]
[]
[null,null,null,null,null,null,{"$f":"G59","v":7},{"$f":"L59+1","v":91},{"$f":"I59","v":7},{"$f":"H61+1","v":92},{"$f":"K59","v":7},{"$f":"J61+1","v":93},null,null,null,null,null,null,null,null,null,null,null,null,null,null,null,null,null,null,null,null,null,null,null,null,{"$f":"AK59","v":"12."},{"$f":"AP59+1","v":91},{"$f":"AM59","v":"12."},{"$f":"AL61+1","v":92},{"$f":"AO59","v":"12."},{"$f":"AN61+1","v":93}]
[]
[null,null,null,null,null,null,{"$f":"G61","v":7},{"$f":"L61+1","v":94},{"$f":"I61","v":7},{"$f":"H63+1","v":95},{"$f":"K61","v":7},{"$f":"J63+1","v":96},null,null,null,null,null,null,null,null,null,null,null,null,null,null,null,null,null,null,null,null,null,null,null,null,{"$f":"AK61","v":"12."},{"$f":"AP61+1","v":94},{"$f":"AM61","v":"12."},{"$f":"AL63+1","v":95},{"$f":"AO61","v":"12."},{"$f":"AN63+1","v":96}]
[]
[null,null,null,null,null,null,{"$f":"G63","v":7},{"$f":"L63+1","v":97},{"$f":"I63","v":7},{"$f":"H65+1","v":98},{"$f":"K63","v":7},{"$f":"J65+1","v":99},null,null,null,null,null,null,null,null,null,null,null,null,null,null,null,null,null,null,null,null,null,null,null,null,{"$f":"AK63","v":"12."},{"$f":"AP63+1","v":97},{"$f":"AM63","v":"12."},{"$f":"AL65+1","v":98},{"$f":"AO63","v":"12."},{"$f":"AN65+1","v":99}]
[]
[null,null,null,null,null,null,{"$f":"G65","v":7},{"$f":"L65+1","v":100},{"$f":"I65","v":7},{"$f":"H67+1","v":101},{"$f":"K65","v":7},{"$f":"J67+1","v":102},null,null,null,null,null,null,null,null,null,null,null,null,null,null,null,null,null,null,null,null,null,null,null,null,{"$f":"AK65","v":"12."},{"$f":"AP65+1","v":100},{"$f":"AM65","v":"12."},{"$f":"AL67+1","v":101},{"$f":"AO65","v":"12."},{"$f":"AN67+1","v":102}]